{"text_format":"1","workbook":"xlsx","n_sheets":3,"sheets":["①借入条件表","②銀行別取引推移表","③長期取引推移表_合計"],"not_rendered":{"charts":0,"images":0,"macros":1,"external_links":0,"defined_names":6,"comments":0,"pivot_tables":0},"unopened":[],"bounds":{"document_bytes":16777216,"sheet_cells":100000,"rows_first":2000,"rows_last":500,"rows_between":2000,"halvings":0,"cell_chars":16384,"cell_head_chars":4096},"cells_cut":0,"cells_raw":0,"read":"whole","date_system":"1900"}

{"sheet":"①借入条件表","index":0,"n_rows":135,"n_cols":96,"rows_kept":135,"cut":false,"hidden":false,"merged":[[119,0,120,0],[119,1,120,1],[121,0,122,0],[121,1,122,1],[123,0,124,0],[123,1,124,1],[125,0,126,0],[125,1,126,1],[5,2,6,2],[7,2,8,2],[9,2,10,2],[11,2,12,2],[13,2,14,2],[5,3,6,3],[7,3,8,3],[9,3,10,3],[11,3,12,3],[13,3,14,3],[89,0,90,0],[89,1,90,1],[91,0,92,0],[91,1,92,1],[93,0,94,0],[93,1,94,1],[101,0,102,0],[101,1,102,1],[103,0,104,0],[103,1,104,1],[105,0,106,0],[105,1,106,1],[107,0,108,0],[107,1,108,1],[109,0,110,0],[109,1,110,1],[117,0,118,0],[117,1,118,1],[59,0,60,0],[59,1,60,1],[61,0,62,0],[61,1,62,1],[69,0,70,0],[69,1,70,1],[71,0,72,0],[71,1,72,1],[73,0,74,0],[73,1,74,1],[75,0,76,0],[75,1,76,1],[77,0,78,0],[77,1,78,1],[85,0,86,0],[85,1,86,1],[87,0,88,0],[87,1,88,1],[29,0,30,0],[29,1,30,1],[37,0,38,0],[37,1,38,1],[39,0,40,0],[39,1,40,1],[41,0,42,0],[41,1,42,1],[43,0,44,0],[43,1,44,1],[45,0,46,0],[45,1,46,1],[53,0,54,0],[53,1,54,1],[55,0,56,0],[55,1,56,1],[57,0,58,0],[57,1,58,1],[5,0,6,0],[5,1,6,1],[7,0,8,0],[7,1,8,1],[9,0,10,0],[9,1,10,1],[11,0,12,0],[11,1,12,1],[13,0,14,0],[13,1,14,1],[21,0,22,0],[21,1,22,1],[23,0,24,0],[23,1,24,1],[25,0,26,0],[25,1,26,1],[27,0,28,0],[27,1,28,1],[125,39,126,42],[125,43,126,46],[102,84,102,94],[112,47,112,50],[113,47,113,50],[99,84,99,94],[100,22,100,28],[100,29,100,32],[100,33,100,38],[100,47,100,50],[100,51,100,56],[100,57,100,61],[100,62,100,65],[100,66,100,71],[100,72,100,77],[100,78,100,83],[100,84,100,94],[101,57,101,61],[101,62,101,65],[101,66,101,71],[101,72,101,77],[101,78,101,83],[101,84,101,94],[99,22,99,28],[99,33,99,38],[99,47,99,50],[99,51,99,56],[106,84,106,94],[110,84,110,94],[111,51,111,56],[109,47,109,50],[110,47,110,50],[115,11,116,21],[99,57,99,61],[99,62,99,65],[99,66,99,71],[99,72,99,77],[99,78,99,83],[102,16,102,21],[102,22,102,28],[102,29,102,32],[102,33,102,38],[102,47,102,50],[102,51,102,56],[102,57,102,61],[102,62,102,65],[102,66,102,71],[102,72,102,77],[102,78,102,83],[106,78,106,83],[110,51,110,56],[110,62,110,65],[110,66,110,71],[110,72,110,77],[110,78,110,83],[111,22,111,28],[111,33,111,38],[114,29,114,32],[113,43,114,46],[111,57,111,61],[111,62,111,65],[111,66,111,71],[111,72,111,77],[111,78,111,83],[96,22,96,28],[96,29,96,32],[96,33,96,38],[97,22,97,28],[97,33,97,38],[97,47,97,50],[97,51,97,56],[101,11,102,15],[101,16,101,21],[101,22,101,28],[101,33,101,38],[101,47,101,50],[101,51,101,56],[97,66,97,71],[97,72,97,77],[97,78,97,83],[97,84,97,94],[98,22,98,28],[98,29,98,32],[98,33,98,38],[98,47,98,50],[98,51,98,56],[98,57,98,61],[98,62,98,65],[98,66,98,71],[98,72,98,77],[98,78,98,83],[98,84,98,94],[97,11,98,21],[95,11,96,21],[95,22,95,28],[95,33,95,38],[92,72,92,77],[94,78,94,83],[94,84,94,94],[91,57,91,61],[91,62,91,65],[91,66,91,71],[91,72,91,77],[91,78,91,83],[91,84,91,94],[96,47,96,50],[96,51,96,56],[96,57,96,61],[96,62,96,65],[96,66,96,71],[96,72,96,77],[96,78,96,83],[96,84,96,94],[95,57,95,61],[95,62,95,65],[93,57,93,61],[93,62,93,65],[93,66,93,71],[93,72,93,77],[93,78,93,83],[93,84,93,94],[92,78,92,83],[92,84,92,94],[95,66,95,71],[95,72,95,77],[95,78,95,83],[95,84,95,94],[94,72,94,77],[91,11,92,15],[91,16,91,21],[91,22,91,28],[91,33,91,38],[91,47,91,50],[91,51,91,56],[93,22,93,28],[93,33,93,38],[93,47,93,50],[93,51,93,56],[90,16,90,21],[90,22,90,28],[90,29,90,32],[90,33,90,38],[90,47,90,50],[90,51,90,56],[89,39,90,42],[91,39,92,42],[93,39,94,42],[94,22,94,28],[94,29,94,32],[94,33,94,38],[94,47,94,50],[94,51,94,56],[92,33,92,38],[92,47,92,50],[92,51,92,56],[89,11,90,15],[89,16,89,21],[89,22,89,28],[89,33,89,38],[85,33,85,38],[85,47,85,50],[88,22,88,28],[88,33,88,38],[88,47,88,50],[88,51,88,56],[88,57,88,61],[88,62,88,65],[88,66,88,71],[88,72,88,77],[88,78,88,83],[88,84,88,94],[87,57,87,61],[87,62,87,65],[85,57,85,61],[85,62,85,65],[85,51,85,56],[87,22,87,28],[87,33,87,38],[87,47,87,50],[87,51,87,56],[87,39,88,42],[87,72,87,77],[84,29,84,32],[84,33,84,38],[89,84,89,94],[87,84,87,94],[83,47,83,50],[83,51,83,56],[90,84,90,94],[85,66,85,71],[85,72,85,77],[85,78,85,83],[85,84,85,94],[86,22,86,28],[81,78,81,83],[81,84,81,94],[82,51,82,56],[82,57,82,61],[82,62,82,65],[82,66,82,71],[82,72,82,77],[82,78,82,83],[82,84,82,94],[86,29,86,32],[86,33,86,38],[86,47,86,50],[86,51,86,56],[86,57,86,61],[86,62,86,65],[86,66,86,71],[86,72,86,77],[86,78,86,83],[86,84,86,94],[85,22,85,28],[83,57,83,61],[83,72,83,77],[84,62,84,65],[84,66,84,71],[84,72,84,77],[84,84,84,94],[81,57,81,61],[81,62,81,65],[81,66,81,71],[81,72,81,77],[81,39,82,42],[81,43,82,46],[83,39,84,42],[83,43,84,46],[83,78,83,83],[83,84,83,94],[84,78,84,83],[84,57,84,61],[76,29,76,32],[76,33,76,38],[76,47,76,50],[76,57,76,61],[76,62,76,65],[78,72,78,77],[78,78,78,83],[82,29,82,32],[82,33,82,38],[82,47,82,50],[81,22,81,28],[81,33,81,38],[79,57,79,61],[79,62,79,65],[79,66,79,71],[79,22,79,28],[79,33,79,38],[79,47,79,50],[79,51,79,56],[77,57,77,61],[77,62,77,65],[78,57,78,61],[78,62,78,65],[78,66,78,71],[78,22,78,28],[78,29,78,32],[78,33,78,38],[80,57,80,61],[80,62,80,65],[80,66,80,71],[80,72,80,77],[79,39,80,42],[73,22,73,28],[73,33,73,38],[73,47,73,50],[73,51,73,56],[73,39,74,42],[73,57,73,61],[73,62,73,65],[73,66,73,71],[73,72,73,77],[73,78,73,83],[77,84,77,94],[74,29,74,32],[74,33,74,38],[75,66,75,71],[75,72,75,77],[75,78,75,83],[75,84,75,94],[76,22,76,28],[75,51,75,56],[77,22,77,28],[77,33,77,38],[77,47,77,50],[77,51,77,56],[75,57,75,61],[75,62,75,65],[76,72,76,77],[76,78,76,83],[77,72,77,77],[77,78,77,83],[76,84,76,94],[74,57,74,61],[74,62,74,65],[72,57,72,61],[72,62,72,65],[72,66,72,71],[69,84,69,94],[70,16,70,21],[70,22,70,28],[70,29,70,32],[70,33,70,38],[70,47,70,50],[70,51,70,56],[70,57,70,61],[70,62,70,65],[70,66,70,71],[70,72,70,77],[70,78,70,83],[70,84,70,94],[69,47,69,50],[69,51,69,56],[71,57,71,61],[71,62,71,65],[71,66,71,71],[71,84,71,94],[72,84,72,94],[72,16,72,21],[72,22,72,28],[69,62,69,65],[69,66,69,71],[69,72,69,77],[64,57,64,61],[64,62,64,65],[64,66,64,71],[67,84,67,94],[68,22,68,28],[68,29,68,32],[68,33,68,38],[68,47,68,50],[68,51,68,56],[68,57,68,61],[68,62,68,65],[68,66,68,71],[68,72,68,77],[68,78,68,83],[68,84,68,94],[67,47,67,50],[67,51,67,56],[67,57,67,61],[67,62,67,65],[67,22,67,28],[67,33,67,38],[67,39,68,42],[67,43,68,46],[67,66,67,71],[67,72,67,77],[59,16,59,21],[61,57,61,61],[61,62,61,65],[61,66,61,71],[61,72,61,77],[61,78,61,83],[59,47,59,50],[63,47,63,50],[61,84,61,94],[62,16,62,21],[62,22,62,28],[62,29,62,32],[57,16,57,21],[66,57,66,61],[66,62,66,65],[66,66,66,71],[66,72,66,77],[66,78,66,83],[66,84,66,94],[62,57,62,61],[62,62,62,65],[62,66,62,71],[62,72,62,77],[62,78,62,83],[62,84,62,94],[65,51,65,56],[65,57,65,61],[65,62,65,65],[63,57,63,61],[63,62,63,65],[63,66,63,71],[63,72,63,77],[34,22,34,28],[34,29,34,32],[34,33,34,38],[34,47,34,50],[31,47,31,50],[61,33,61,38],[61,22,61,28],[61,47,61,50],[61,51,61,56],[63,22,63,28],[62,47,62,50],[62,51,62,56],[54,47,54,50],[55,72,55,77],[54,51,54,56],[54,57,54,61],[54,62,54,65],[54,66,54,71],[54,72,54,77],[58,33,58,38],[58,47,58,50],[58,51,58,56],[58,57,58,61],[58,62,58,65],[58,66,58,71],[58,72,58,77],[56,66,56,71],[59,39,60,42],[61,39,62,42],[55,22,55,28],[53,39,54,42],[55,39,56,42],[54,22,54,28],[54,29,54,32],[54,33,54,38],[51,72,51,77],[51,78,51,83],[51,84,51,94],[52,62,52,65],[52,66,52,71],[53,57,53,61],[53,62,53,65],[58,84,58,94],[55,78,55,83],[57,57,57,61],[57,62,57,65],[56,84,56,94],[64,84,64,94],[59,57,59,61],[59,62,59,65],[59,66,59,71],[59,72,59,77],[59,78,59,83],[59,84,59,94],[60,47,60,50],[60,51,60,56],[60,57,60,61],[60,62,60,65],[60,66,60,71],[60,72,60,77],[60,78,60,83],[60,84,60,94],[63,84,63,94],[63,51,63,56],[31,57,31,61],[31,62,31,65],[31,66,31,71],[31,72,31,77],[31,78,31,83],[31,39,32,42],[32,78,32,83],[32,57,32,61],[32,62,32,65],[31,43,32,46],[31,22,31,28],[31,33,31,38],[30,29,30,32],[30,33,30,38],[23,62,23,65],[23,66,23,71],[23,72,23,77],[23,78,23,83],[26,47,26,50],[23,51,23,56],[23,57,23,61],[132,22,132,28],[132,29,132,32],[132,33,132,38],[132,39,132,42],[132,43,132,46],[132,47,132,50],[132,51,132,56],[132,57,132,61],[132,62,132,65],[132,66,132,71],[132,72,132,77],[132,78,132,83],[132,84,132,94],[131,22,131,28],[131,33,131,38],[131,43,131,46],[131,47,131,50],[131,51,131,56],[131,57,131,61],[131,62,131,65],[131,66,131,71],[131,39,131,42],[131,72,131,77],[131,78,131,83],[131,84,131,94],[21,78,21,83],[21,84,21,94],[22,16,22,21],[22,22,22,28],[22,29,22,32],[22,33,22,38],[22,47,22,50],[22,51,22,56],[22,57,22,61],[126,47,126,50],[42,47,42,50],[25,72,25,77],[125,84,125,94],[126,84,126,94],[29,51,29,56],[29,57,29,61],[29,62,29,65],[25,47,25,50],[35,84,35,94],[36,84,36,94],[41,84,41,94],[42,84,42,94],[43,84,43,94],[43,72,43,77],[43,78,43,83],[120,72,120,77],[120,78,120,83],[44,78,44,83],[26,16,26,21],[26,22,26,28],[26,29,26,32],[26,72,26,77],[130,39,130,42],[130,43,130,46],[130,47,130,50],[130,57,130,61],[130,62,130,65],[130,66,130,71],[33,43,34,46],[33,11,34,21],[33,22,33,28],[33,33,33,38],[130,22,130,28],[130,33,130,38],[130,29,130,32],[129,22,129,28],[129,33,129,38],[129,43,129,46],[129,39,129,42],[128,39,128,42],[128,43,128,46],[43,66,43,71],[120,47,120,50],[120,51,120,56],[120,57,120,61],[120,62,120,65],[120,66,120,71],[123,47,123,50],[125,51,125,56],[122,47,122,50],[47,51,47,56],[107,47,107,50],[108,47,108,50],[51,47,51,50],[14,62,14,65],[14,33,14,38],[13,22,13,28],[13,33,13,38],[13,47,13,50],[13,51,13,56],[13,57,13,61],[13,62,13,65],[21,47,21,50],[21,51,21,56],[21,16,21,21],[21,22,21,28],[21,33,21,38],[21,43,22,46],[18,62,18,65],[19,11,20,21],[13,11,14,15],[13,16,13,21],[19,22,19,28],[20,22,20,28],[15,43,16,46],[17,43,18,46],[17,39,18,42],[15,39,16,42],[13,39,14,42],[19,39,20,42],[21,57,21,61],[21,62,21,65],[17,51,17,56],[17,57,17,61],[18,57,18,61],[14,16,14,21],[11,84,11,94],[11,62,11,65],[11,66,11,71],[11,72,11,77],[11,78,11,83],[12,22,12,28],[12,29,12,32],[12,47,12,50],[12,51,12,56],[12,57,12,61],[12,62,12,65],[12,66,12,71],[12,72,12,77],[122,84,122,94],[126,51,126,56],[123,84,123,94],[124,84,124,94],[22,72,22,77],[22,78,22,83],[22,84,22,94],[29,66,29,71],[29,72,29,77],[29,78,29,83],[29,84,29,94],[31,84,31,94],[32,22,32,28],[32,29,32,32],[32,33,32,38],[32,47,32,50],[32,84,32,94],[54,84,54,94],[50,78,50,83],[130,84,130,94],[128,84,128,94],[129,47,129,50],[129,51,129,56],[129,84,129,94],[127,47,127,50],[127,51,127,56],[127,84,127,94],[128,47,128,50],[127,78,127,83],[128,66,128,71],[128,72,128,77],[128,78,128,83],[129,66,129,71],[129,72,129,77],[129,78,129,83],[129,57,129,61],[129,62,129,65],[128,57,128,61],[128,62,128,65],[127,57,127,61],[127,62,127,65],[130,72,130,77],[130,78,130,83],[127,66,127,71],[127,72,127,77],[130,51,130,56],[128,51,128,56],[120,84,120,94],[49,57,49,61],[49,62,49,65],[49,66,49,71],[49,72,49,77],[49,78,49,83],[49,84,49,94],[41,47,41,50],[35,47,35,50],[55,47,55,50],[55,51,55,56],[55,57,55,61],[52,84,52,94],[53,51,53,56],[51,57,51,61],[51,62,51,65],[19,84,19,94],[20,84,20,94],[19,72,19,77],[19,78,19,83],[20,66,20,71],[20,72,20,77],[20,78,20,83],[40,47,40,50],[118,47,118,50],[59,51,59,56],[81,47,81,50],[81,51,81,56],[37,51,37,56],[49,47,49,50],[84,51,84,56],[89,47,89,50],[17,66,17,71],[17,72,17,77],[17,78,17,83],[18,66,18,71],[119,47,119,50],[119,51,119,56],[119,57,119,61],[25,78,25,83],[25,84,25,94],[26,51,26,56],[26,57,26,61],[33,66,33,71],[33,72,33,77],[33,78,33,83],[33,84,33,94],[55,62,55,65],[56,47,56,50],[56,51,56,56],[56,57,56,61],[56,62,56,65],[55,66,55,71],[54,78,54,83],[43,51,43,56],[29,47,29,50],[42,51,42,56],[41,51,41,56],[117,47,117,50],[37,47,37,50],[38,47,38,50],[39,47,39,50],[21,66,21,71],[21,72,21,77],[121,84,121,94],[119,72,119,77],[119,78,119,83],[119,84,119,94],[118,78,118,83],[22,62,22,65],[22,66,22,71],[27,51,27,56],[30,62,30,65],[19,66,19,71],[30,72,30,77],[30,78,30,83],[34,72,34,77],[9,78,9,83],[10,66,10,71],[10,72,10,77],[10,78,10,83],[35,66,35,71],[35,72,35,77],[35,78,35,83],[121,72,121,77],[121,78,121,83],[119,62,119,65],[30,66,30,71],[57,72,57,77],[57,78,57,83],[118,62,118,65],[47,62,47,65],[48,62,48,65],[16,84,16,94],[17,84,17,94],[18,84,18,94],[14,84,14,94],[9,72,9,77],[5,78,5,83],[6,66,6,71],[8,78,8,83],[10,51,10,56],[15,57,15,61],[15,78,15,83],[16,66,16,71],[16,72,16,77],[16,78,16,83],[12,78,12,83],[15,62,15,65],[16,57,16,61],[16,62,16,65],[13,66,13,71],[13,72,13,77],[5,84,5,94],[6,84,6,94],[8,72,8,77],[15,84,15,94],[6,78,6,83],[7,66,7,71],[7,72,7,77],[7,51,7,56],[15,66,15,71],[15,72,15,77],[9,51,9,56],[5,66,5,71],[5,72,5,77],[14,72,14,77],[14,78,14,83],[121,51,121,56],[52,47,52,50],[52,51,52,56],[75,47,75,50],[95,51,95,56],[95,47,95,50],[51,51,51,56],[53,47,53,50],[76,51,76,56],[113,51,113,56],[50,47,50,50],[57,47,57,50],[117,51,117,56],[118,51,118,56],[64,47,64,50],[71,47,71,50],[71,51,71,56],[84,47,84,50],[66,47,66,50],[66,51,66,56],[65,47,65,50],[64,51,64,56],[57,51,57,56],[72,47,72,50],[72,51,72,56],[74,47,74,50],[74,51,74,56],[78,47,78,50],[78,51,78,56],[80,47,80,50],[80,51,80,56],[89,51,89,56],[17,47,17,50],[15,47,15,50],[19,47,19,50],[20,47,20,50],[36,47,36,50],[18,51,18,56],[30,47,30,50],[30,51,30,56],[33,47,33,50],[33,51,33,56],[32,51,32,56],[48,51,48,56],[45,51,45,56],[46,47,46,50],[11,51,11,56],[44,47,44,50],[47,47,47,50],[40,51,40,56],[14,47,14,50],[14,51,14,56],[31,51,31,56],[19,51,19,56],[20,51,20,56],[23,47,23,50],[24,47,24,50],[27,47,27,50],[28,47,28,50],[15,51,15,56],[16,51,16,56],[11,57,11,61],[28,51,28,56],[28,57,28,61],[14,57,14,61],[13,43,14,46],[15,11,16,21],[29,33,29,38],[30,22,30,28],[92,29,92,32],[125,47,125,50],[127,43,127,46],[19,33,19,38],[127,39,127,42],[118,16,118,21],[18,29,18,32],[20,29,20,32],[36,29,36,32],[42,29,42,32],[44,29,44,32],[20,33,20,38],[16,33,16,38],[44,33,44,38],[40,29,40,32],[39,33,39,38],[35,33,35,38],[40,33,40,38],[41,33,41,38],[115,47,115,50],[124,47,124,50],[121,47,121,50],[44,51,44,56],[16,47,16,50],[14,22,14,28],[14,29,14,32],[26,33,26,38],[23,22,23,28],[23,33,23,38],[37,33,37,38],[126,29,126,32],[58,22,58,28],[58,29,58,32],[49,22,49,28],[49,33,49,38],[51,22,51,28],[51,33,51,38],[53,22,53,28],[18,47,18,50],[127,4,128,21],[127,22,127,28],[127,33,127,38],[126,33,126,38],[117,4,126,10],[117,11,118,15],[117,16,117,21],[117,22,117,28],[117,33,117,38],[121,22,121,28],[121,33,121,38],[122,22,122,28],[128,22,128,28],[128,33,128,38],[128,29,128,32],[119,22,119,28],[48,29,48,32],[118,29,118,32],[53,33,53,38],[57,22,57,28],[55,33,55,38],[27,11,28,15],[123,33,123,38],[120,16,120,21],[120,22,120,28],[120,29,120,32],[120,33,120,38]],"merged_total":1795,"flags":["merged_cut"]}
[null,null,null,null,"　　　　　　株式会社 　○○○○　　　　  銀行別借入条件表  (令和○年〇月～令和○年〇月)　"]
[null,"　"]
[null,null,null,null,null,null,null,null,null,null,null,null,null,null,null,null,null,null,null,null,null,null,null,null,null,null,null,null,null,null,null,null,null,null,null,null,null,null,null,null,null,null,null,null,null,null,null,null,null,null,null,null,null,null,null,null,null,null,null,null,null,null,null,null,null,null,null,null,null,null,null,null,null,null,null,null,null,null,null,null,null,null,null,null,null,null,null,null,null,"<単位：円>"]
[null,null,null,null,"金融機関名",null,null,null,null,null,null,"保全状況",null,null,null,null,"借入期間（月）",null,null,null,null,null,"当初借入額",null,null,null,null,null,null,"残高シェア",null,null,null,"約定返済額/月",null,null,null,null,null,"金利",null,null,null,"金利",null,null,null,"資金使途",null,null,null,"具体的使途",null,null,null,null,null,"担保",null,null,null,null,"保証",null,null,null,"普通",null,null,null,null,null,"定期",null,null,null,null,null,"合計",null,null,null,null,null,"その他"]
[null,null,null,null,null,null,null,null,null,null,null,"(ﾌﾟ、協)",null,null,null,null,"借入期間（年）",null,null,null,null,null,"令和","4","年",5,"月末",null,"残高",null,null,null,null,"約定返済額/年",null,null,null,null,null,null,null,null,null,null,null,null,null,null,null,null,null,null,null,null,null,null,null,null,null,null,null,null,null,null,null,null,"普:預貸率",null,null,null,null,null,"定:預貸率",null,null,null,null,null,"合:預貸率"]
[{"$f":"W6","v":10000000},{"$f":"W7","v":8000000},{"$f":"AH6","v":167000},{"$f":"AH7","v":2004000},"Ａ銀行",null,null,null,null,null,null,"プロパー",null,null,null,null,60,null,null,null,null,null,10000000,null,null,null,null,null,null,null,null,null,null,167000,null,null,null,null,null,1.4999999999999999E-2,null,null,null,null,null,null,null,null,null,null,null,null,null,null,null,null,null,null,null,null,null,null,null,null,null,null,null,null,null,null,null,null,null,null,null,null,null,null,null,null,null,null,null,null,null,null,null,null,null,null,null,null,null,null,null,{"$f":"IF(L6=\"データなし\",\"〇\",\"\")","v":""}]
[null,null,null,null,null,null,null,null,null,null,null,null,null,null,null,null,5,null,null,null,null,null,8000000,null,null,null,null,null,null,{"$f":"W7/$W$133","v":0.34782608695652173},null,null,null,{"$f":"AH6*12","v":2004000},null,null,null,null,null,null,null,null,null,null,null,null,null,"-",null,null,null,null,null,null,null,null,null,null,null,null,null,null,null,null,null,null,null,null,null,null,null,null,null,null,null,null,null,null,null,null,null,null,null,null,null,null,null,null,null,null,null,null,null,null,null,{"$f":"CR6","v":""}]
[{"$f":"W8","v":30000000},{"$f":"W9","v":15000000},{"$f":"AH8","v":500000},{"$f":"AH9","v":6000000},null,null,null,null,null,null,null,"協会",null,null,null,null,60,null,null,null,null,null,30000000,null,null,null,null,null,null,null,null,null,null,500000,null,null,null,null,null,1.2E-2,null,null,null,null,null,null,null,null,null,null,null,null,null,null,null,null,null,null,null,null,null,null,null,null,null,null,null,null,null,null,null,null,null,null,null,null,null,null,null,null,null,null,null,null,null,null,null,null,null,null,null,null,null,null,null,{"$f":"IF(L8=\"データなし\",\"〇\",\"\")","v":""}]
[null,null,null,null,null,null,null,null,null,null,null,null,null,null,null,null,5,null,null,null,null,null,15000000,null,null,null,null,null,null,{"$f":"W9/$W$133","v":0.65217391304347827},null,null,null,{"$f":"AH8*12","v":6000000},null,null,null,null,null,null,null,null,null,null,null,null,null,"-",null,null,null,null,null,null,null,null,null,null,null,null,null,null,null,null,null,null,null,null,null,null,null,null,null,null,null,null,null,null,null,null,null,null,null,null,null,null,null,null,null,null,null,null,null,null,null,{"$f":"CR8","v":""}]
[{"$f":"W10","v":0},{"$f":"W11","v":0},{"$f":"AH10","v":0},{"$f":"AH11","v":0},null,null,null,null,null,null,null,"データなし",null,null,null,null,null,null,null,null,null,null,null,null,null,null,null,null,null,null,null,null,null,null,null,null,null,null,null,null,null,null,null,null,null,null,null,null,null,null,null,null,null,null,null,null,null,null,null,null,null,null,null,null,null,null,null,null,null,null,null,null,null,null,null,null,null,null,null,null,null,null,null,null,null,null,null,null,null,null,null,null,null,null,null,{"$f":"IF(L10=\"データなし\",\"〇\",\"\")","v":"〇"}]
[null,null,null,null,null,null,null,null,null,null,null,null,null,null,null,null,null,null,null,null,null,null,null,null,null,null,null,null,null,{"$f":"W11/$W$133","v":0},null,null,null,0,null,null,null,null,null,null,null,null,null,null,null,null,null,"-",null,null,null,null,null,null,null,null,null,null,null,null,null,null,null,null,null,null,null,null,null,null,null,null,null,null,null,null,null,null,null,null,null,null,null,null,null,null,null,null,null,null,null,null,null,null,null,{"$f":"CR10","v":"〇"}]
[{"$f":"W12","v":0},{"$f":"W13","v":0},{"$f":"AH12","v":0},{"$f":"AH13","v":0},null,null,null,null,null,null,null,"データなし",null,null,null,null,null,null,null,null,null,null,null,null,null,null,null,null,null,null,null,null,null,null,null,null,null,null,null,null,null,null,null,null,null,null,null,null,null,null,null,null,null,null,null,null,null,null,null,null,null,null,null,null,null,null,null,null,null,null,null,null,null,null,null,null,null,null,null,null,null,null,null,null,null,null,null,null,null,null,null,null,null,null,null,{"$f":"IF(L12=\"データなし\",\"〇\",\"\")","v":"〇"}]
[null,null,null,null,null,null,null,null,null,null,null,null,null,null,null,null,null,null,null,null,null,null,null,null,null,null,null,null,null,{"$f":"W13/$W$133","v":0},null,null,null,{"$f":"AH12*12","v":0},null,null,null,null,null,null,null,null,null,null,null,null,null,"-",null,null,null,null,null,null,null,null,null,null,null,null,null,null,null,null,null,null,null,null,null,null,null,null,null,null,null,null,null,null,null,null,null,null,null,null,null,null,null,null,null,null,null,null,null,null,null,{"$f":"CR12","v":"〇"}]
[{"$f":"W14","v":0},{"$f":"W15","v":0},{"$f":"AH14","v":0},{"$f":"AH15","v":0},null,null,null,null,null,null,null,"データなし",null,null,null,null,null,null,null,null,null,null,null,null,null,null,null,null,null,null,null,null,null,null,null,null,null,null,null,null,null,null,null,null,null,null,null,null,null,null,null,null,null,null,null,null,null,null,null,null,null,null,null,null,null,null,null,null,null,null,null,null,null,null,null,null,null,null,null,null,null,null,null,null,null,null,null,null,null,null,null,null,null,null,null,{"$f":"IF(L14=\"データなし\",\"〇\",\"\")","v":"〇"}]
[null,null,null,null,null,null,null,null,null,null,null,null,null,null,null,null,null,null,null,null,null,null,null,null,null,null,null,null,null,{"$f":"W15/$W$133","v":0},null,null,null,{"$f":"AH14*12","v":0},null,null,null,null,null,null,null,null,null,null,null,null,null,"-",null,null,null,null,null,null,null,null,null,null,null,null,null,null,null,null,null,null,null,null,null,null,null,null,null,null,null,null,null,null,null,null,null,null,null,null,null,null,null,null,null,null,null,null,null,null,null,{"$f":"CR14","v":"〇"}]
[null,null,null,null,null,null,null,null,null,null,null,"プロパー計",null,null,null,null,null,null,null,null,null,null,{"$f":"SUMIF($L6:$P15,\"プロパー\",A6:A15)","v":10000000},null,null,null,null,null,null,null,null,null,null,{"$f":"SUMIF($L6:$P15,\"プロパー\",C6:C15)","v":167000},null,null,null,null,null,{"$f":"SUMIF($L6:$P15,\"プロパー\",AN6:AQ15)/COUNTIF($L6:$P15,\"プロパー\")","v":1.4999999999999999E-2},null,null,null,{"$f":"SUMIF($L6:$P15,\"プロパー\",AR6:AU15)/COUNTIF($L6:$P15,\"プロパー\")","v":0},null,null,null,null,null,null,null,null,null,null,null,null,null,null,null,null,null,null,null,null,null,null,null,null,null,null,null,null,null,null,null,null,null,null,null,null,null,null,null,null,null,null,null,null,null,null,null,null,null,null,null,{"$f":"IF(W17>0,\"\",\"〇\")","v":""}]
[null,null,null,null,null,null,null,null,null,null,null,null,null,null,null,null,null,null,null,null,null,null,{"$f":"SUMIF($L6:$P15,\"プロパー\",B6:B15)","v":8000000},null,null,null,null,null,null,{"$f":"W17/$W$133","v":0.34782608695652173},null,null,null,{"$f":"SUMIF($L6:$P15,\"プロパー\",D6:D15)","v":2004000},null,null,null,null,null,null,null,null,null,null,null,null,null,"-",null,null,null,null,null,null,null,null,null,null,null,null,null,null,null,null,null,null,null,null,null,null,null,null,null,null,null,null,null,null,null,null,null,null,null,null,null,null,null,null,null,null,null,null,null,null,null,{"$f":"CR16","v":""}]
[null,null,null,null,null,null,null,null,null,null,null,"保証協会計",null,null,null,null,null,null,null,null,null,null,{"$f":"SUMIF($L6:$P15,\"協会\",A6:A15)","v":30000000},null,null,null,null,null,null,null,null,null,null,{"$f":"SUMIF($L6:$P15,\"協会\",C6:C15)","v":500000},null,null,null,null,null,{"$f":"SUMIF($L6:$P15,\"協会\",AN6:AQ15)/COUNTIF($L6:$P15,\"協会\")","v":1.2E-2},null,null,null,{"$f":"SUMIF($L6:$P15,\"協会\",AR6:AU15)/COUNTIF($L6:$P15,\"協会\")","v":0},null,null,null,null,null,null,null,null,null,null,null,null,null,null,null,null,null,null,null,null,null,null," ",null,null,null,null,null,null,null,null,null,null,null,null,null,null,null,null,null,null,null,null,null,null,null,null,null,null,null,null,{"$f":"IF(W19>0,\"\",\"〇\")","v":""}]
[null,null,null,null,null,null,null,null,null,null,null,null,null,null,null,null,null,null,null,null,null,null,{"$f":"SUMIF($L6:$P15,\"協会\",B6:B15)","v":15000000},null,null,null,null,null,null,{"$f":"W19/$W$133","v":0.65217391304347827},null,null,null,{"$f":"SUMIF($L6:$P15,\"協会\",D6:D15)","v":6000000},null,null,null,null,null,null,null,null,null,null,null,null,null,"-",null,null,null,null,null,null,null,null,null,null,null,null,null,null,null,null,null,null,null,null,null,null,null,null,null,null,null,null,null,null,null,null,null,null,null,null,null,null,null,null,null,null,null,null,null,null,null,{"$f":"CR18","v":""}]
[null,null,null,null,null,null,null,null,null,null,null,"小計",null,null,null,null,null,null,null,null,null,null,{"$f":"W16+W18","v":40000000},null,null,null,null,null,null,null,null,null,null,{"$f":"AH18+AH16","v":667000},null,null,null,null,null,{"$f":"(AN16+AN18)/2","v":1.35E-2},null,null,null,{"$f":"(AR16+AR18)/2","v":0},null,null,null,null,null,null,null,null,null,null,null,null,null,null,null,null,null,null,null,null,null,null,null,null,null,null,null,null,null,null,null,null,null,null,{"$f":"SUM(BO20:BZ20)","v":0},null,null,null,null,null,null,null,null,null,null,null,null,null,null,null,null,{"$f":"IF(W21>0,\"\",\"〇\")","v":""}]
[null,null,null,null,null,null,null,null,null,null,null,null,null,null,null,null,null,null,null,null,null,null,{"$f":"W17+W19","v":23000000},null,null,null,null,null,null,{"$f":"W21/$W$133","v":1},null,null,null,{"$f":"AH19+AH17","v":8004000},null,null,null,null,null,null,null,null,null,null,null,null,null,"-",null,null,null,null,null,null,null,null,null,null,null,null,null,null,null,null,null,null,{"$f":"BO20/$W$21","v":0},null,null,null,null,null,{"$f":"BU20/$W$21","v":0},null,null,null,null,null,{"$f":"CA20/W21","v":0},null,null,null,null,null,null,null,null,null,null,null,null,null,null,null,null,{"$f":"CR20","v":""}]
[{"$f":"W22","v":0},{"$f":"W23","v":0},{"$f":"AH22","v":0},{"$f":"AH23","v":0},"Ｂ銀行",null,null,null,null,null,null,"データなし",null,null,null,null,null,null,null,null,null,null,null,null,null,null,null,null,null,null,null,null,null,null,null,null,null,null,null,null,null,null,null,null,null,null,null,null,null,null,null,null,null,null,null,null,null,null,null,null,null,null,null,null,null,null,null,null,null,null,null,null,null,null,null,null,null,null,null,null,null,null,null,null,null,null,null,null,null,null,null,null,null,null,null,{"$f":"IF(L22=\"データなし\",\"〇\",\"\")","v":"〇"}]
[null,null,null,null,null,null,null,null,null,null,null,null,null,null,null,null,null,null,null,null,null,null,null,null,null,null,null,null,null,{"$f":"W23/$W$133","v":0},null,null,null,{"$f":"AH22*12","v":0},null,null,null,null,null,null,null,null,null,null,null,null,null,"-",null,null,null,null,null,null,null,null,null,null,null,null,null,null,null,null,null,null,null,null,null,null,null,null,null,null,null,null,null,null,null,null,null,null,null,null,null,null,null,null,null,null,null,null,null,null,null,{"$f":"CR22","v":"〇"}]
[{"$f":"W24","v":0},{"$f":"W25","v":0},{"$f":"AH24","v":0},{"$f":"AH25","v":0},null,null,null,null,null,null,null,"データなし",null,null,null,null,null,null,null,null,null,null,null,null,null,null,null,null,null,null,null,null,null,null,null,null,null,null,null,null,null,null,null,null,null,null,null,null,null,null,null,null,null,null,null,null,null,null,null,null,null,null,null,null,null,null,null,null,null,null,null,null,null,null,null,null,null,null,null,null,null,null,null,null,null,null,null,null,null,null,null,null,null,null,null,"〇"]
[null,null,null,null,null,null,null,null,null,null,null,null,null,null,null,null,null,null,null,null,null,null,null,null,null,null,null,null,null,{"$f":"W25/$W$133","v":0},null,null,null,{"$f":"AH24*12","v":0},null,null,null,null,null,null,null,null,null,null,null,null,null,"-",null,null,null,null,null,null,null,null,null,null,null,null,null,null,null,null,null,null,null,null,null,null,null,null,null,null,null,null,null,null,null,null,null,null,null,null,null,null,null,null,null,null,null,null,null,null,null,{"$f":"CR24","v":"〇"}]
[{"$f":"W26","v":0},{"$f":"W27","v":0},{"$f":"AH26","v":0},{"$f":"AH27","v":0},null,null,null,null,null,null,null,"データなし",null,null,null,null,null,null,null,null,null,null,null,null,null,null,null,null,null,null,null,null,null,null,null,null,null,null,null,null,null,null,null,null,null,null,null,null,null,null,null,null,null,null,null,null,null,null,null,null,null,null,null,null,null,null,null,null,null,null,null,null,null,null,null,null,null,null,null,null,null,null,null,null,null,null,null,null,null,null,null,null,null,null,null,"〇"]
[null,null,null,null,null,null,null,null,null,null,null,null,null,null,null,null,null,null,null,null,null,null,null,null,null,null,null,null,null,{"$f":"W27/$W$133","v":0},null,null,null,{"$f":"AH26*12","v":0},null,null,null,null,null,null,null,null,null,null,null,null,null,"-",null,null,null,null,null,null,null,null,null,null,null,null,null,null,null,null,null,null,null,null,null,null,null,null,null,null,null,null,null,null,null,null,null,null,null,null,null,null,null,null,null,null,null,null,null,null,null,{"$f":"CR26","v":"〇"}]
[{"$f":"W28","v":0},{"$f":"W29","v":0},{"$f":"AH28","v":0},{"$f":"AH29","v":0},null,null,null,null,null,null,null,"データなし",null,null,null,null,null,null,null,null,null,null,null,null,null,null,null,null,null,null,null,null,null,null,null,null,null,null,null,null,null,null,null,null,null,null,null,null,null,null,null,null,null,null,null,null,null,null,null,null,null,null,null,null,null,null,null,null,null,null,null,null,null,null,null,null,null,null,null,null,null,null,null,null,null,null,null,null,null,null,null,null,null,null,null,"〇"]
[null,null,null,null,null,null,null,null,null,null,null,null,null,null,null,null,null,null,null,null,null,null,null,null,null,null,null,null,null,{"$f":"W29/$W$133","v":0},null,null,null,{"$f":"AH28*12","v":0},null,null,null,null,null,null,null,null,null,null,null,null,null,"-",null,null,null,null,null,null,null,null,null,null,null,null,null,null,null,null,null,null,null,null,null,null,null,null,null,null,null,null,null,null,null,null,null,null,null,null,null,null,null,null,null,null,null,null,null,null,null,{"$f":"CR28","v":"〇"}]
[{"$f":"W30","v":0},{"$f":"W31","v":0},{"$f":"AH30","v":0},{"$f":"AH31","v":0},null,null,null,null,null,null,null,"データなし",null,null,null,null,null,null,null,null,null,null,null,null,null,null,null,null,null,null,null,null,null,null,null,null,null,null,null,null,null,null,null,null,null,null,null,null,null,null,null,null,null,null,null,null,null,null,null,null,null,null,null,null,null,null,null,null,null,null,null,null,null,null,null,null,null,null,null,null,null,null,null,null,null,null,null,null,null,null,null,null,null,null,null,"〇"]
[null,null,null,null,null,null,null,null,null,null,null,null,null,null,null,null,null,null,null,null,null,null,null,null,null,null,null,null,null,{"$f":"W31/$W$133","v":0},null,null,null,{"$f":"AH30*12","v":0},null,null,null,null,null,null,null,null,null,null,null,null,null,"-",null,null,null,null,null,null,null,null,null,null,null,null,null,null,null,null,null,null,null,null,null,null,null,null,null,null,null,null,null,null,null,null,null,null,null,null,null,null,null,null,null,null,null,null,null,null,null,{"$f":"CR30","v":"〇"}]
[null,null,null,null,null,null,null,null,null,null,null,"プロパー計",null,null,null,null,null,null,null,null,null,null,{"$f":"SUMIF($L22:$P31,\"プロパー\",A22:A31)","v":0},null,null,null,null,null,null,null,null,null,null,{"$f":"SUMIF($L22:$P31,\"プロパー\",C22:C31)","v":0},null,null,null,null,null,{"$f":"SUMIF(L22:P31,\"プロパー\",AN22:AQ31)/COUNTIF(L22:P31,\"プロパー\")","v":{"$error":"#DIV/0!"}},null,null,null,{"$f":"SUMIF(L22:P31,\"プロパー\",AR22:AU31)/COUNTIF(L22:P31,\"プロパー\")","v":{"$error":"#DIV/0!"}},null,null,null,null,null,null,null,null,null,null,null,null,null,null,null,null,null,null,null,null,null,null,null,null,null,null,null,null,null,null,null,null,null,null,null,null,null,null,null,null,null,null,null,null,null,null,null,null,null,null,null,{"$f":"IF(W33>0,\"\",\"〇\")","v":"〇"}]
[null,null,null,null,null,null,null,null,null,null,null,null,null,null,null,null,null,null,null,null,null,null,{"$f":"SUMIF($L22:$P31,\"プロパー\",B22:B31)","v":0},null,null,null,null,null,null,{"$f":"W33/$W$133","v":0},null,null,null,{"$f":"SUMIF($L22:$P31,\"プロパー\",D22:D31)","v":0},null,null,null,null,null,null,null,null,null,null,null,null,null,"-",null,null,null,null,null,null,null,null,null,null,null,null,null,null,null,null,null,null,null,null,null,null,null,null,null,null,null,null,null,null,null,null,null,null,null,null,null,null,null,null,null,null,null,null,null,null,null,{"$f":"CR32","v":"〇"}]
[null,null,null,null,null,null,null,null,null,null,null,"保証協会計",null,null,null,null,null,null,null,null,null,null,{"$f":"SUMIF($L22:$P31,\"協会\",A22:A31)","v":0},null,null,null,null,null,null,null,null,null,null,{"$f":"SUMIF($L22:$P31,\"協会\",C22:C31)","v":0},null,null,null,null,null,{"$f":"SUMIF(L22:P31,\"協会\",AN22:AQ31)/COUNTIF(L22:P31,\"協会\")","v":{"$error":"#DIV/0!"}},null,null,null,{"$f":"SUMIF(L22:P31,\"協会\",AR22:AU31)/COUNTIF(L22:P31,\"協会\")","v":{"$error":"#DIV/0!"}},null,null,null,null,null,null,null,null,null,null,null,null,null,null,null,null,null,null,null,null,null,null," ",null,null,null,null,null,null,null,null,null,null,null,null,null,null,null,null,null,null,null,null,null,null,null,null,null,null,null,null,{"$f":"IF(W35>0,\"\",\"〇\")","v":"〇"}]
[null,null,null,null,null,null,null,null,null,null,null,null,null,null,null,null,null,null,null,null,null,null,{"$f":"SUMIF($L22:$P31,\"協会\",B22:B31)","v":0},null,null,null,null,null,null,{"$f":"W35/$W$133","v":0},null,null,null,{"$f":"SUMIF($L22:$P31,\"協会\",D22:D31)","v":0},null,null,null,null,null,null,null,null,null,null,null,null,null,"-",null,null,null,null,null,null,null,null,null,null,null,null,null,null,null,null,null,null,null,null,null,null,null,null,null,null,null,null,null,null,null,null,null,null,null,null,null,null,null,null,null,null,null,null,null,null,null,{"$f":"CR34","v":"〇"}]
[null,null,null,null,null,null,null,null,null,null,null,"小計",null,null,null,null,null,null,null,null,null,null,{"$f":"W32+W34","v":0},null,null,null,null,null,null,null,null,null,null,{"$f":"AH34+AH32","v":0},null,null,null,null,null,{"$f":"(AN32+AN34)/2","v":{"$error":"#DIV/0!"}},null,null,null,{"$f":"(AR32+AR34)/2","v":{"$error":"#DIV/0!"}},null,null,null,null,null,null,null,null,null,null,null,null,null,null,null,null,null,null,null,null,null,null,null,null,null,null,null,null,null,null,null,null,null,null,{"$f":"SUM(BO36:BZ36)","v":0},null,null,null,null,null,null,null,null,null,null,null,null,null,null,null,null,{"$f":"IF(W37>0,\"\",\"〇\")","v":"〇"}]
[null,null,null,null,null,null,null,null,null,null,null,null,null,null,null,null,null,null,null,null,null,null,{"$f":"W33+W35","v":0},null,null,null,null,null,null,{"$f":"W37/$W$133","v":0},null,null,null,{"$f":"AH35+AH33","v":0},null,null,null,null,null,null,null,null,null,null,null,null,null,"-",null,null,null,null,null,null,null,null,null,null,null,null,null,null,null,null,null,null,{"$f":"BO36/$W$21","v":0},null,null,null,null,null,{"$f":"BU36/$W$21","v":0},null,null,null,null,null,{"$f":"CA36/W37","v":{"$error":"#DIV/0!"}},null,null,null,null,null,null,null,null,null,null,null,null,null,null,null,null,{"$f":"CR36","v":"〇"}]
[{"$f":"W38","v":0},{"$f":"W39","v":0},{"$f":"AH38","v":0},{"$f":"AH39","v":0},null,null,null,null,null,null,null,"データなし",null,null,null,null,null,null,null,null,null,null,null,null,null,null,null,null,null,null,null,null,null,null,null,null,null,null,null,null,null,null,null,null,null,null,null,null,null,null,null,null,null,null,null,null,null,null,null,null,null,null,null,null,null,null,null,null,null,null,null,null,null,null,null,null,null,null,null,null,null,null,null,null,null,null,null,null,null,null,null,null,null,null,null,{"$f":"IF(L38=\"データなし\",\"〇\",\"\")","v":"〇"}]
[null,null,null,null,null,null,null,null,null,null,null,null,null,null,null,null,null,null,null,null,null,null,null,null,null,null,null,null,null,{"$f":"W39/$W$133","v":0},null,null,null,{"$f":"AH38*12","v":0},null,null,null,null,null,null,null,null,null,null,null,null,null,"-",null,null,null,null,null,null,null,null,null,null,null,null,null,null,null,null,null,null,null,null,null,null,null,null,null,null,null,null,null,null,null,null,null,null,null,null,null,null,null,null,null,null,null,null,null,null,null,{"$f":"CR38","v":"〇"}]
[{"$f":"W40","v":0},{"$f":"W41","v":0},{"$f":"AH40","v":0},{"$f":"AH41","v":0},null,null,null,null,null,null,null,"データなし",null,null,null,null,null,null,null,null,null,null,null,null,null,null,null,null,null,null,null,null,null,null,null,null,null,null,null,null,null,null,null,null,null,null,null,null,null,null,null,null,null,null,null,null,null,null,null,null,null,null,null,null,null,null,null,null,null,null,null,null,null,null,null,null,null,null,null,null,null,null,null,null,null,null,null,null,null,null,null,null,null,null,null,"〇"]
[null,null,null,null,null,null,null,null,null,null,null,null,null,null,null,null,null,null,null,null,null,null,null,null,null,null,null,null,null,{"$f":"W41/$W$133","v":0},null,null,null,{"$f":"AH40*12","v":0},null,null,null,null,null,null,null,null,null,null,null,null,null,"-",null,null,null,null,null,null,null,null,null,null,null,null,null,null,null,null,null,null,null,null,null,null,null,null,null,null,null,null,null,null,null,null,null,null,null,null,null,null,null,null,null,null,null,null,null,null,null,{"$f":"CR40","v":"〇"}]
[{"$f":"W42","v":0},{"$f":"W43","v":0},{"$f":"AH42","v":0},{"$f":"AH43","v":0},null,null,null,null,null,null,null,"データなし",null,null,null,null,null,null,null,null,null,null,null,null,null,null,null,null,null,null,null,null,null,null,null,null,null,null,null,null,null,null,null,null,null,null,null,null,null,null,null,null,null,null,null,null,null,null,null,null,null,null,null,null,null,null,null,null,null,null,null,null,null,null,null,null,null,null,null,null,null,null,null,null,null,null,null,null,null,null,null,null,null,null,null,"〇"]
[null,null,null,null,null,null,null,null,null,null,null,null,null,null,null,null,null,null,null,null,null,null,null,null,null,null,null,null,null,{"$f":"W43/$W$133","v":0},null,null,null,{"$f":"AH42*12","v":0},null,null,null,null,null,null,null,null,null,null,null,null,null,"-",null,null,null,null,null,null,null,null,null,null,null,null,null,null,null,null,null,null,null,null,null,null,null,null,null,null,null,null,null,null,null,null,null,null,null,null,null,null,null,null,null,null,null,null,null,null,null,{"$f":"CR42","v":"〇"}]
[{"$f":"W44","v":0},{"$f":"W45","v":0},{"$f":"AH44","v":0},{"$f":"AH45","v":0},null,null,null,null,null,null,null,"データなし",null,null,null,null,null,null,null,null,null,null,null,null,null,null,null,null,null,null,null,null,null,null,null,null,null,null,null,null,null,null,null,null,null,null,null,null,null,null,null,null,null,null,null,null,null,null,null,null,null,null,null,null,null,null,null,null,null,null,null,null,null,null,null,null,null,null,null,null,null,null,null,null,null,null,null,null,null,null,null,null,null,null,null,"〇"]
[null,null,null,null,null,null,null,null,null,null,null,null,null,null,null,null,null,null,null,null,null,null,null,null,null,null,null,null,null,{"$f":"W45/$W$133","v":0},null,null,null,{"$f":"AH44*12","v":0},null,null,null,null,null,null,null,null,null,null,null,null,null,"-",null,null,null,null,null,null,null,null,null,null,null,null,null,null,null,null,null,null,null,null,null,null,null,null,null,null,null,null,null,null,null,null,null,null,null,null,null,null,null,null,null,null,null,null,null,null,null,{"$f":"CR44","v":"〇"}]
[{"$f":"W46","v":0},{"$f":"W47","v":0},{"$f":"AH46","v":0},{"$f":"AH47","v":0},null,null,null,null,null,null,null,"データなし",null,null,null,null,null,null,null,null,null,null,null,null,null,null,null,null,null,null,null,null,null,null,null,null,null,null,null,null,null,null,null,null,null,null,null,null,null,null,null,null,null,null,null,null,null,null,null,null,null,null,null,null,null,null,null,null,null,null,null,null,null,null,null,null,null,null,null,null,null,null,null,null,null,null,null,null,null,null,null,null,null,null,null,"〇"]
[null,null,null,null,null,null,null,null,null,null,null,null,null,null,null,null,null,null,null,null,null,null,null,null,null,null,null,null,null,{"$f":"W47/$W$133","v":0},null,null,null,{"$f":"AH46*12","v":0},null,null,null,null,null,null,null,null,null,null,null,null,null,"-",null,null,null,null,null,null,null,null,null,null,null,null,null,null,null,null,null,null,null,null,null,null,null,null,null,null,null,null,null,null,null,null,null,null,null,null,null,null,null,null,null,null,null,null,null,null,null,{"$f":"CR46","v":"〇"}]
[null,null,null,null,null,null,null,null,null,null,null,"プロパー計",null,null,null,null,null,null,null,null,null,null,{"$f":"SUMIF($L38:$P47,\"プロパー\",A38:A47)","v":0},null,null,null,null,null,null,null,null,null,null,{"$f":"SUMIF($L38:$P47,\"プロパー\",C38:C47)","v":0},null,null,null,null,null,{"$f":"SUMIF(L38:P47,\"プロパー\",AN38:AQ47)/COUNTIF(L38:P47,\"プロパー\")","v":{"$error":"#DIV/0!"}},null,null,null,{"$f":"SUMIF(L38:P47,\"プロパー\",AR38:AU47)/COUNTIF(L38:P47,\"プロパー\")","v":{"$error":"#DIV/0!"}},null,null,null,null,null,null,null,null,null,null,null,null,null,null,null,null,null,null,null,null,null,null,null,null,null,null,null,null,null,null,null,null,null,null,null,null,null,null,null,null,null,null,null,null,null,null,null,null,null,null,null,{"$f":"IF(W49>0,\"\",\"〇\")","v":"〇"}]
[null,null,null,null,null,null,null,null,null,null,null,null,null,null,null,null,null,null,null,null,null,null,{"$f":"SUMIF($L38:$P47,\"プロパー\",B38:B47)","v":0},null,null,null,null,null,null,{"$f":"W49/$W$133","v":0},null,null,null,{"$f":"SUMIF($L38:$P47,\"プロパー\",D38:D47)","v":0},null,null,null,null,null,null,null,null,null,null,null,null,null,"-",null,null,null,null,null,null,null,null,null,null,null,null,null,null,null,null,null,null,null,null,null,null,null,null,null,null,null,null,null,null,null,null,null,null,null,null,null,null,null,null,null,null,null,null,null,null,null,{"$f":"CR48","v":"〇"}]
[null,null,null,null,null,null,null,null,null,null,null,"保証協会計",null,null,null,null,null,null,null,null,null,null,{"$f":"SUMIF($L38:$P47,\"協会\",A38:A47)","v":0},null,null,null,null,null,null,null,null,null,null,{"$f":"SUMIF($L38:$P47,\"協会\",C38:C47)","v":0},null,null,null,null,null,{"$f":"SUMIF(L38:P47,\"協会\",AN38:AQ47)/COUNTIF(L38:P47,\"協会\")","v":{"$error":"#DIV/0!"}},null,null,null,{"$f":"SUMIF(L38:P47,\"協会\",AR38:AU47)/COUNTIF(L38:P47,\"協会\")","v":{"$error":"#DIV/0!"}},null,null,null,null,null,null,null,null,null,null,null,null,null,null,null,null,null,null,null,null,null,null," ",null,null,null,null,null,null,null,null,null,null,null,null,null,null,null,null,null,null,null,null,null,null,null,null,null,null,null,null,{"$f":"IF(W51>0,\"\",\"〇\")","v":"〇"}]
[null,null,null,null,null,null,null,null,null,null,null,null,null,null,null,null,null,null,null,null,null,null,{"$f":"SUMIF($L38:$P47,\"協会\",B38:B47)","v":0},null,null,null,null,null,null,{"$f":"W51/$W$133","v":0},null,null,null,{"$f":"SUMIF($L38:$P47,\"協会\",D38:D47)","v":0},null,null,null,null,null,null,null,null,null,null,null,null,null,"-",null,null,null,null,null,null,null,null,null,null,null,null,null,null,null,null,null,null,null,null,null,null,null,null,null,null,null,null,null,null,null,null,null,null,null,null,null,null,null,null,null,null,null,null,null,null,null,{"$f":"CR50","v":"〇"}]
[null,null,null,null,null,null,null,null,null,null,null,"小計",null,null,null,null,null,null,null,null,null,null,{"$f":"W48+W50","v":0},null,null,null,null,null,null,null,null,null,null,{"$f":"AH50+AH48","v":0},null,null,null,null,null,{"$f":"(AN48+AN50)/2","v":{"$error":"#DIV/0!"}},null,null,null,{"$f":"(AR48+AR50)/2","v":{"$error":"#DIV/0!"}},null,null,null,null,null,null,null,null,null,null,null,null,null,null,null,null,null,null,null,null,null,null,null,null,null,null,null,null,null,null,null,null,null,null,{"$f":"SUM(BO52:BZ52)","v":0},null,null,null,null,null,null,null,null,null,null,null,null,null,null,null,null,{"$f":"IF(W53>0,\"\",\"〇\")","v":"〇"}]
[null,null,null,null,null,null,null,null,null,null,null,null,null,null,null,null,null,null,null,null,null,null,{"$f":"W49+W51","v":0},null,null,null,null,null,null,{"$f":"W53/$W$133","v":0},null,null,null,{"$f":"AH51+AH49","v":0},null,null,null,null,null,null,null,null,null,null,null,null,null,"-",null,null,null,null,null,null,null,null,null,null,null,null,null,null,null,null,null,null,{"$f":"BO52/$W$21","v":0},null,null,null,null,null,{"$f":"BU52/$W$21","v":0},null,null,null,null,null,{"$f":"CA52/W53","v":{"$error":"#DIV/0!"}},null,null,null,null,null,null,null,null,null,null,null,null,null,null,null,null,{"$f":"CR52","v":"〇"}]
[{"$f":"W54","v":0},{"$f":"W55","v":0},{"$f":"AH54","v":0},{"$f":"AH55","v":0},null,null,null,null,null,null,null,"データなし",null,null,null,null,null,null,null,null,null,null,null,null,null,null,null,null,null,null,null,null,null,null,null,null,null,null,null,null,null,null,null,null,null,null,null,null,null,null,null,null,null,null,null,null,null,null,null,null,null,null,null,null,null,null,null,null,null,null,null,null,null,null,null,null,null,null,null,null,null,null,null,null,null,null,null,null,null,null,null,null,null,null,null,{"$f":"IF(L54=\"データなし\",\"〇\",\"\")","v":"〇"}]
[null,null,null,null,null,null,null,null,null,null,null,null,null,null,null,null,null,null,null,null,null,null,null,null,null,null,null,null,null,{"$f":"W55/$W$133","v":0},null,null,null,{"$f":"AH54*12","v":0},null,null,null,null,null,null,null,null,null,null,null,null,null,"-",null,null,null,null,null,null,null,null,null,null,null,null,null,null,null,null,null,null,null,null,null,null,null,null,null,null,null,null,null,null,null,null,null,null,null,null,null,null,null,null,null,null,null,null,null,null,null,{"$f":"CR54","v":"〇"}]
[{"$f":"W56","v":0},{"$f":"W57","v":0},{"$f":"AH56","v":0},{"$f":"AH57","v":0},null,null,null,null,null,null,null,"データなし",null,null,null,null,null,null,null,null,null,null,null,null,null,null,null,null,null,null,null,null,null,null,null,null,null,null,null,null,null,null,null,null,null,null,null,null,null,null,null,null,null,null,null,null,null,null,null,null,null,null,null,null,null,null,null,null,null,null,null,null,null,null,null,null,null,null,null,null,null,null,null,null,null,null,null,null,null,null,null,null,null,null,null,"〇"]
[null,null,null,null,null,null,null,null,null,null,null,null,null,null,null,null,null,null,null,null,null,null,null,null,null,null,null,null,null,{"$f":"W57/$W$133","v":0},null,null,null,{"$f":"AH56*12","v":0},null,null,null,null,null,null,null,null,null,null,null,null,null,"-",null,null,null,null,null,null,null,null,null,null,null,null,null,null,null,null,null,null,null,null,null,null,null,null,null,null,null,null,null,null,null,null,null,null,null,null,null,null,null,null,null,null,null,null,null,null,null,{"$f":"CR56","v":"〇"}]
[{"$f":"W58","v":0},{"$f":"W59","v":0},{"$f":"AH58","v":0},{"$f":"AH59","v":0},null,null,null,null,null,null,null,"データなし",null,null,null,null,null,null,null,null,null,null,null,null,null,null,null,null,null,null,null,null,null,null,null,null,null,null,null,null,null,null,null,null,null,null,null,null,null,null,null,null,null,null,null,null,null,null,null,null,null,null,null,null,null,null,null,null,null,null,null,null,null,null,null,null,null,null,null,null,null,null,null,null,null,null,null,null,null,null,null,null,null,null,null,"〇"]
[null,null,null,null,null,null,null,null,null,null,null,null,null,null,null,null,null,null,null,null,null,null,null,null,null,null,null,null,null,{"$f":"W59/$W$133","v":0},null,null,null,{"$f":"AH58*12","v":0},null,null,null,null,null,null,null,null,null,null,null,null,null,"-",null,null,null,null,null,null,null,null,null,null,null,null,null,null,null,null,null,null,null,null,null,null,null,null,null,null,null,null,null,null,null,null,null,null,null,null,null,null,null,null,null,null,null,null,null,null,null,{"$f":"CR58","v":"〇"}]
[{"$f":"W60","v":0},{"$f":"W61","v":0},{"$f":"AH60","v":0},{"$f":"AH61","v":0},null,null,null,null,null,null,null,"データなし",null,null,null,null,null,null,null,null,null,null,null,null,null,null,null,null,null,null,null,null,null,null,null,null,null,null,null,null,null,null,null,null,null,null,null,null,null,null,null,null,null,null,null,null,null,null,null,null,null,null,null,null,null,null,null,null,null,null,null,null,null,null,null,null,null,null,null,null,null,null,null,null,null,null,null,null,null,null,null,null,null,null,null,"〇"]
[null,null,null,null,null,null,null,null,null,null,null,null,null,null,null,null,null,null,null,null,null,null,null,null,null,null,null,null,null,{"$f":"W61/$W$133","v":0},null,null,null,{"$f":"AH60*12","v":0},null,null,null,null,null,null,null,null,null,null,null,null,null,"-",null,null,null,null,null,null,null,null,null,null,null,null,null,null,null,null,null,null,null,null,null,null,null,null,null,null,null,null,null,null,null,null,null,null,null,null,null,null,null,null,null,null,null,null,null,null,null,{"$f":"CR60","v":"〇"}]
[{"$f":"W62","v":0},{"$f":"W63","v":0},{"$f":"AH62","v":0},{"$f":"AH63","v":0},null,null,null,null,null,null,null,"データなし",null,null,null,null,null,null,null,null,null,null,null,null,null,null,null,null,null,null,null,null,null,null,null,null,null,null,null,null,null,null,null,null,null,null,null,null,null,null,null,null,null,null,null,null,null,null,null,null,null,null,null,null,null,null,null,null,null,null,null,null,null,null,null,null,null,null,null,null,null,null,null,null,null,null,null,null,null,null,null,null,null,null,null,"〇"]
[null,null,null,null,null,null,null,null,null,null,null,null,null,null,null,null,null,null,null,null,null,null,null,null,null,null,null,null,null,{"$f":"W63/$W$133","v":0},null,null,null,{"$f":"AH62*12","v":0},null,null,null,null,null,null,null,null,null,null,null,null,null,"-",null,null,null,null,null,null,null,null,null,null,null,null,null,null,null,null,null,null,null,null,null,null,null,null,null,null,null,null,null,null,null,null,null,null,null,null,null,null,null,null,null,null,null,null,null,null,null,{"$f":"CR62","v":"〇"}]
[null,null,null,null,null,null,null,null,null,null,null,"プロパー計",null,null,null,null,null,null,null,null,null,null,{"$f":"SUMIF($L54:$P63,\"プロパー\",A54:A63)","v":0},null,null,null,null,null,null,null,null,null,null,{"$f":"SUMIF($L54:$P63,\"プロパー\",C54:C63)","v":0},null,null,null,null,null,{"$f":"SUMIF(L54:P63,\"プロパー\",AN54:AQ63)/COUNTIF(L54:P63,\"プロパー\")","v":{"$error":"#DIV/0!"}},null,null,null,{"$f":"SUMIF(L54:P63,\"プロパー\",AR54:AU63)/COUNTIF(L54:P63,\"プロパー\")","v":{"$error":"#DIV/0!"}},null,null,null,null,null,null,null,null,null,null,null,null,null,null,null,null,null,null,null,null,null,null,null,null,null,null,null,null,null,null,null,null,null,null,null,null,null,null,null,null,null,null,null,null,null,null,null,null,null,null,null,{"$f":"IF(W65>0,\"\",\"〇\")","v":"〇"}]
[null,null,null,null,null,null,null,null,null,null,null,null,null,null,null,null,null,null,null,null,null,null,{"$f":"SUMIF($L54:$P63,\"プロパー\",B54:B63)","v":0},null,null,null,null,null,null,{"$f":"W65/$W$133","v":0},null,null,null,{"$f":"SUMIF($L54:$P63,\"プロパー\",D54:D63)","v":0},null,null,null,null,null,null,null,null,null,null,null,null,null,"-",null,null,null,null,null,null,null,null,null,null,null,null,null,null,null,null,null,null,null,null,null,null,null,null,null,null,null,null,null,null,null,null,null,null,null,null,null,null,null,null,null,null,null,null,null,null,null,{"$f":"CR64","v":"〇"}]
[null,null,null,null,null,null,null,null,null,null,null,"保証協会計",null,null,null,null,null,null,null,null,null,null,{"$f":"SUMIF($L54:$P63,\"協会\",A54:A63)","v":0},null,null,null,null,null,null,null,null,null,null,{"$f":"SUMIF($L54:$P63,\"協会\",C54:C63)","v":0},null,null,null,null,null,{"$f":"SUMIF(L54:P63,\"協会\",AN54:AQ63)/COUNTIF(L54:P63,\"協会\")","v":{"$error":"#DIV/0!"}},null,null,null,{"$f":"SUMIF(L54:P63,\"協会\",AR54:AU63)/COUNTIF(L54:P63,\"協会\")","v":{"$error":"#DIV/0!"}},null,null,null,null,null,null,null,null,null,null,null,null,null,null,null,null,null,null,null,null,null,null," ",null,null,null,null,null,null,null,null,null,null,null,null,null,null,null,null,null,null,null,null,null,null,null,null,null,null,null,null,{"$f":"IF(W67>0,\"\",\"〇\")","v":"〇"}]
[null,null,null,null,null,null,null,null,null,null,null,null,null,null,null,null,null,null,null,null,null,null,{"$f":"SUMIF($L54:$P63,\"協会\",B54:B63)","v":0},null,null,null,null,null,null,{"$f":"W67/$W$133","v":0},null,null,null,{"$f":"SUMIF($L54:$P63,\"協会\",D54:D63)","v":0},null,null,null,null,null,null,null,null,null,null,null,null,null,"-",null,null,null,null,null,null,null,null,null,null,null,null,null,null,null,null,null,null,null,null,null,null,null,null,null,null,null,null,null,null,null,null,null,null,null,null,null,null,null,null,null,null,null,null,null,null,null,{"$f":"CR66","v":"〇"}]
[null,null,null,null,null,null,null,null,null,null,null,"小計",null,null,null,null,null,null,null,null,null,null,{"$f":"W64+W66","v":0},null,null,null,null,null,null,null,null,null,null,{"$f":"AH66+AH64","v":0},null,null,null,null,null,{"$f":"(AN64+AN66)/2","v":{"$error":"#DIV/0!"}},null,null,null,{"$f":"(AR64+AR66)/2","v":{"$error":"#DIV/0!"}},null,null,null,null,null,null,null,null,null,null,null,null,null,null,null,null,null,null,null,null,null,null,null,null,null,null,null,null,null,null,null,null,null,null,{"$f":"SUM(BO68:BZ68)","v":0},null,null,null,null,null,null,null,null,null,null,null,null,null,null,null,null,{"$f":"IF(W69>0,\"\",\"〇\")","v":"〇"}]
[null,null,null,null,null,null,null,null,null,null,null,null,null,null,null,null,null,null,null,null,null,null,{"$f":"W65+W67","v":0},null,null,null,null,null,null,{"$f":"W69/$W$133","v":0},null,null,null,{"$f":"AH67+AH65","v":0},null,null,null,null,null,null,null,null,null,null,null,null,null,"-",null,null,null,null,null,null,null,null,null,null,null,null,null,null,null,null,null,null,{"$f":"BO68/$W$21","v":0},null,null,null,null,null,{"$f":"BU68/$W$21","v":0},null,null,null,null,null,{"$f":"CA68/W69","v":{"$error":"#DIV/0!"}},null,null,null,null,null,null,null,null,null,null,null,null,null,null,null,null,{"$f":"CR68","v":"〇"}]
[{"$f":"W70","v":0},{"$f":"W71","v":0},{"$f":"AH70","v":0},{"$f":"AH71","v":0},null,null,null,null,null,null,null,"データなし",null,null,null,null,null,null,null,null,null,null,null,null,null,null,null,null,null,null,null,null,null,null,null,null,null,null,null,null,null,null,null,null,null,null,null,null,null,null,null,null,null,null,null,null,null,null,null,null,null,null,null,null,null,null,null,null,null,null,null,null,null,null,null,null,null,null,null,null,null,null,null,null,null,null,null,null,null,null,null,null,null,null,null,{"$f":"IF(L70=\"データなし\",\"〇\",\"\")","v":"〇"}]
[null,null,null,null,null,null,null,null,null,null,null,null,null,null,null,null,null,null,null,null,null,null,null,null,null,null,null,null,null,{"$f":"W71/$W$133","v":0},null,null,null,{"$f":"AH70*12","v":0},null,null,null,null,null,null,null,null,null,null,null,null,null,"-",null,null,null,null,null,null,null,null,null,null,null,null,null,null,null,null,null,null,null,null,null,null,null,null,null,null,null,null,null,null,null,null,null,null,null,null,null,null,null,null,null,null,null,null,null,null,null,{"$f":"CR70","v":"〇"}]
[{"$f":"W72","v":0},{"$f":"W73","v":0},{"$f":"AH72","v":0},{"$f":"AH73","v":0},null,null,null,null,null,null,null,"データなし",null,null,null,null,null,null,null,null,null,null,null,null,null,null,null,null,null,null,null,null,null,null,null,null,null,null,null,null,null,null,null,null,null,null,null,null,null,null,null,null,null,null,null,null,null,null,null,null,null,null,null,null,null,null,null,null,null,null,null,null,null,null,null,null,null,null,null,null,null,null,null,null,null,null,null,null,null,null,null,null,null,null,null,"〇"]
[null,null,null,null,null,null,null,null,null,null,null,null,null,null,null,null,null,null,null,null,null,null,null,null,null,null,null,null,null,{"$f":"W73/$W$133","v":0},null,null,null,{"$f":"AH72*12","v":0},null,null,null,null,null,null,null,null,null,null,null,null,null,"-",null,null,null,null,null,null,null,null,null,null,null,null,null,null,null,null,null,null,null,null,null,null,null,null,null,null,null,null,null,null,null,null,null,null,null,null,null,null,null,null,null,null,null,null,null,null,null,{"$f":"CR72","v":"〇"}]
[{"$f":"W74","v":0},{"$f":"W75","v":0},{"$f":"AH74","v":0},{"$f":"AH75","v":0},null,null,null,null,null,null,null,"データなし",null,null,null,null,null,null,null,null,null,null,null,null,null,null,null,null,null,null,null,null,null,null,null,null,null,null,null,null,null,null,null,null,null,null,null,null,null,null,null,null,null,null,null,null,null,null,null,null,null,null,null,null,null,null,null,null,null,null,null,null,null,null,null,null,null,null,null,null,null,null,null,null,null,null,null,null,null,null,null,null,null,null,null,"〇"]
[null,null,null,null,null,null,null,null,null,null,null,null,null,null,null,null,null,null,null,null,null,null,null,null,null,null,null,null,null,{"$f":"W75/$W$133","v":0},null,null,null,{"$f":"AH74*12","v":0},null,null,null,null,null,null,null,null,null,null,null,null,null,"-",null,null,null,null,null,null,null,null,null,null,null,null,null,null,null,null,null,null,null,null,null,null,null,null,null,null,null,null,null,null,null,null,null,null,null,null,null,null,null,null,null,null,null,null,null,null,null,{"$f":"CR74","v":"〇"}]
[{"$f":"W76","v":0},{"$f":"W77","v":0},{"$f":"AH76","v":0},{"$f":"AH77","v":0},null,null,null,null,null,null,null,"データなし",null,null,null,null,null,null,null,null,null,null,null,null,null,null,null,null,null,null,null,null,null,null,null,null,null,null,null,null,null,null,null,null,null,null,null,null,null,null,null,null,null,null,null,null,null,null,null,null,null,null,null,null,null,null,null,null,null,null,null,null,null,null,null,null,null,null,null,null,null,null,null,null,null,null,null,null,null,null,null,null,null,null,null,"〇"]
[null,null,null,null,null,null,null,null,null,null,null,null,null,null,null,null,null,null,null,null,null,null,null,null,null,null,null,null,null,{"$f":"W77/$W$133","v":0},null,null,null,{"$f":"AH76*12","v":0},null,null,null,null,null,null,null,null,null,null,null,null,null,"-",null,null,null,null,null,null,null,null,null,null,null,null,null,null,null,null,null,null,null,null,null,null,null,null,null,null,null,null,null,null,null,null,null,null,null,null,null,null,null,null,null,null,null,null,null,null,null,{"$f":"CR76","v":"〇"}]
[{"$f":"W78","v":0},{"$f":"W79","v":0},{"$f":"AH78","v":0},{"$f":"AH79","v":0},null,null,null,null,null,null,null,"データなし",null,null,null,null,null,null,null,null,null,null,null,null,null,null,null,null,null,null,null,null,null,null,null,null,null,null,null,null,null,null,null,null,null,null,null,null,null,null,null,null,null,null,null,null,null,null,null,null,null,null,null,null,null,null,null,null,null,null,null,null,null,null,null,null,null,null,null,null,null,null,null,null,null,null,null,null,null,null,null,null,null,null,null,"〇"]
[null,null,null,null,null,null,null,null,null,null,null,null,null,null,null,null,null,null,null,null,null,null,null,null,null,null,null,null,null,{"$f":"W79/$W$133","v":0},null,null,null,{"$f":"AH78*12","v":0},null,null,null,null,null,null,null,null,null,null,null,null,null,"-",null,null,null,null,null,null,null,null,null,null,null,null,null,null,null,null,null,null,null,null,null,null,null,null,null,null,null,null,null,null,null,null,null,null,null,null,null,null,null,null,null,null,null,null,null,null,null,{"$f":"CR78","v":"〇"}]
[null,null,null,null,null,null,null,null,null,null,null,"プロパー計",null,null,null,null,null,null,null,null,null,null,{"$f":"SUMIF($L70:$P79,\"プロパー\",A70:A79)","v":0},null,null,null,null,null,null,null,null,null,null,{"$f":"SUMIF($L70:$P79,\"プロパー\",C70:C79)","v":0},null,null,null,null,null,{"$f":"SUMIF(L70:P79,\"プロパー\",AN70:AQ79)/COUNTIF(L70:P79,\"プロパー\")","v":{"$error":"#DIV/0!"}},null,null,null,{"$f":"SUMIF(L70:P79,\"プロパー\",AR70:AU79)/COUNTIF(L70:P79,\"プロパー\")","v":{"$error":"#DIV/0!"}},null,null,null,null,null,null,null,null,null,null,null,null,null,null,null,null,null,null,null,null,null,null,null,null,null,null,null,null,null,null,null,null,null,null,null,null,null,null,null,null,null,null,null,null,null,null,null,null,null,null,null,{"$f":"IF(W81>0,\"\",\"〇\")","v":"〇"}]
[null,null,null,null,null,null,null,null,null,null,null,null,null,null,null,null,null,null,null,null,null,null,{"$f":"SUMIF($L70:$P79,\"プロパー\",B70:B79)","v":0},null,null,null,null,null,null,{"$f":"W81/$W$133","v":0},null,null,null,{"$f":"SUMIF($L70:$P79,\"プロパー\",D70:D79)","v":0},null,null,null,null,null,null,null,null,null,null,null,null,null,"-",null,null,null,null,null,null,null,null,null,null,null,null,null,null,null,null,null,null,null,null,null,null,null,null,null,null,null,null,null,null,null,null,null,null,null,null,null,null,null,null,null,null,null,null,null,null,null,{"$f":"CR80","v":"〇"}]
[null,null,null,null,null,null,null,null,null,null,null,"保証協会計",null,null,null,null,null,null,null,null,null,null,{"$f":"SUMIF($L70:$P79,\"協会\",A70:A79)","v":0},null,null,null,null,null,null,null,null,null,null,{"$f":"SUMIF($L70:$P79,\"協会\",C70:C79)","v":0},null,null,null,null,null,{"$f":"SUMIF(L70:P79,\"協会\",AN70:AQ79)/COUNTIF(L70:P79,\"協会\")","v":{"$error":"#DIV/0!"}},null,null,null,{"$f":"SUMIF(L70:P79,\"協会\",AR70:AU79)/COUNTIF(L70:P79,\"協会\")","v":{"$error":"#DIV/0!"}},null,null,null,null,null,null,null,null,null,null,null,null,null,null,null,null,null,null,null,null,null,null," ",null,null,null,null,null,null,null,null,null,null,null,null,null,null,null,null,null,null,null,null,null,null,null,null,null,null,null,null,{"$f":"IF(W83>0,\"\",\"〇\")","v":"〇"}]
[null,null,null,null,null,null,null,null,null,null,null,null,null,null,null,null,null,null,null,null,null,null,{"$f":"SUMIF($L70:$P79,\"協会\",B70:B79)","v":0},null,null,null,null,null,null,{"$f":"W83/$W$133","v":0},null,null,null,{"$f":"SUMIF($L70:$P79,\"協会\",D70:D79)","v":0},null,null,null,null,null,null,null,null,null,null,null,null,null,"-",null,null,null,null,null,null,null,null,null,null,null,null,null,null,null,null,null,null,null,null,null,null,null,null,null,null,null,null,null,null,null,null,null,null,null,null,null,null,null,null,null,null,null,null,null,null,null,{"$f":"CR82","v":"〇"}]
[null,null,null,null,null,null,null,null,null,null,null,"小計",null,null,null,null,null,null,null,null,null,null,{"$f":"W80+W82","v":0},null,null,null,null,null,null,null,null,null,null,{"$f":"AH82+AH80","v":0},null,null,null,null,null,{"$f":"(AN80+AN82)/2","v":{"$error":"#DIV/0!"}},null,null,null,{"$f":"(AR80+AR82)/2","v":{"$error":"#DIV/0!"}},null,null,null,null,null,null,null,null,null,null,null,null,null,null,null,null,null,null,null,null,null,null,null,null,null,null,null,null,null,null,null,null,null,null,{"$f":"SUM(BO84:BZ84)","v":0},null,null,null,null,null,null,null,null,null,null,null,null,null,null,null,null,{"$f":"IF(W85>0,\"\",\"〇\")","v":"〇"}]
[null,null,null,null,null,null,null,null,null,null,null,null,null,null,null,null,null,null,null,null,null,null,{"$f":"W81+W83","v":0},null,null,null,null,null,null,{"$f":"W85/$W$133","v":0},null,null,null,{"$f":"AH83+AH81","v":0},null,null,null,null,null,null,null,null,null,null,null,null,null,"-",null,null,null,null,null,null,null,null,null,null,null,null,null,null,null,null,null,null,{"$f":"BO84/$W$21","v":0},null,null,null,null,null,{"$f":"BU84/$W$21","v":0},null,null,null,null,null,{"$f":"CA84/W85","v":{"$error":"#DIV/0!"}},null,null,null,null,null,null,null,null,null,null,null,null,null,null,null,null,{"$f":"CR84","v":"〇"}]
[{"$f":"W86","v":0},{"$f":"W87","v":0},null,null,null,null,null,null,null,null,null,"データなし",null,null,null,null,null,null,null,null,null,null,null,null,null,null,null,null,null,null,null,null,null,null,null,null,null,null,null,null,null,null,null,null,null,null,null,null,null,null,null,null,null,null,null,null,null,null,null,null,null,null,null,null,null,null,null,null,null,null,null,null,null,null,null,null,null,null,null,null,null,null,null,null,null,null,null,null,null,null,null,null,null,null,null,{"$f":"IF(L86=\"データなし\",\"〇\",\"\")","v":"〇"}]
[null,null,null,null,null,null,null,null,null,null,null,null,null,null,null,null,null,null,null,null,null,null,null,null,null,null,null,null,null,{"$f":"W87/$W$133","v":0},null,null,null,{"$f":"AH86*12","v":0},null,null,null,null,null,null,null,null,null,null,null,null,null,"-",null,null,null,null,null,null,null,null,null,null,null,null,null,null,null,null,null,null,null,null,null,null,null,null,null,null,null,null,null,null,null,null,null,null,null,null,null,null,null,null,null,null,null,null,null,null,null,{"$f":"CR86","v":"〇"}]
[{"$f":"W88","v":0},{"$f":"W89","v":0},null,null,null,null,null,null,null,null,null,"データなし",null,null,null,null,null,null,null,null,null,null,null,null,null,null,null,null,null,null,null,null,null,null,null,null,null,null,null,null,null,null,null,null,null,null,null,null,null,null,null,null,null,null,null,null,null,null,null,null,null,null,null,null,null,null,null,null,null,null,null,null,null,null,null,null,null,null,null,null,null,null,null,null,null,null,null,null,null,null,null,null,null,null,null,"〇"]
[null,null,null,null,null,null,null,null,null,null,null,null,null,null,null,null,null,null,null,null,null,null,null,null,null,null,null,null,null,{"$f":"W89/$W$133","v":0},null,null,null,{"$f":"AH88*12","v":0},null,null,null,null,null,null,null,null,null,null,null,null,null,"-",null,null,null,null,null,null,null,null,null,null,null,null,null,null,null,null,null,null,null,null,null,null,null,null,null,null,null,null,null,null,null,null,null,null,null,null,null,null,null,null,null,null,null,null,null,null,null,{"$f":"CR88","v":"〇"}]
[{"$f":"W90","v":0},{"$f":"W91","v":0},null,null,null,null,null,null,null,null,null,"データなし",null,null,null,null,null,null,null,null,null,null,null,null,null,null,null,null,null,null,null,null,null,null,null,null,null,null,null,null,null,null,null,null,null,null,null,null,null,null,null,null,null,null,null,null,null,null,null,null,null,null,null,null,null,null,null,null,null,null,null,null,null,null,null,null,null,null,null,null,null,null,null,null,null,null,null,null,null,null,null,null,null,null,null,"〇"]
[null,null,null,null,null,null,null,null,null,null,null,null,null,null,null,null,null,null,null,null,null,null,null,null,null,null,null,null,null,{"$f":"W91/$W$133","v":0},null,null,null,{"$f":"AH90*12","v":0},null,null,null,null,null,null,null,null,null,null,null,null,null,"-",null,null,null,null,null,null,null,null,null,null,null,null,null,null,null,null,null,null,null,null,null,null,null,null,null,null,null,null,null,null,null,null,null,null,null,null,null,null,null,null,null,null,null,null,null,null,null,{"$f":"CR90","v":"〇"}]
[{"$f":"W92","v":0},{"$f":"W93","v":0},null,null,null,null,null,null,null,null,null,"データなし",null,null,null,null,null,null,null,null,null,null,null,null,null,null,null,null,null,null,null,null,null,null,null,null,null,null,null,null,null,null,null,null,null,null,null,null,null,null,null,null,null,null,null,null,null,null,null,null,null,null,null,null,null,null,null,null,null,null,null,null,null,null,null,null,null,null,null,null,null,null,null,null,null,null,null,null,null,null,null,null,null,null,null,"〇"]
[null,null,null,null,null,null,null,null,null,null,null,null,null,null,null,null,null,null,null,null,null,null,null,null,null,null,null,null,null,{"$f":"W93/$W$133","v":0},null,null,null,{"$f":"AH92*12","v":0},null,null,null,null,null,null,null,null,null,null,null,null,null,"-",null,null,null,null,null,null,null,null,null,null,null,null,null,null,null,null,null,null,null,null,null,null,null,null,null,null,null,null,null,null,null,null,null,null,null,null,null,null,null,null,null,null,null,null,null,null,null,{"$f":"CR92","v":"〇"}]
[{"$f":"W94","v":0},{"$f":"W95","v":0},null,null,null,null,null,null,null,null,null,"データなし",null,null,null,null,null,null,null,null,null,null,null,null,null,null,null,null,null,null,null,null,null,null,null,null,null,null,null,null,null,null,null,null,null,null,null,null,null,null,null,null,null,null,null,null,null,null,null,null,null,null,null,null,null,null,null,null,null,null,null,null,null,null,null,null,null,null,null,null,null,null,null,null,null,null,null,null,null,null,null,null,null,null,null,"〇"]
[null,null,null,null,null,null,null,null,null,null,null,null,null,null,null,null,null,null,null,null,null,null,null,null,null,null,null,null,null,{"$f":"W95/$W$133","v":0},null,null,null,{"$f":"AH94*12","v":0},null,null,null,null,null,null,null,null,null,null,null,null,null,"-",null,null,null,null,null,null,null,null,null,null,null,null,null,null,null,null,null,null,null,null,null,null,null,null,null,null,null,null,null,null,null,null,null,null,null,null,null,null,null,null,null,null,null,null,null,null,null,{"$f":"CR94","v":"〇"}]
[null,null,null,null,null,null,null,null,null,null,null,"プロパー計",null,null,null,null,null,null,null,null,null,null,{"$f":"SUMIF($L86:$P95,\"プロパー\",A86:A95)","v":0},null,null,null,null,null,null,null,null,null,null,{"$f":"SUMIF($L86:$P95,\"プロパー\",C86:C95)","v":0},null,null,null,null,null,{"$f":"SUMIF(L86:P95,\"プロパー\",AN86:AQ95)/COUNTIF(L86:P95,\"プロパー\")","v":{"$error":"#DIV/0!"}},null,null,null,{"$f":"SUMIF(L86:P95,\"プロパー\",AR86:AU95)/COUNTIF(L86:P95,\"プロパー\")","v":{"$error":"#DIV/0!"}},null,null,null,null,null,null,null,null,null,null,null,null,null,null,null,null,null,null,null,null,null,null,null,null,null,null,null,null,null,null,null,null,null,null,null,null,null,null,null,null,null,null,null,null,null,null,null,null,null,null,null,{"$f":"IF(W97>0,\"\",\"〇\")","v":"〇"}]
[null,null,null,null,null,null,null,null,null,null,null,null,null,null,null,null,null,null,null,null,null,null,{"$f":"SUMIF($L86:$P95,\"プロパー\",B86:B95)","v":0},null,null,null,null,null,null,{"$f":"W97/$W$133","v":0},null,null,null,{"$f":"SUMIF($L86:$P95,\"プロパー\",D86:D95)","v":0},null,null,null,null,null,null,null,null,null,null,null,null,null,"-",null,null,null,null,null,null,null,null,null,null,null,null,null,null,null,null,null,null,null,null,null,null,null,null,null,null,null,null,null,null,null,null,null,null,null,null,null,null,null,null,null,null,null,null,null,null,null,{"$f":"CR96","v":"〇"}]
[null,null,null,null,null,null,null,null,null,null,null,"保証協会計",null,null,null,null,null,null,null,null,null,null,{"$f":"SUMIF($L86:$P95,\"協会\",A86:A95)","v":0},null,null,null,null,null,null,null,null,null,null,{"$f":"SUMIF($L86:$P95,\"協会\",C86:C95)","v":0},null,null,null,null,null,{"$f":"SUMIF(L86:P95,\"協会\",AN86:AQ95)/COUNTIF(L86:P95,\"協会\")","v":{"$error":"#DIV/0!"}},null,null,null,{"$f":"SUMIF(L86:P95,\"協会\",AR86:AU95)/COUNTIF(L86:P95,\"協会\")","v":{"$error":"#DIV/0!"}},null,null,null,null,null,null,null,null,null,null,null,null,null,null,null,null,null,null,null,null,null,null," ",null,null,null,null,null,null,null,null,null,null,null,null,null,null,null,null,null,null,null,null,null,null,null,null,null,null,null,null,{"$f":"IF(W99>0,\"\",\"〇\")","v":"〇"}]
[null,null,null,null,null,null,null,null,null,null,null,null,null,null,null,null,null,null,null,null,null,null,{"$f":"SUMIF($L86:$P95,\"協会\",B86:B95)","v":0},null,null,null,null,null,null,{"$f":"W99/$W$133","v":0},null,null,null,{"$f":"SUMIF($L86:$P95,\"協会\",D86:D95)","v":0},null,null,null,null,null,null,null,null,null,null,null,null,null,"-",null,null,null,null,null,null,null,null,null,null,null,null,null,null,null,null,null,null,null,null,null,null,null,null,null,null,null,null,null,null,null,null,null,null,null,null,null,null,null,null,null,null,null,null,null,null,null,{"$f":"CR98","v":"〇"}]
[null,null,null,null,null,null,null,null,null,null,null,"小計",null,null,null,null,null,null,null,null,null,null,{"$f":"W96+W98","v":0},null,null,null,null,null,null,null,null,null,null,{"$f":"AH98+AH96","v":0},null,null,null,null,null,{"$f":"(AN96+AN98)/2","v":{"$error":"#DIV/0!"}},null,null,null,{"$f":"(AR96+AR98)/2","v":{"$error":"#DIV/0!"}},null,null,null,null,null,null,null,null,null,null,null,null,null,null,null,null,null,null,null,null,null,null,null,null,null,null,null,null,null,null,null,null,null,null,{"$f":"SUM(BO100:BZ100)","v":0},null,null,null,null,null,null,null,null,null,null,null,null,null,null,null,null,{"$f":"IF(W101>0,\"\",\"〇\")","v":"〇"}]
[null,null,null,null,null,null,null,null,null,null,null,null,null,null,null,null,null,null,null,null,null,null,{"$f":"W97+W99","v":0},null,null,null,null,null,null,{"$f":"W101/$W$133","v":0},null,null,null,{"$f":"AH99+AH97","v":0},null,null,null,null,null,null,null,null,null,null,null,null,null,"-",null,null,null,null,null,null,null,null,null,null,null,null,null,null,null,null,null,null,{"$f":"BO100/$W$21","v":0},null,null,null,null,null,{"$f":"BU100/$W$21","v":0},null,null,null,null,null,{"$f":"CA100/W101","v":{"$error":"#DIV/0!"}},null,null,null,null,null,null,null,null,null,null,null,null,null,null,null,null,{"$f":"CR100","v":"〇"}]
[{"$f":"W102","v":0},{"$f":"W103","v":0},{"$f":"AH102","v":0},{"$f":"AH103","v":0},null,null,null,null,null,null,null,"データなし",null,null,null,null,null,null,null,null,null,null,null,null,null,null,null,null,null,null,null,null,null,null,null,null,null,null,null,null,null,null,null,null,null,null,null,null,null,null,null,null,null,null,null,null,null,null,null,null,null,null,null,null,null,null,null,null,null,null,null,null,null,null,null,null,null,null,null,null,null,null,null,null,null,null,null,null,null,null,null,null,null,null,null,{"$f":"IF(L102=\"データなし\",\"〇\",\"\")","v":"〇"}]
[null,null,null,null,null,null,null,null,null,null,null,null,null,null,null,null,null,null,null,null,null,null,null,null,null,null,null,null,null,{"$f":"W103/$W$133","v":0},null,null,null,{"$f":"AH102*12","v":0},null,null,null,null,null,null,null,null,null,null,null,null,null,"-",null,null,null,null,null,null,null,null,null,null,null,null,null,null,null,null,null,null,null,null,null,null,null,null,null,null,null,null,null,null,null,null,null,null,null,null,null,null,null,null,null,null,null,null,null,null,null,{"$f":"CR102","v":"〇"}]
[{"$f":"W104","v":0},{"$f":"W105","v":0},{"$f":"AH104","v":0},{"$f":"AH105","v":0},null,null,null,null,null,null,null,"データなし",null,null,null,null,null,null,null,null,null,null,null,null,null,null,null,null,null,null,null,null,null,null,null,null,null,null,null,null,null,null,null,null,null,null,null,null,null,null,null,null,null,null,null,null,null,null,null,null,null,null,null,null,null,null,null,null,null,null,null,null,null,null,null,null,null,null,null,null,null,null,null,null,null,null,null,null,null,null,null,null,null,null,null,"〇"]
[null,null,null,null,null,null,null,null,null,null,null,null,null,null,null,null,null,null,null,null,null,null,null,null,null,null,null,null,null,{"$f":"W105/$W$133","v":0},null,null,null,{"$f":"AH104*12","v":0},null,null,null,null,null,null,null,null,null,null,null,null,null,"-",null,null,null,null,null,null,null,null,null,null,null,null,null,null,null,null,null,null,null,null,null,null,null,null,null,null,null,null,null,null,null,null,null,null,null,null,null,null,null,null,null,null,null,null,null,null,null,{"$f":"CR104","v":"〇"}]
[{"$f":"W106","v":0},{"$f":"W107","v":0},{"$f":"AH106","v":0},{"$f":"AH107","v":0},null,null,null,null,null,null,null,"データなし",null,null,null,null,null,null,null,null,null,null,null,null,null,null,null,null,null,null,null,null,null,null,null,null,null,null,null,null,null,null,null,null,null,null,null,null,null,null,null,null,null,null,null,null,null,null,null,null,null,null,null,null,null,null,null,null,null,null,null,null,null,null,null,null,null,null,null,null,null,null,null,null,null,null,null,null,null,null,null,null,null,null,null,"〇"]
[null,null,null,null,null,null,null,null,null,null,null,null,null,null,null,null,null,null,null,null,null,null,null,null,null,null,null,null,null,{"$f":"W107/$W$133","v":0},null,null,null,{"$f":"AH106*12","v":0},null,null,null,null,null,null,null,null,null,null,null,null,null,"-",null,null,null,null,null,null,null,null,null,null,null,null,null,null,null,null,null,null,null,null,null,null,null,null,null,null,null,null,null,null,null,null,null,null,null,null,null,null,null,null,null,null,null,null,null,null,null,{"$f":"CR106","v":"〇"}]
[{"$f":"W108","v":0},{"$f":"W109","v":0},{"$f":"AH108","v":0},{"$f":"AH109","v":0},null,null,null,null,null,null,null,"データなし",null,null,null,null,null,null,null,null,null,null,null,null,null,null,null,null,null,null,null,null,null,null,null,null,null,null,null,null,null,null,null,null,null,null,null,null,null,null,null,null,null,null,null,null,null,null,null,null,null,null,null,null,null,null,null,null,null,null,null,null,null,null,null,null,null,null,null,null,null,null,null,null,null,null,null,null,null,null,null,null,null,null,null,"〇"]
[null,null,null,null,null,null,null,null,null,null,null,null,null,null,null,null,null,null,null,null,null,null,null,null,null,null,null,null,null,{"$f":"W109/$W$133","v":0},null,null,null,{"$f":"AH108*12","v":0},null,null,null,null,null,null,null,null,null,null,null,null,null,"-",null,null,null,null,null,null,null,null,null,null,null,null,null,null,null,null,null,null,null,null,null,null,null,null,null,null,null,null,null,null,null,null,null,null,null,null,null,null,null,null,null,null,null,null,null,null,null,{"$f":"CR108","v":"〇"}]
[{"$f":"W110","v":0},{"$f":"W111","v":0},{"$f":"AH110","v":0},{"$f":"AH111","v":0},null,null,null,null,null,null,null,"データなし",null,null,null,null,null,null,null,null,null,null,null,null,null,null,null,null,null,null,null,null,null,null,null,null,null,null,null,null,null,null,null,null,null,null,null,null,null,null,null,null,null,null,null,null,null,null,null,null,null,null,null,null,null,null,null,null,null,null,null,null,null,null,null,null,null,null,null,null,null,null,null,null,null,null,null,null,null,null,null,null,null,null,null,"〇"]
[null,null,null,null,null,null,null,null,null,null,null,null,null,null,null,null,null,null,null,null,null,null,null,null,null,null,null,null,null,{"$f":"W111/$W$133","v":0},null,null,null,{"$f":"AH110*12","v":0},null,null,null,null,null,null,null,null,null,null,null,null,null,"-",null,null,null,null,null,null,null,null,null,null,null,null,null,null,null,null,null,null,null,null,null,null,null,null,null,null,null,null,null,null,null,null,null,null,null,null,null,null,null,null,null,null,null,null,null,null,null,{"$f":"CR110","v":"〇"}]
[null,null,null,null,null,null,null,null,null,null,null,"プロパー計",null,null,null,null,null,null,null,null,null,null,{"$f":"SUMIF($L102:$P111,\"プロパー\",A102:A111)","v":0},null,null,null,null,null,null,null,null,null,null,{"$f":"SUMIF($L102:$P111,\"プロパー\",C102:C111)","v":0},null,null,null,null,null,{"$f":"SUMIF(L102:P111,\"プロパー\",AN102:AQ111)/COUNTIF(L102:P111,\"プロパー\")","v":{"$error":"#DIV/0!"}},null,null,null,{"$f":"SUMIF(L102:P111,\"プロパー\",AR102:AU111)/COUNTIF(L102:P111,\"プロパー\")","v":{"$error":"#DIV/0!"}},null,null,null,null,null,null,null,null,null,null,null,null,null,null,null,null,null,null,null,null,null,null,null,null,null,null,null,null,null,null,null,null,null,null,null,null,null,null,null,null,null,null,null,null,null,null,null,null,null,null,null,{"$f":"IF(W113>0,\"\",\"〇\")","v":"〇"}]
[null,null,null,null,null,null,null,null,null,null,null,null,null,null,null,null,null,null,null,null,null,null,{"$f":"SUMIF($L102:$P111,\"プロパー\",B102:B111)","v":0},null,null,null,null,null,null,{"$f":"W113/$W$133","v":0},null,null,null,{"$f":"SUMIF($L102:$P111,\"プロパー\",D102:D111)","v":0},null,null,null,null,null,null,null,null,null,null,null,null,null,"-",null,null,null,null,null,null,null,null,null,null,null,null,null,null,null,null,null,null,null,null,null,null,null,null,null,null,null,null,null,null,null,null,null,null,null,null,null,null,null,null,null,null,null,null,null,null,null,{"$f":"CR112","v":"〇"}]
[null,null,null,null,null,null,null,null,null,null,null,"保証協会計",null,null,null,null,null,null,null,null,null,null,{"$f":"SUMIF($L102:$P111,\"協会\",A102:A111)","v":0},null,null,null,null,null,null,null,null,null,null,{"$f":"SUMIF($L102:$P111,\"協会\",C102:C111)","v":0},null,null,null,null,null,{"$f":"SUMIF(L102:P111,\"協会\",AN102:AQ111)/COUNTIF(L102:P111,\"協会\")","v":{"$error":"#DIV/0!"}},null,null,null,{"$f":"SUMIF(L102:P111,\"協会\",AR102:AU111)/COUNTIF(L102:P111,\"協会\")","v":{"$error":"#DIV/0!"}},null,null,null,null,null,null,null,null,null,null,null,null,null,null,null,null,null,null,null,null,null,null," ",null,null,null,null,null,null,null,null,null,null,null,null,null,null,null,null,null,null,null,null,null,null,null,null,null,null,null,null,{"$f":"IF(W115>0,\"\",\"〇\")","v":"〇"}]
[null,null,null,null,null,null,null,null,null,null,null,null,null,null,null,null,null,null,null,null,null,null,{"$f":"SUMIF($L102:$P111,\"協会\",B102:B111)","v":0},null,null,null,null,null,null,{"$f":"W115/$W$133","v":0},null,null,null,{"$f":"SUMIF($L102:$P111,\"協会\",D102:D111)","v":0},null,null,null,null,null,null,null,null,null,null,null,null,null,"-",null,null,null,null,null,null,null,null,null,null,null,null,null,null,null,null,null,null,null,null,null,null,null,null,null,null,null,null,null,null,null,null,null,null,null,null,null,null,null,null,null,null,null,null,null,null,null,{"$f":"CR114","v":"〇"}]
[null,null,null,null,null,null,null,null,null,null,null,"小計",null,null,null,null,null,null,null,null,null,null,{"$f":"W112+W114","v":0},null,null,null,null,null,null,null,null,null,null,{"$f":"AH114+AH112","v":0},null,null,null,null,null,{"$f":"(AN112+AN114)/2","v":{"$error":"#DIV/0!"}},null,null,null,{"$f":"(AR112+AR114)/2","v":{"$error":"#DIV/0!"}},null,null,null,null,null,null,null,null,null,null,null,null,null,null,null,null,null,null,null,null,null,null,null,null,null,null,null,null,null,null,null,null,null,null,{"$f":"SUM(BO116:BZ116)","v":0},null,null,null,null,null,null,null,null,null,null,null,null,null,null,null,null,{"$f":"IF(W117>0,\"\",\"〇\")","v":"〇"}]
[null,null,null,null,null,null,null,null,null,null,null,null,null,null,null,null,null,null,null,null,null,null,{"$f":"W113+W115","v":0},null,null,null,null,null,null,{"$f":"W117/$W$133","v":0},null,null,null,{"$f":"AH115+AH113","v":0},null,null,null,null,null,null,null,null,null,null,null,null,null,"-",null,null,null,null,null,null,null,null,null,null,null,null,null,null,null,null,null,null,{"$f":"BO116/$W$21","v":0},null,null,null,null,null,{"$f":"BU116/$W$21","v":0},null,null,null,null,null,{"$f":"CA116/W117","v":{"$error":"#DIV/0!"}},null,null,null,null,null,null,null,null,null,null,null,null,null,null,null,null,{"$f":"CR116","v":"〇"}]
[{"$f":"W118","v":0},{"$f":"W119","v":0},null,null,"日本政策金融公庫",null,null,null,null,null,null,"データなし",null,null,null,null,null,null,null,null,null,null,null,null,null,null,null,null,null,null,null,null,null,null,null,null,null,null,null,null,null,null,null,null,null,null,null,null,null,null,null,null,null,null,null,null,null,null,null,null,null,null,null,null,null,null,null,null,null,null,null,null,null,null,null,null,null,null,null,null,null,null,null,null,null,null,null,null,null,null,null,null,null,null,null,{"$f":"IF(L118=\"データなし\",\"〇\",\"\")","v":"〇"}]
[null,null,null,null,null,null,null,null,null,null,null,null,null,null,null,null,null,null,null,null,null,null,null,null,null,null,null,null,null,{"$f":"W119/$W$133","v":0},null,null,null,{"$f":"AH118*12","v":0},null,null,null,null,null,null,null,null,null,null,null,null,null,"-",null,null,null,null,null,null,null,null,null,null,null,null,null,null,null,null,null,null,null,null,null,null,null,null,null,null,null,null,null,null,null,null,null,null,null,null,null,null,null,null,null,null,null,null,null,null,null,{"$f":"CR118","v":"〇"}]
[{"$f":"W120","v":0},{"$f":"W121","v":0},null,null,null,null,null,null,null,null,null,"データなし",null,null,null,null,null,null,null,null,null,null,null,null,null,null,null,null,null,null,null,null,null,null,null,null,null,null,null,null,null,null,null,null,null,null,null,null,null,null,null,null,null,null,null,null,null,null,null,null,null,null,null,null,null,null,null,null,null,null,null,null,null,null,null,null,null,null,null,null,null,null,null,null,null,null,null,null,null,null,null,null,null,null,null,{"$f":"IF(L120=\"データなし\",\"〇\",\"\")","v":"〇"}]
[null,null,null,null,null,null,null,null,null,null,null,null,null,null,null,null,null,null,null,null,null,null,null,null,null,null,null,null,null,{"$f":"W121/$W$133","v":0},null,null,null,{"$f":"AH120*12","v":0},null,null,null,null,null,null,null,null,null,null,null,null,null,"-",null,null,null,null,null,null,null,null,null,null,null,null,null,null,null,null,null,null,null,null,null,null,null,null,null,null,null,null,null,null,null,null,null,null,null,null,null,null,null,null,null,null,null,null,null,null,null,{"$f":"CR120","v":"〇"}]
[{"$f":"W122","v":0},{"$f":"W123","v":0},null,null,null,null,null,null,null,null,null,"データなし",null,null,null,null,null,null,null,null,null,null,null,null,null,null,null,null,null,null,null,null,null,null,null,null,null,null,null,null,null,null,null,null,null,null,null,null,null,null,null,null,null,null,null,null,null,null,null,null,null,null,null,null,null,null,null,null,null,null,null,null,null,null,null,null,null,null,null,null,null,null,null,null,null,null,null,null,null,null,null,null,null,null,null,{"$f":"IF(L122=\"データなし\",\"〇\",\"\")","v":"〇"}]
[null,null,null,null,null,null,null,null,null,null,null,null,null,null,null,null,null,null,null,null,null,null,null,null,null,null,null,null,null,{"$f":"W123/$W$133","v":0},null,null,null,{"$f":"AH122*12","v":0},null,null,null,null,null,null,null,null,null,null,null,null,null,"-",null,null,null,null,null,null,null,null,null,null,null,null,null,null,null,null,null,null,null,null,null,null,null,null,null,null,null,null,null,null,null,null,null,null,null,null,null,null,null,null,null,null,null,null,null,null,null,{"$f":"CR122","v":"〇"}]
[{"$f":"W124","v":0},{"$f":"W125","v":0},null,null,null,null,null,null,null,null,null,"データなし",null,null,null,null,null,null,null,null,null,null,null,null,null,null,null,null,null,null,null,null,null,null,null,null,null,null,null,null,null,null,null,null,null,null,null,null,null,null,null,null,null,null,null,null,null,null,null,null,null,null,null,null,null,null,null,null,null,null,null,null,null,null,null,null,null,null,null,null,null,null,null,null,null,null,null,null,null,null,null,null,null,null,null,{"$f":"IF(L124=\"データなし\",\"〇\",\"\")","v":"〇"}]
[null,null,null,null,null,null,null,null,null,null,null,null,null,null,null,null,null,null,null,null,null,null,null,null,null,null,null,null,null,{"$f":"W125/$W$133","v":0},null,null,null,{"$f":"AH124*12","v":0},null,null,null,null,null,null,null,null,null,null,null,null,null,"-",null,null,null,null,null,null,null,null,null,null,null,null,null,null,null,null,null,null,null,null,null,null,null,null,null,null,null,null,null,null,null,null,null,null,null,null,null,null,null,null,null,null,null,null,null,null,null,{"$f":"CR124","v":"〇"}]
[{"$f":"W126","v":0},{"$f":"W127","v":0},null,null,null,null,null,null,null,null,null,"小計",null,null,null,null,null,null,null,null,null,null,{"$f":"W118+W120+W122+W124","v":0},null,null,null,null,null,null,null,null,null,null,{"$f":"AH118+AH120+AH122+AH124","v":0},null,null,null,null,null,{"$f":"SUMIF(L118:P125,\"プロパー\",AN118:AQ125)/COUNTIF(L118:P125,\"プロパー\")","v":{"$error":"#DIV/0!"}},null,null,null,{"$f":"SUMIF(L118:P125,\"プロパー\",AR118:AU125)/COUNTIF(L118:P125,\"プロパー\")","v":{"$error":"#DIV/0!"}},null,null,null,null,null,null,null,null,null,null,null,null,null,null,null,null,null,null,null,null,null,null,null,null,null,null,null,null,null,null,null,null,null,null,{"$f":"SUM(BO126:BZ126)","v":0},null,null,null,null,null,null,null,null,null,null,null,null,null,null,null,null,{"$f":"IF(W127>0,\"\",\"〇\")","v":"〇"}]
[null,null,null,null,null,null,null,null,null,null,null,null,null,null,null,null,null,null,null,null,null,null,{"$f":"W119+W121+W123+W125","v":0},null,null,null,null,null,null,{"$f":"W127/$W$133","v":0},null,null,null,{"$f":"AH119+AH121+AH123+AH125","v":0},null,null,null,null,null,null,null,null,null,null,null,null,null,null,null,null,null,null,null,null,null,null,null,null,null,null,null,null,null,null,null,null,{"$f":"BO126/W127","v":{"$error":"#DIV/0!"}},null,null,null,null,null,{"$f":"BU126/W127","v":{"$error":"#DIV/0!"}},null,null,null,null,null,{"$f":"CA126/W127","v":{"$error":"#DIV/0!"}},null,null,null,null,null,null,null,null,null,null,null,null,null,null,null,null,{"$f":"CR126","v":"〇"}]
[null,null,null,null,"プロパー合計",null,null,null,null,null,null,null,null,null,null,null,null,null,null,null,null,null,{"$f":"W16+W32+W48+W126+W64+W80+W96+W112","v":10000000},null,null,null,null,null,null,null,null,null,null,{"$f":"AH16+AH32+AH48+AH126+AH64+AH80+AH96+AH112","v":167000},null,null,null,null,null,"-",null,null,null,"-",null,null,null,null,null,null,null,null,null,null,null,null,null,null,null,null,null,null,null,null,null,null,"その他預金"]
[null,null,null,null,null,null,null,null,null,null,null,null,null,null,null,null,null,null,null,null,null,null,{"$f":"W17+W33+W49+W127+W65+W81+W97+W113","v":8000000},null,null,null,null,null,null,{"$f":"W129/$W$133","v":0.34782608695652173},null,null,null,{"$f":"AH17+AH33+AH49+AH127+AH65+AH81+AH97+AH113","v":2004000},null,null,null,null,null,null,null,null,null,null,null,null,null,null,null,null,null,null,null,null,null,null,null,null,null,null,null,null,null,null,null,null,0]
[null,null,null,null,"保証協会合計",null,null,null,null,null,null,null,null,null,null,null,null,null,null,null,null,null,{"$f":"W18+W34+W50+W66+W82+W98+W114","v":30000000},null,null,null,null,null,null,null,null,null,null,{"$f":"AH18+AH34+AH50+AH66+AH82+AH98+AH114","v":500000},null,null,null,null,null,"-",null,null,null,"-",null,null,null,null,null,null,null,null,null,null,null,null,null,null,null,null,null,null,null,null,null,null,"普通",null,null,null,null,null,"定期",null,null,null,null,null,"合計"]
[null,null,null,null,null,null,null,null,null,null,null,null,null,null,null,null,null,null,null,null,null,null,{"$f":"W19+W35+W51+W67+W83+W99+W115","v":15000000},null,null,null,null,null,null,{"$f":"W131/$W$133","v":0.65217391304347827},null,null,null,{"$f":"AH19+AH35+AH51+AH67+AH83+AH99+AH115","v":6000000},null,null,null,null,null,null,null,null,null,null,null,null,null,null,null,null,null,null,null,null,null,null,null,null,null,null,null,null,null,null,null,null,{"$f":"BO20+BO126+BO58+BO68+BO78+BO88+BO98+BO116","v":{"$error":"#VALUE!"}},null,null,null,null,null,{"$f":"BU20+BU126+BU58+BU68+BU78+BU88+BU98+BU116","v":0},null,null,null,null,null,{"$f":"SUM(BO131:BZ131)","v":{"$error":"#VALUE!"}}]
[null,null,null,null,"総借入額",null,null,null,null,null,null,null,null,null,null,null,null,null,null,null,null,null,{"$f":"W128+W130","v":40000000},null,null,null,null,null,null,null,null,null,null,{"$f":"AH128+AH130","v":667000},null,null,null,null,null,"-",null,null,null,"-",null,null,null,null,null,null,null,null,null,null,null,null,null,null,null,null,null,null,null,null,null,null,{"$f":"BO20+BO48+BO126+BO129","v":0},null,null,null,null,null,{"$f":"BU20+BU48+BU126","v":0},null,null,null,null,null,{"$f":"CA20+CA48+CA126","v":0},null,null,null,null,null,"預金総計"]
[null,null,null,null,null,null,null,null,null,null,null,null,null,null,null,null,null,null,null,null,null,null,{"$f":"W129+W131","v":23000000},null,null,null,null,null,null,{"$f":"W133/$W$133","v":1},null,null,null,{"$f":"AH129+AH131","v":8004000},null,null,null,null,null,null,null,null,null,null,null,null,null,null,null,null,null,null,null,null,null,null,null,null,null,null,null,null,null,null,null,null,{"$f":"BO132/$W$133","v":0},null,null,null,null,null,{"$f":"BU132/$W$133","v":0},null,null,null,null,null,{"$f":"CA132/W133","v":0}]
[]
[null,null,null,null,null,null,null,null,null,null,null,null,null,null,null,null,null,null,null,null,null,null,null,null,null,null,null,null,null,null,null,null," "]

{"sheet":"②銀行別取引推移表","index":1,"n_rows":163,"n_cols":20,"rows_kept":163,"cut":false,"hidden":false,"merged":[[129,1,131,1],[78,0,95,0],[96,0,113,0],[114,0,131,0],[39,1,41,1],[24,0,41,0],[57,1,59,1],[42,0,59,0],[75,1,77,1],[60,0,77,0],[151,0,151,1],[155,0,155,1],[132,0,146,0],[144,1,146,1],[3,17,5,17],[149,0,149,1],[148,0,148,1],[147,0,147,1],[4,15,5,15],[4,14,5,14],[4,13,5,13],[4,12,5,12],[6,0,23,0],[21,1,23,1],[93,1,95,1],[111,1,113,1],[0,0,1,16],[3,16,5,16],[4,11,5,11],[4,10,5,10],[4,9,5,9],[4,8,5,8],[4,7,5,7],[3,4,3,15],[4,4,5,4],[4,5,5,5],[3,0,5,0],[4,6,5,6]]}
["株式会社　○○○○　　　　銀行別残高推移表  (令和〇年〇月～令和〇年〇月）"]
[]
[null,null,null,null,null,null,null,null,null,null,null,null,null,null,null,null,null,"（単位 ： 円）"]
["金融機関","借入期間（月）","当初借入額","元金返済","推移",null,null,null,null,null,null,null,null,null,null,null,"期末合計","来期返済\n総額(予測値)"]
[null,"借入期間（年）","期首残高","支払利息",{"$f":"①借入条件表!$Z$5+1","v":6},{"$f":"IF(E5=12,1,E5+1)","v":7},{"$f":"IF(F5=12,1,F5+1)","v":8},9,10,11,12,1,2,3,4,5]
[null,"保全状況","金利","残高"]
[{"$f":"①借入条件表!E6","v":"Ａ銀行"},{"$f":"①借入条件表!Q6","v":60},{"$f":"①借入条件表!W6","v":10000000},"元金返済",{"$f":"①借入条件表!$AH6","v":167000},{"$f":"IF(E9<=0,0,IF(E9<E7,E9,①借入条件表!$AH6))","v":167000},{"$f":"IF(F9<=0,0,IF(F9<F7,F9,①借入条件表!$AH6))","v":167000},{"$f":"IF(G9<=0,0,IF(G9<G7,G9,①借入条件表!$AH6))","v":167000},{"$f":"IF(H9<=0,0,IF(H9<H7,H9,①借入条件表!$AH6))","v":167000},{"$f":"IF(I9<=0,0,IF(I9<I7,I9,①借入条件表!$AH6))","v":167000},{"$f":"IF(J9<=0,0,IF(J9<J7,J9,①借入条件表!$AH6))","v":167000},{"$f":"IF(K9<=0,0,IF(K9<K7,K9,①借入条件表!$AH6))","v":167000},{"$f":"IF(L9<=0,0,IF(L9<L7,L9,①借入条件表!$AH6))","v":167000},{"$f":"IF(M9<=0,0,IF(M9<M7,M9,①借入条件表!$AH6))","v":167000},{"$f":"IF(N9<=0,0,IF(N9<N7,N9,①借入条件表!$AH6))","v":167000},{"$f":"IF(O9<=0,0,IF(O9<O7,O9,①借入条件表!$AH6))","v":167000},{"$f":"SUM(E7:P7)","v":2004000},{"$f":"IF(P9>Q7,P7*12,P9)","v":2004000},null,{"$f":"IF(B9=\"データなし\",\"〇\",\" \")","v":" "}]
[null,{"$f":"①借入条件表!Q7","v":5},{"$f":"①借入条件表!W7","v":8000000},"利息",{"$f":"C8*C9/12","v":10000},{"$f":"E9*$C9/12","v":9791.25},{"$f":"F9*$C9/12","v":9582.5},9373.75,9165,8956.25,{"$f":"J9*$C9/12","v":8747.5},{"$f":"K9*$C9/12","v":8538.75},8330,8121.25,7912.5,7703.75,{"$f":"SUM(E8:P8)","v":106222.5},{"$f":"P8*12","v":92445},null,{"$f":"IF(B9=\"データなし\",\"〇\",\" \")","v":" "}]
[null,{"$f":"①借入条件表!L6","v":"プロパー"},{"$f":"①借入条件表!AN6+①借入条件表!AR6","v":1.4999999999999999E-2},"残高",{"$f":"C8-E7","v":7833000},{"$f":"E9-F7","v":7666000},{"$f":"F9-G7","v":7499000},7332000,7165000,6998000,6831000,6664000,6497000,6330000,6163000,5996000,{"$f":"P9","v":5996000},{"$f":"IF(P9>Q7,P9-Q7,0)","v":3992000},null,{"$f":"IF(B9=\"データなし\",\"〇\",\" \")","v":" "}]
[null,{"$f":"①借入条件表!Q8","v":60},{"$f":"①借入条件表!W8","v":30000000},"元金返済",{"$f":"①借入条件表!$AH8","v":500000},{"$f":"IF(E12<=0,0,IF(E12<E10,E12,①借入条件表!$AH8))","v":500000},{"$f":"IF(F12<=0,0,IF(F12<F10,F12,①借入条件表!$AH8))","v":500000},{"$f":"IF(G12<=0,0,IF(G12<G10,G12,①借入条件表!$AH8))","v":500000},{"$f":"IF(H12<=0,0,IF(H12<H10,H12,①借入条件表!$AH8))","v":500000},{"$f":"IF(I12<=0,0,IF(I12<I10,I12,①借入条件表!$AH8))","v":500000},{"$f":"IF(J12<=0,0,IF(J12<J10,J12,①借入条件表!$AH8))","v":500000},{"$f":"IF(K12<=0,0,IF(K12<K10,K12,①借入条件表!$AH8))","v":500000},{"$f":"IF(L12<=0,0,IF(L12<L10,L12,①借入条件表!$AH8))","v":500000},{"$f":"IF(M12<=0,0,IF(M12<M10,M12,①借入条件表!$AH8))","v":500000},{"$f":"IF(N12<=0,0,IF(N12<N10,N12,①借入条件表!$AH8))","v":500000},{"$f":"IF(O12<=0,0,IF(O12<O10,O12,①借入条件表!$AH8))","v":500000},{"$f":"SUM(E10:P10)","v":6000000},{"$f":"IF(P12>Q10,P10*12,P12)","v":6000000},null,{"$f":"IF(B12=\"データなし\",\"〇\",\" \")","v":" "}]
[null,{"$f":"①借入条件表!Q9","v":5},{"$f":"①借入条件表!W9","v":15000000},"利息",{"$f":"C11*C12/12","v":15000},{"$f":"E12*$C12/12","v":14500},{"$f":"F12*$C12/12","v":14000},{"$f":"G12*$C12/12","v":13500},{"$f":"H12*$C12/12","v":13000},{"$f":"I12*$C12/12","v":12500},{"$f":"J12*$C12/12","v":12000},{"$f":"K12*$C12/12","v":11500},{"$f":"L12*$C12/12","v":11000},{"$f":"M12*$C12/12","v":10500},{"$f":"N12*$C12/12","v":10000},{"$f":"O12*$C12/12","v":9500},{"$f":"SUM(E11:P11)","v":147000},{"$f":"P11*12","v":114000},null,{"$f":"IF(B12=\"データなし\",\"〇\",\" \")","v":" "}]
[null,{"$f":"①借入条件表!L8","v":"協会"},{"$f":"①借入条件表!AN8+①借入条件表!AR8","v":1.2E-2},"残高",{"$f":"C11-E10","v":14500000},{"$f":"E12-F10","v":14000000},{"$f":"F12-G10","v":13500000},{"$f":"G12-H10","v":13000000},{"$f":"H12-I10","v":12500000},{"$f":"I12-J10","v":12000000},{"$f":"J12-K10","v":11500000},{"$f":"K12-L10","v":11000000},{"$f":"L12-M10","v":10500000},{"$f":"M12-N10","v":10000000},{"$f":"N12-O10","v":9500000},{"$f":"O12-P10","v":9000000},{"$f":"P12","v":9000000},{"$f":"IF(P12>Q10,P12-Q10,0)","v":3000000},null,{"$f":"IF(B12=\"データなし\",\"〇\",\" \")","v":" "}]
[null,{"$f":"①借入条件表!Q10","v":0},{"$f":"①借入条件表!W10","v":0},"元金返済",{"$f":"①借入条件表!$AH10","v":0},{"$f":"IF(E15<=0,0,IF(E15<E13,E15,①借入条件表!$AH10))","v":0},{"$f":"IF(F15<=0,0,IF(F15<F13,F15,①借入条件表!$AH10))","v":0},{"$f":"IF(G15<=0,0,IF(G15<G13,G15,①借入条件表!$AH10))","v":0},{"$f":"IF(H15<=0,0,IF(H15<H13,H15,①借入条件表!$AH10))","v":0},{"$f":"IF(I15<=0,0,IF(I15<I13,I15,①借入条件表!$AH10))","v":0},{"$f":"IF(J15<=0,0,IF(J15<J13,J15,①借入条件表!$AH10))","v":0},{"$f":"IF(K15<=0,0,IF(K15<K13,K15,①借入条件表!$AH10))","v":0},{"$f":"IF(L15<=0,0,IF(L15<L13,L15,①借入条件表!$AH10))","v":0},{"$f":"IF(M15<=0,0,IF(M15<M13,M15,①借入条件表!$AH10))","v":0},{"$f":"IF(N15<=0,0,IF(N15<N13,N15,①借入条件表!$AH10))","v":0},{"$f":"IF(O15<=0,0,IF(O15<O13,O15,①借入条件表!$AH10))","v":0},{"$f":"SUM(E13:P13)","v":0},{"$f":"IF(P15>Q13,P13*12,P15)","v":0},null,{"$f":"IF(B15=\"データなし\",\"〇\",\" \")","v":"〇"}]
[null,{"$f":"①借入条件表!Q11","v":0},{"$f":"①借入条件表!W11","v":0},"利息",{"$f":"C14*C15/12","v":0},{"$f":"E15*$C15/12","v":0},{"$f":"F15*$C15/12","v":0},{"$f":"G15*$C15/12","v":0},{"$f":"H15*$C15/12","v":0},{"$f":"I15*$C15/12","v":0},{"$f":"J15*$C15/12","v":0},{"$f":"K15*$C15/12","v":0},{"$f":"L15*$C15/12","v":0},{"$f":"M15*$C15/12","v":0},{"$f":"N15*$C15/12","v":0},{"$f":"O15*$C15/12","v":0},{"$f":"SUM(E14:P14)","v":0},{"$f":"P14*12","v":0},null,{"$f":"IF(B15=\"データなし\",\"〇\",\" \")","v":"〇"}]
[null,{"$f":"①借入条件表!L10","v":"データなし"},{"$f":"①借入条件表!AN10+①借入条件表!AR10","v":0},"残高",{"$f":"C14-E13","v":0},{"$f":"E15-F13","v":0},{"$f":"F15-G13","v":0},{"$f":"G15-H13","v":0},{"$f":"H15-I13","v":0},{"$f":"I15-J13","v":0},{"$f":"J15-K13","v":0},{"$f":"K15-L13","v":0},{"$f":"L15-M13","v":0},{"$f":"M15-N13","v":0},{"$f":"N15-O13","v":0},{"$f":"O15-P13","v":0},{"$f":"P15","v":0},{"$f":"IF(P15>Q13,P15-Q13,0)","v":0},null,{"$f":"IF(B15=\"データなし\",\"〇\",\" \")","v":"〇"}]
[null,{"$f":"①借入条件表!Q12","v":0},{"$f":"①借入条件表!W12","v":0},"元金返済",{"$f":"①借入条件表!$AH12","v":0},{"$f":"IF(E18<=0,0,IF(E18<E16,E18,①借入条件表!$AH12))","v":0},{"$f":"IF(F18<=0,0,IF(F18<F16,F18,①借入条件表!$AH12))","v":0},{"$f":"IF(G18<=0,0,IF(G18<G16,G18,①借入条件表!$AH12))","v":0},{"$f":"IF(H18<=0,0,IF(H18<H16,H18,①借入条件表!$AH12))","v":0},{"$f":"IF(I18<=0,0,IF(I18<I16,I18,①借入条件表!$AH12))","v":0},{"$f":"IF(J18<=0,0,IF(J18<J16,J18,①借入条件表!$AH12))","v":0},{"$f":"IF(K18<=0,0,IF(K18<K16,K18,①借入条件表!$AH12))","v":0},{"$f":"IF(L18<=0,0,IF(L18<L16,L18,①借入条件表!$AH12))","v":0},{"$f":"IF(M18<=0,0,IF(M18<M16,M18,①借入条件表!$AH12))","v":0},{"$f":"IF(N18<=0,0,IF(N18<N16,N18,①借入条件表!$AH12))","v":0},{"$f":"IF(O18<=0,0,IF(O18<O16,O18,①借入条件表!$AH12))","v":0},{"$f":"SUM(E16:P16)","v":0},{"$f":"IF(P18>Q16,P16*12,P18)","v":0},null,{"$f":"IF(B18=\"データなし\",\"〇\",\" \")","v":"〇"}]
[null,{"$f":"①借入条件表!Q13","v":0},{"$f":"①借入条件表!W13","v":0},"利息",{"$f":"C17*C18/12","v":0},{"$f":"E18*$C18/12","v":0},{"$f":"F18*$C18/12","v":0},{"$f":"G18*$C18/12","v":0},{"$f":"H18*$C18/12","v":0},{"$f":"I18*$C18/12","v":0},{"$f":"J18*$C18/12","v":0},{"$f":"K18*$C18/12","v":0},{"$f":"L18*$C18/12","v":0},{"$f":"M18*$C18/12","v":0},{"$f":"N18*$C18/12","v":0},{"$f":"O18*$C18/12","v":0},{"$f":"SUM(E17:P17)","v":0},{"$f":"P17*12","v":0},null,{"$f":"IF(B18=\"データなし\",\"〇\",\" \")","v":"〇"}]
[null,{"$f":"①借入条件表!L12","v":"データなし"},{"$f":"①借入条件表!AN12+①借入条件表!AR12","v":0},"残高",{"$f":"C17-E16","v":0},{"$f":"E18-F16","v":0},{"$f":"F18-G16","v":0},{"$f":"G18-H16","v":0},{"$f":"H18-I16","v":0},{"$f":"I18-J16","v":0},{"$f":"J18-K16","v":0},{"$f":"K18-L16","v":0},{"$f":"L18-M16","v":0},{"$f":"M18-N16","v":0},{"$f":"N18-O16","v":0},{"$f":"O18-P16","v":0},{"$f":"P18","v":0},{"$f":"IF(P18>Q16,P18-Q16,0)","v":0},null,{"$f":"IF(B18=\"データなし\",\"〇\",\" \")","v":"〇"}]
[null,{"$f":"①借入条件表!Q14","v":0},{"$f":"①借入条件表!W14","v":0},"元金返済",{"$f":"①借入条件表!$AH14","v":0},{"$f":"IF(E21<=0,0,IF(E21<E19,E21,①借入条件表!$AH14))","v":0},{"$f":"IF(F21<=0,0,IF(F21<F19,F21,①借入条件表!$AH14))","v":0},{"$f":"IF(G21<=0,0,IF(G21<G19,G21,①借入条件表!$AH14))","v":0},{"$f":"IF(H21<=0,0,IF(H21<H19,H21,①借入条件表!$AH14))","v":0},{"$f":"IF(I21<=0,0,IF(I21<I19,I21,①借入条件表!$AH14))","v":0},{"$f":"IF(J21<=0,0,IF(J21<J19,J21,①借入条件表!$AH14))","v":0},{"$f":"IF(K21<=0,0,IF(K21<K19,K21,①借入条件表!$AH14))","v":0},{"$f":"IF(L21<=0,0,IF(L21<L19,L21,①借入条件表!$AH14))","v":0},{"$f":"IF(M21<=0,0,IF(M21<M19,M21,①借入条件表!$AH14))","v":0},{"$f":"IF(N21<=0,0,IF(N21<N19,N21,①借入条件表!$AH14))","v":0},{"$f":"IF(O21<=0,0,IF(O21<O19,O21,①借入条件表!$AH14))","v":0},{"$f":"SUM(E19:P19)","v":0},{"$f":"IF(P21>Q19,P19*12,P21)","v":0},null,{"$f":"IF(B21=\"データなし\",\"〇\",\" \")","v":"〇"}]
[null,{"$f":"①借入条件表!Q15","v":0},{"$f":"①借入条件表!W15","v":0},"利息",{"$f":"$C20*$C21/12","v":0},{"$f":"E21*$C21/12","v":0},{"$f":"F21*$C21/12","v":0},0,0,0,0,0,0,0,0,0,{"$f":"SUM(E20:P20)","v":0},{"$f":"P20*12","v":0},null,{"$f":"IF(B21=\"データなし\",\"〇\",\" \")","v":"〇"}]
[null,{"$f":"①借入条件表!L14","v":"データなし"},{"$f":"①借入条件表!AN14+①借入条件表!AR14","v":0},"残高",{"$f":"C20-E19","v":0},{"$f":"E21-F19","v":0},{"$f":"F21-G19","v":0},0,0,0,0,0,0,0,0,0,{"$f":"P21","v":0},{"$f":"IF(P21>Q19,P21-Q19,0)","v":0},null,{"$f":"IF(B21=\"データなし\",\"〇\",\" \")","v":"〇"}]
[null,"小計",{"$f":"C7+C10+C13+C16+C19","v":40000000},"元金返済",{"$f":"E7+E10+E13+E16+E19","v":667000},{"$f":"F7+F10+F13+F16+F19","v":667000},{"$f":"G7+G10+G13+G16+G19","v":667000},667000,667000,667000,667000,667000,667000,667000,667000,{"$f":"P7+P10+P13+P16+P19","v":667000},{"$f":"SUM(E22:P22)","v":8004000},{"$f":"+Q22","v":8004000},null,{"$f":"IF(C23>0,\"\",\"〇 \")","v":""}]
[null,null,{"$f":"C8+C11+C14+C17+C20","v":23000000},"利息",{"$f":"E8+E11+E14+E17+E20","v":25000},{"$f":"F8+F11+F14+F17+F20","v":24291.25},23582.5,22873.75,22165,21456.25,20747.5,20038.75,19330,18621.25,17912.5,{"$f":"P8+P11+P14+P17+P20","v":17203.75},253222.5,{"$f":"Q23","v":253222.5},null,{"$f":"IF(C23>0,\"\",\"〇 \")","v":""}]
[null,null,null,"残高",{"$f":"E9+E12+E15+E18+E21","v":22333000},{"$f":"F9+F12+F15+F18+F21","v":21666000},20999000,20332000,19665000,18998000,18331000,17664000,16997000,16330000,15663000,{"$f":"P9+P12+P15+P18+P21","v":14996000},{"$f":"P24","v":14996000},{"$f":"Q24-R22","v":6992000},null,{"$f":"IF(C23>0,\"\",\"〇 \")","v":""}]
[{"$f":"①借入条件表!E22","v":"Ｂ銀行"},{"$f":"①借入条件表!Q22","v":0},{"$f":"①借入条件表!W22","v":0},"元金返済",{"$f":"①借入条件表!$AH22","v":0},{"$f":"IF(E27<=0,0,IF(E27<E25,E27,①借入条件表!$AH22))","v":0},{"$f":"IF(F27<=0,0,IF(F27<F25,F27,①借入条件表!$AH22))","v":0},{"$f":"IF(G27<=0,0,IF(G27<G25,G27,①借入条件表!$AH22))","v":0},{"$f":"IF(H27<=0,0,IF(H27<H25,H27,①借入条件表!$AH22))","v":0},{"$f":"IF(I27<=0,0,IF(I27<I25,I27,①借入条件表!$AH22))","v":0},{"$f":"IF(J27<=0,0,IF(J27<J25,J27,①借入条件表!$AH22))","v":0},{"$f":"IF(K27<=0,0,IF(K27<K25,K27,①借入条件表!$AH22))","v":0},{"$f":"IF(L27<=0,0,IF(L27<L25,L27,①借入条件表!$AH22))","v":0},{"$f":"IF(M27<=0,0,IF(M27<M25,M27,①借入条件表!$AH22))","v":0},{"$f":"IF(N27<=0,0,IF(N27<N25,N27,①借入条件表!$AH22))","v":0},{"$f":"IF(O27<=0,0,IF(O27<O25,O27,①借入条件表!$AH22))","v":0},{"$f":"SUM(E25:P25)","v":0},{"$f":"IF(P27>Q25,P25*12,P27)","v":0},null,{"$f":"IF(B27=\"データなし\",\"〇\",\" \")","v":"〇"}]
[null,{"$f":"①借入条件表!Q23","v":0},{"$f":"①借入条件表!W23","v":0},"利息",{"$f":"C26*C27/12","v":0},{"$f":"E27*$C27/12","v":0},{"$f":"F27*$C27/12","v":0},{"$f":"G27*$C27/12","v":0},{"$f":"H27*$C27/12","v":0},{"$f":"I27*$C27/12","v":0},{"$f":"J27*$C27/12","v":0},{"$f":"K27*$C27/12","v":0},{"$f":"L27*$C27/12","v":0},{"$f":"M27*$C27/12","v":0},{"$f":"N27*$C27/12","v":0},{"$f":"O27*$C27/12","v":0},{"$f":"SUM(E26:P26)","v":0},{"$f":"P26*12","v":0},null,{"$f":"IF(B27=\"データなし\",\"〇\",\" \")","v":"〇"}]
[null,{"$f":"①借入条件表!L22","v":"データなし"},{"$f":"①借入条件表!AN22+①借入条件表!AR22","v":0},"残高",{"$f":"C26-E25","v":0},{"$f":"E27-F25","v":0},{"$f":"F27-G25","v":0},{"$f":"G27-H25","v":0},{"$f":"H27-I25","v":0},{"$f":"I27-J25","v":0},{"$f":"J27-K25","v":0},{"$f":"K27-L25","v":0},{"$f":"L27-M25","v":0},{"$f":"M27-N25","v":0},{"$f":"N27-O25","v":0},{"$f":"O27-P25","v":0},{"$f":"P27","v":0},{"$f":"IF(P27>Q25,P27-Q25,0)","v":0},null,{"$f":"IF(B27=\"データなし\",\"〇\",\" \")","v":"〇"}]
[null,{"$f":"①借入条件表!Q24","v":0},{"$f":"①借入条件表!W24","v":0},"元金返済",{"$f":"①借入条件表!$AH24","v":0},{"$f":"IF(E30<=0,0,IF(E30<E28,E30,①借入条件表!$AH24))","v":0},{"$f":"IF(F30<=0,0,IF(F30<F28,F30,①借入条件表!$AH24))","v":0},{"$f":"IF(G30<=0,0,IF(G30<G28,G30,①借入条件表!$AH24))","v":0},{"$f":"IF(H30<=0,0,IF(H30<H28,H30,①借入条件表!$AH24))","v":0},{"$f":"IF(I30<=0,0,IF(I30<I28,I30,①借入条件表!$AH24))","v":0},{"$f":"IF(J30<=0,0,IF(J30<J28,J30,①借入条件表!$AH24))","v":0},{"$f":"IF(K30<=0,0,IF(K30<K28,K30,①借入条件表!$AH24))","v":0},{"$f":"IF(L30<=0,0,IF(L30<L28,L30,①借入条件表!$AH24))","v":0},{"$f":"IF(M30<=0,0,IF(M30<M28,M30,①借入条件表!$AH24))","v":0},{"$f":"IF(N30<=0,0,IF(N30<N28,N30,①借入条件表!$AH24))","v":0},{"$f":"IF(O30<=0,0,IF(O30<O28,O30,①借入条件表!$AH24))","v":0},{"$f":"SUM(E28:P28)","v":0},{"$f":"IF(P30>Q28,P28*12,P30)","v":0},null,{"$f":"IF(B30=\"データなし\",\"〇\",\" \")","v":"〇"}]
[null,{"$f":"①借入条件表!Q25","v":0},{"$f":"①借入条件表!W25","v":0},"利息",{"$f":"C29*C30/12","v":0},{"$f":"E30*$C30/12","v":0},{"$f":"F30*$C30/12","v":0},{"$f":"G30*$C30/12","v":0},{"$f":"H30*$C30/12","v":0},{"$f":"I30*$C30/12","v":0},{"$f":"J30*$C30/12","v":0},{"$f":"K30*$C30/12","v":0},{"$f":"L30*$C30/12","v":0},{"$f":"M30*$C30/12","v":0},{"$f":"N30*$C30/12","v":0},{"$f":"O30*$C30/12","v":0},{"$f":"SUM(E29:P29)","v":0},{"$f":"P29*12","v":0},null,{"$f":"IF(B30=\"データなし\",\"〇\",\" \")","v":"〇"}]
[null,{"$f":"①借入条件表!L24","v":"データなし"},{"$f":"①借入条件表!AN24+①借入条件表!AR24","v":0},"残高",{"$f":"C29-E28","v":0},{"$f":"E30-F28","v":0},{"$f":"F30-G28","v":0},{"$f":"G30-H28","v":0},{"$f":"H30-I28","v":0},{"$f":"I30-J28","v":0},{"$f":"J30-K28","v":0},{"$f":"K30-L28","v":0},{"$f":"L30-M28","v":0},{"$f":"M30-N28","v":0},{"$f":"N30-O28","v":0},{"$f":"O30-P28","v":0},{"$f":"P30","v":0},{"$f":"IF(P30>Q28,P30-Q28,0)","v":0},null,{"$f":"IF(B30=\"データなし\",\"〇\",\" \")","v":"〇"}]
[null,{"$f":"①借入条件表!Q26","v":0},{"$f":"①借入条件表!W26","v":0},"元金返済",{"$f":"①借入条件表!$AH26","v":0},{"$f":"IF(E33<=0,0,IF(E33<E31,E33,①借入条件表!$AH26))","v":0},{"$f":"IF(F33<=0,0,IF(F33<F31,F33,①借入条件表!$AH26))","v":0},{"$f":"IF(G33<=0,0,IF(G33<G31,G33,①借入条件表!$AH26))","v":0},{"$f":"IF(H33<=0,0,IF(H33<H31,H33,①借入条件表!$AH26))","v":0},{"$f":"IF(I33<=0,0,IF(I33<I31,I33,①借入条件表!$AH26))","v":0},{"$f":"IF(J33<=0,0,IF(J33<J31,J33,①借入条件表!$AH26))","v":0},{"$f":"IF(K33<=0,0,IF(K33<K31,K33,①借入条件表!$AH26))","v":0},{"$f":"IF(L33<=0,0,IF(L33<L31,L33,①借入条件表!$AH26))","v":0},{"$f":"IF(M33<=0,0,IF(M33<M31,M33,①借入条件表!$AH26))","v":0},{"$f":"IF(N33<=0,0,IF(N33<N31,N33,①借入条件表!$AH26))","v":0},{"$f":"IF(O33<=0,0,IF(O33<O31,O33,①借入条件表!$AH26))","v":0},{"$f":"SUM(E31:P31)","v":0},{"$f":"IF(P33>Q31,P31*12,P33)","v":0},null,{"$f":"IF(B33=\"データなし\",\"〇\",\" \")","v":"〇"}]
[null,{"$f":"①借入条件表!Q27","v":0},{"$f":"①借入条件表!W27","v":0},"利息",{"$f":"C32*C33/12","v":0},{"$f":"E33*$C33/12","v":0},{"$f":"F33*$C33/12","v":0},{"$f":"G33*$C33/12","v":0},{"$f":"H33*$C33/12","v":0},{"$f":"I33*$C33/12","v":0},{"$f":"J33*$C33/12","v":0},{"$f":"K33*$C33/12","v":0},{"$f":"L33*$C33/12","v":0},{"$f":"M33*$C33/12","v":0},{"$f":"N33*$C33/12","v":0},{"$f":"O33*$C33/12","v":0},{"$f":"SUM(E32:P32)","v":0},{"$f":"P32*12","v":0},null,{"$f":"IF(B33=\"データなし\",\"〇\",\" \")","v":"〇"}]
[null,{"$f":"①借入条件表!L26","v":"データなし"},{"$f":"①借入条件表!AN26+①借入条件表!AR26","v":0},"残高",{"$f":"C32-E31","v":0},{"$f":"E33-F31","v":0},{"$f":"F33-G31","v":0},{"$f":"G33-H31","v":0},{"$f":"H33-I31","v":0},{"$f":"I33-J31","v":0},{"$f":"J33-K31","v":0},{"$f":"K33-L31","v":0},{"$f":"L33-M31","v":0},{"$f":"M33-N31","v":0},{"$f":"N33-O31","v":0},{"$f":"O33-P31","v":0},{"$f":"P33","v":0},{"$f":"IF(P33>Q31,P33-Q31,0)","v":0},null,{"$f":"IF(B33=\"データなし\",\"〇\",\" \")","v":"〇"}]
[null,{"$f":"①借入条件表!Q28","v":0},{"$f":"①借入条件表!W28","v":0},"元金返済",{"$f":"①借入条件表!$AH28","v":0},{"$f":"IF(E36<=0,0,IF(E36<E34,E36,①借入条件表!$AH28))","v":0},{"$f":"IF(F36<=0,0,IF(F36<F34,F36,①借入条件表!$AH28))","v":0},{"$f":"IF(G36<=0,0,IF(G36<G34,G36,①借入条件表!$AH28))","v":0},{"$f":"IF(H36<=0,0,IF(H36<H34,H36,①借入条件表!$AH28))","v":0},{"$f":"IF(I36<=0,0,IF(I36<I34,I36,①借入条件表!$AH28))","v":0},{"$f":"IF(J36<=0,0,IF(J36<J34,J36,①借入条件表!$AH28))","v":0},{"$f":"IF(K36<=0,0,IF(K36<K34,K36,①借入条件表!$AH28))","v":0},{"$f":"IF(L36<=0,0,IF(L36<L34,L36,①借入条件表!$AH28))","v":0},{"$f":"IF(M36<=0,0,IF(M36<M34,M36,①借入条件表!$AH28))","v":0},{"$f":"IF(N36<=0,0,IF(N36<N34,N36,①借入条件表!$AH28))","v":0},{"$f":"IF(O36<=0,0,IF(O36<O34,O36,①借入条件表!$AH28))","v":0},{"$f":"SUM(E34:P34)","v":0},{"$f":"IF(P36>Q34,P34*12,P36)","v":0},null,{"$f":"IF(B36=\"データなし\",\"〇\",\" \")","v":"〇"}]
[null,{"$f":"①借入条件表!Q29","v":0},{"$f":"①借入条件表!W29","v":0},"利息",{"$f":"C35*C36/12","v":0},{"$f":"E36*$C36/12","v":0},{"$f":"F36*$C36/12","v":0},{"$f":"G36*$C36/12","v":0},{"$f":"H36*$C36/12","v":0},{"$f":"I36*$C36/12","v":0},{"$f":"J36*$C36/12","v":0},{"$f":"K36*$C36/12","v":0},{"$f":"L36*$C36/12","v":0},{"$f":"M36*$C36/12","v":0},{"$f":"N36*$C36/12","v":0},{"$f":"O36*$C36/12","v":0},{"$f":"SUM(E35:P35)","v":0},{"$f":"P35*12","v":0},null,{"$f":"IF(B36=\"データなし\",\"〇\",\" \")","v":"〇"}]
[null,{"$f":"①借入条件表!L28","v":"データなし"},{"$f":"①借入条件表!AN28+①借入条件表!AR28","v":0},"残高",{"$f":"C35-E34","v":0},{"$f":"E36-F34","v":0},{"$f":"F36-G34","v":0},{"$f":"G36-H34","v":0},{"$f":"H36-I34","v":0},{"$f":"I36-J34","v":0},{"$f":"J36-K34","v":0},{"$f":"K36-L34","v":0},{"$f":"L36-M34","v":0},{"$f":"M36-N34","v":0},{"$f":"N36-O34","v":0},{"$f":"O36-P34","v":0},{"$f":"P36","v":0},{"$f":"IF(P36>Q34,P36-Q34,0)","v":0},null,{"$f":"IF(B36=\"データなし\",\"〇\",\" \")","v":"〇"}]
[null,{"$f":"①借入条件表!Q30","v":0},{"$f":"①借入条件表!W30","v":0},"元金返済",{"$f":"①借入条件表!$AH30","v":0},{"$f":"IF(E39<=0,0,IF(E39<E37,E39,①借入条件表!$AH30))","v":0},{"$f":"IF(F39<=0,0,IF(F39<F37,F39,①借入条件表!$AH30))","v":0},{"$f":"IF(G39<=0,0,IF(G39<G37,G39,①借入条件表!$AH30))","v":0},{"$f":"IF(H39<=0,0,IF(H39<H37,H39,①借入条件表!$AH30))","v":0},{"$f":"IF(I39<=0,0,IF(I39<I37,I39,①借入条件表!$AH30))","v":0},{"$f":"IF(J39<=0,0,IF(J39<J37,J39,①借入条件表!$AH30))","v":0},{"$f":"IF(K39<=0,0,IF(K39<K37,K39,①借入条件表!$AH30))","v":0},{"$f":"IF(L39<=0,0,IF(L39<L37,L39,①借入条件表!$AH30))","v":0},{"$f":"IF(M39<=0,0,IF(M39<M37,M39,①借入条件表!$AH30))","v":0},{"$f":"IF(N39<=0,0,IF(N39<N37,N39,①借入条件表!$AH30))","v":0},{"$f":"IF(O39<=0,0,IF(O39<O37,O39,①借入条件表!$AH30))","v":0},{"$f":"SUM(E37:P37)","v":0},{"$f":"IF(P39>Q37,P37*12,P39)","v":0},null,{"$f":"IF(B39=\"データなし\",\"〇\",\" \")","v":"〇"}]
[null,{"$f":"①借入条件表!Q31","v":0},{"$f":"①借入条件表!W31","v":0},"利息",{"$f":"$C38*$C39/12","v":0},{"$f":"E39*$C39/12","v":0},{"$f":"F39*$C39/12","v":0},{"$f":"G39*$C39/12","v":0},{"$f":"H39*$C39/12","v":0},{"$f":"I39*$C39/12","v":0},{"$f":"J39*$C39/12","v":0},{"$f":"K39*$C39/12","v":0},{"$f":"L39*$C39/12","v":0},{"$f":"M39*$C39/12","v":0},{"$f":"N39*$C39/12","v":0},{"$f":"O39*$C39/12","v":0},{"$f":"SUM(E38:P38)","v":0},{"$f":"P38*12","v":0},null,{"$f":"IF(B39=\"データなし\",\"〇\",\" \")","v":"〇"}]
[null,{"$f":"①借入条件表!L30","v":"データなし"},{"$f":"①借入条件表!AN30+①借入条件表!AR30","v":0},"残高",{"$f":"C38-E37","v":0},{"$f":"E39-F37","v":0},{"$f":"F39-G37","v":0},{"$f":"G39-H37","v":0},{"$f":"H39-I37","v":0},{"$f":"I39-J37","v":0},{"$f":"J39-K37","v":0},{"$f":"K39-L37","v":0},{"$f":"L39-M37","v":0},{"$f":"M39-N37","v":0},{"$f":"N39-O37","v":0},{"$f":"O39-P37","v":0},{"$f":"P39","v":0},{"$f":"IF(P39>Q37,P39-Q37,0)","v":0},null,{"$f":"IF(B39=\"データなし\",\"〇\",\" \")","v":"〇"}]
[null,"小計",{"$f":"C25+C28+C31+C34+C37","v":0},"元金返済",{"$f":"E25+E28+E31+E34+E37","v":0},{"$f":"F25+F28+F31+F34+F37","v":0},{"$f":"G25+G28+G31+G34+G37","v":0},0,0,0,0,0,0,0,0,{"$f":"P25+P28+P31+P34+P37","v":0},{"$f":"SUM(E40:P40)","v":0},{"$f":"+Q40","v":0},null,{"$f":"IF(C41>0,\"\",\"〇 \")","v":"〇 "}]
[null,null,{"$f":"C26+C29+C32+C35+C38","v":0},"利息",{"$f":"E26+E29+E32+E35+E38","v":0},{"$f":"F26+F29+F32+F35+F38","v":0},0,0,0,0,0,0,0,0,0,{"$f":"P26+P29+P32+P35+P38","v":0},0,{"$f":"Q41","v":0},null,{"$f":"IF(C41>0,\"\",\"〇 \")","v":"〇 "}]
[null,null,null,"残高",{"$f":"E27+E30+E33+E36+E39","v":0},{"$f":"F27+F30+F33+F36+F39","v":0},0,0,0,0,0,0,0,0,0,{"$f":"P27+P30+P33+P36+P39","v":0},{"$f":"P42","v":0},{"$f":"Q42-R40","v":0},null,{"$f":"IF(C41>0,\"\",\"〇 \")","v":"〇 "}]
[{"$f":"①借入条件表!E38","v":0},{"$f":"①借入条件表!Q38","v":0},{"$f":"①借入条件表!W38","v":0},"元金返済",{"$f":"①借入条件表!$AH38","v":0},{"$f":"IF(E45<=0,0,IF(E45<E43,E45,①借入条件表!$AH38))","v":0},{"$f":"IF(F45<=0,0,IF(F45<F43,F45,①借入条件表!$AH38))","v":0},{"$f":"IF(G45<=0,0,IF(G45<G43,G45,①借入条件表!$AH38))","v":0},{"$f":"IF(H45<=0,0,IF(H45<H43,H45,①借入条件表!$AH38))","v":0},{"$f":"IF(I45<=0,0,IF(I45<I43,I45,①借入条件表!$AH38))","v":0},{"$f":"IF(J45<=0,0,IF(J45<J43,J45,①借入条件表!$AH38))","v":0},{"$f":"IF(K45<=0,0,IF(K45<K43,K45,①借入条件表!$AH38))","v":0},{"$f":"IF(L45<=0,0,IF(L45<L43,L45,①借入条件表!$AH38))","v":0},{"$f":"IF(M45<=0,0,IF(M45<M43,M45,①借入条件表!$AH38))","v":0},{"$f":"IF(N45<=0,0,IF(N45<N43,N45,①借入条件表!$AH38))","v":0},{"$f":"IF(O45<=0,0,IF(O45<O43,O45,①借入条件表!$AH38))","v":0},{"$f":"SUM(E43:P43)","v":0},{"$f":"IF(P45>Q43,P43*12,P45)","v":0},null,{"$f":"IF(B45=\"データなし\",\"〇\",\" \")","v":"〇"}]
[null,{"$f":"①借入条件表!Q39","v":0},{"$f":"①借入条件表!W39","v":0},"利息",{"$f":"C44*C45/12","v":0},{"$f":"E45*$C45/12","v":0},{"$f":"F45*$C45/12","v":0},{"$f":"G45*$C45/12","v":0},{"$f":"H45*$C45/12","v":0},{"$f":"I45*$C45/12","v":0},{"$f":"J45*$C45/12","v":0},{"$f":"K45*$C45/12","v":0},{"$f":"L45*$C45/12","v":0},{"$f":"M45*$C45/12","v":0},{"$f":"N45*$C45/12","v":0},{"$f":"O45*$C45/12","v":0},{"$f":"SUM(E44:P44)","v":0},{"$f":"P44*12","v":0},null,{"$f":"IF(B45=\"データなし\",\"〇\",\" \")","v":"〇"}]
[null,{"$f":"①借入条件表!L38","v":"データなし"},{"$f":"①借入条件表!AN38+①借入条件表!AR38","v":0},"残高",{"$f":"C44-E43","v":0},{"$f":"E45-F43","v":0},{"$f":"F45-G43","v":0},{"$f":"G45-H43","v":0},{"$f":"H45-I43","v":0},{"$f":"I45-J43","v":0},{"$f":"J45-K43","v":0},{"$f":"K45-L43","v":0},{"$f":"L45-M43","v":0},{"$f":"M45-N43","v":0},{"$f":"N45-O43","v":0},{"$f":"O45-P43","v":0},{"$f":"P45","v":0},{"$f":"IF(P45>Q43,P45-Q43,0)","v":0},null,{"$f":"IF(B45=\"データなし\",\"〇\",\" \")","v":"〇"}]
[null,{"$f":"①借入条件表!Q40","v":0},{"$f":"①借入条件表!W40","v":0},"元金返済",{"$f":"①借入条件表!$AH40","v":0},{"$f":"IF(E48<=0,0,IF(E48<E46,E48,①借入条件表!$AH40))","v":0},{"$f":"IF(F48<=0,0,IF(F48<F46,F48,①借入条件表!$AH40))","v":0},{"$f":"IF(G48<=0,0,IF(G48<G46,G48,①借入条件表!$AH40))","v":0},{"$f":"IF(H48<=0,0,IF(H48<H46,H48,①借入条件表!$AH40))","v":0},{"$f":"IF(I48<=0,0,IF(I48<I46,I48,①借入条件表!$AH40))","v":0},{"$f":"IF(J48<=0,0,IF(J48<J46,J48,①借入条件表!$AH40))","v":0},{"$f":"IF(K48<=0,0,IF(K48<K46,K48,①借入条件表!$AH40))","v":0},{"$f":"IF(L48<=0,0,IF(L48<L46,L48,①借入条件表!$AH40))","v":0},{"$f":"IF(M48<=0,0,IF(M48<M46,M48,①借入条件表!$AH40))","v":0},{"$f":"IF(N48<=0,0,IF(N48<N46,N48,①借入条件表!$AH40))","v":0},{"$f":"IF(O48<=0,0,IF(O48<O46,O48,①借入条件表!$AH40))","v":0},{"$f":"SUM(E46:P46)","v":0},{"$f":"IF(P48>Q46,P46*12,P48)","v":0},null,{"$f":"IF(B48=\"データなし\",\"〇\",\" \")","v":"〇"}]
[null,{"$f":"①借入条件表!Q41","v":0},{"$f":"①借入条件表!W41","v":0},"利息",{"$f":"C47*C48/12","v":0},{"$f":"E48*$C48/12","v":0},{"$f":"F48*$C48/12","v":0},{"$f":"G48*$C48/12","v":0},{"$f":"H48*$C48/12","v":0},{"$f":"I48*$C48/12","v":0},{"$f":"J48*$C48/12","v":0},{"$f":"K48*$C48/12","v":0},{"$f":"L48*$C48/12","v":0},{"$f":"M48*$C48/12","v":0},{"$f":"N48*$C48/12","v":0},{"$f":"O48*$C48/12","v":0},{"$f":"SUM(E47:P47)","v":0},{"$f":"P47*12","v":0},null,{"$f":"IF(B48=\"データなし\",\"〇\",\" \")","v":"〇"}]
[null,{"$f":"①借入条件表!L40","v":"データなし"},{"$f":"①借入条件表!AN40+①借入条件表!AR40","v":0},"残高",{"$f":"C47-E46","v":0},{"$f":"E48-F46","v":0},{"$f":"F48-G46","v":0},{"$f":"G48-H46","v":0},{"$f":"H48-I46","v":0},{"$f":"I48-J46","v":0},{"$f":"J48-K46","v":0},{"$f":"K48-L46","v":0},{"$f":"L48-M46","v":0},{"$f":"M48-N46","v":0},{"$f":"N48-O46","v":0},{"$f":"O48-P46","v":0},{"$f":"P48","v":0},{"$f":"IF(P48>Q46,P48-Q46,0)","v":0},null,{"$f":"IF(B48=\"データなし\",\"〇\",\" \")","v":"〇"}]
[null,{"$f":"①借入条件表!Q42","v":0},{"$f":"①借入条件表!W42","v":0},"元金返済",{"$f":"①借入条件表!$AH42","v":0},{"$f":"IF(E51<=0,0,IF(E51<E49,E51,①借入条件表!$AH42))","v":0},{"$f":"IF(F51<=0,0,IF(F51<F49,F51,①借入条件表!$AH42))","v":0},{"$f":"IF(G51<=0,0,IF(G51<G49,G51,①借入条件表!$AH42))","v":0},{"$f":"IF(H51<=0,0,IF(H51<H49,H51,①借入条件表!$AH42))","v":0},{"$f":"IF(I51<=0,0,IF(I51<I49,I51,①借入条件表!$AH42))","v":0},{"$f":"IF(J51<=0,0,IF(J51<J49,J51,①借入条件表!$AH42))","v":0},{"$f":"IF(K51<=0,0,IF(K51<K49,K51,①借入条件表!$AH42))","v":0},{"$f":"IF(L51<=0,0,IF(L51<L49,L51,①借入条件表!$AH42))","v":0},{"$f":"IF(M51<=0,0,IF(M51<M49,M51,①借入条件表!$AH42))","v":0},{"$f":"IF(N51<=0,0,IF(N51<N49,N51,①借入条件表!$AH42))","v":0},{"$f":"IF(O51<=0,0,IF(O51<O49,O51,①借入条件表!$AH42))","v":0},{"$f":"SUM(E49:P49)","v":0},{"$f":"IF(P51>Q49,P49*12,P51)","v":0},null,{"$f":"IF(B51=\"データなし\",\"〇\",\" \")","v":"〇"}]
[null,{"$f":"①借入条件表!Q43","v":0},{"$f":"①借入条件表!W43","v":0},"利息",{"$f":"C50*C51/12","v":0},{"$f":"E51*$C51/12","v":0},{"$f":"F51*$C51/12","v":0},{"$f":"G51*$C51/12","v":0},{"$f":"H51*$C51/12","v":0},{"$f":"I51*$C51/12","v":0},{"$f":"J51*$C51/12","v":0},{"$f":"K51*$C51/12","v":0},{"$f":"L51*$C51/12","v":0},{"$f":"M51*$C51/12","v":0},{"$f":"N51*$C51/12","v":0},{"$f":"O51*$C51/12","v":0},{"$f":"SUM(E50:P50)","v":0},{"$f":"P50*12","v":0},null,{"$f":"IF(B51=\"データなし\",\"〇\",\" \")","v":"〇"}]
[null,{"$f":"①借入条件表!L42","v":"データなし"},{"$f":"①借入条件表!AN42+①借入条件表!AR42","v":0},"残高",{"$f":"C50-E49","v":0},{"$f":"E51-F49","v":0},{"$f":"F51-G49","v":0},{"$f":"G51-H49","v":0},{"$f":"H51-I49","v":0},{"$f":"I51-J49","v":0},{"$f":"J51-K49","v":0},{"$f":"K51-L49","v":0},{"$f":"L51-M49","v":0},{"$f":"M51-N49","v":0},{"$f":"N51-O49","v":0},{"$f":"O51-P49","v":0},{"$f":"P51","v":0},{"$f":"IF(P51>Q49,P51-Q49,0)","v":0},null,{"$f":"IF(B51=\"データなし\",\"〇\",\" \")","v":"〇"}]
[null,{"$f":"①借入条件表!Q44","v":0},{"$f":"①借入条件表!W44","v":0},"元金返済",{"$f":"①借入条件表!$AH44","v":0},{"$f":"IF(E54<=0,0,IF(E54<E52,E54,①借入条件表!$AH44))","v":0},{"$f":"IF(F54<=0,0,IF(F54<F52,F54,①借入条件表!$AH44))","v":0},{"$f":"IF(G54<=0,0,IF(G54<G52,G54,①借入条件表!$AH44))","v":0},{"$f":"IF(H54<=0,0,IF(H54<H52,H54,①借入条件表!$AH44))","v":0},{"$f":"IF(I54<=0,0,IF(I54<I52,I54,①借入条件表!$AH44))","v":0},{"$f":"IF(J54<=0,0,IF(J54<J52,J54,①借入条件表!$AH44))","v":0},{"$f":"IF(K54<=0,0,IF(K54<K52,K54,①借入条件表!$AH44))","v":0},{"$f":"IF(L54<=0,0,IF(L54<L52,L54,①借入条件表!$AH44))","v":0},{"$f":"IF(M54<=0,0,IF(M54<M52,M54,①借入条件表!$AH44))","v":0},{"$f":"IF(N54<=0,0,IF(N54<N52,N54,①借入条件表!$AH44))","v":0},{"$f":"IF(O54<=0,0,IF(O54<O52,O54,①借入条件表!$AH44))","v":0},{"$f":"SUM(E52:P52)","v":0},{"$f":"IF(P54>Q52,P52*12,P54)","v":0},null,{"$f":"IF(B54=\"データなし\",\"〇\",\" \")","v":"〇"}]
[null,{"$f":"①借入条件表!Q45","v":0},{"$f":"①借入条件表!W45","v":0},"利息",{"$f":"C53*C54/12","v":0},{"$f":"E54*$C54/12","v":0},{"$f":"F54*$C54/12","v":0},{"$f":"G54*$C54/12","v":0},{"$f":"H54*$C54/12","v":0},{"$f":"I54*$C54/12","v":0},{"$f":"J54*$C54/12","v":0},{"$f":"K54*$C54/12","v":0},{"$f":"L54*$C54/12","v":0},{"$f":"M54*$C54/12","v":0},{"$f":"N54*$C54/12","v":0},{"$f":"O54*$C54/12","v":0},{"$f":"SUM(E53:P53)","v":0},{"$f":"P53*12","v":0},null,{"$f":"IF(B54=\"データなし\",\"〇\",\" \")","v":"〇"}]
[null,{"$f":"①借入条件表!L44","v":"データなし"},{"$f":"①借入条件表!AN44+①借入条件表!AR44","v":0},"残高",{"$f":"C53-E52","v":0},{"$f":"E54-F52","v":0},{"$f":"F54-G52","v":0},{"$f":"G54-H52","v":0},{"$f":"H54-I52","v":0},{"$f":"I54-J52","v":0},{"$f":"J54-K52","v":0},{"$f":"K54-L52","v":0},{"$f":"L54-M52","v":0},{"$f":"M54-N52","v":0},{"$f":"N54-O52","v":0},{"$f":"O54-P52","v":0},{"$f":"P54","v":0},{"$f":"IF(P54>Q52,P54-Q52,0)","v":0},null,{"$f":"IF(B54=\"データなし\",\"〇\",\" \")","v":"〇"}]
[null,{"$f":"①借入条件表!Q46","v":0},{"$f":"①借入条件表!W46","v":0},"元金返済",{"$f":"①借入条件表!$AH46","v":0},{"$f":"IF(E57<=0,0,IF(E57<E55,E57,①借入条件表!$AH46))","v":0},{"$f":"IF(F57<=0,0,IF(F57<F55,F57,①借入条件表!$AH46))","v":0},{"$f":"IF(G57<=0,0,IF(G57<G55,G57,①借入条件表!$AH46))","v":0},{"$f":"IF(H57<=0,0,IF(H57<H55,H57,①借入条件表!$AH46))","v":0},{"$f":"IF(I57<=0,0,IF(I57<I55,I57,①借入条件表!$AH46))","v":0},{"$f":"IF(J57<=0,0,IF(J57<J55,J57,①借入条件表!$AH46))","v":0},{"$f":"IF(K57<=0,0,IF(K57<K55,K57,①借入条件表!$AH46))","v":0},{"$f":"IF(L57<=0,0,IF(L57<L55,L57,①借入条件表!$AH46))","v":0},{"$f":"IF(M57<=0,0,IF(M57<M55,M57,①借入条件表!$AH46))","v":0},{"$f":"IF(N57<=0,0,IF(N57<N55,N57,①借入条件表!$AH46))","v":0},{"$f":"IF(O57<=0,0,IF(O57<O55,O57,①借入条件表!$AH46))","v":0},{"$f":"SUM(E55:P55)","v":0},{"$f":"IF(P57>Q55,P55*12,P57)","v":0},null,{"$f":"IF(B57=\"データなし\",\"〇\",\" \")","v":"〇"}]
[null,{"$f":"①借入条件表!Q47","v":0},{"$f":"①借入条件表!W47","v":0},"利息",{"$f":"$C56*$C57/12","v":0},{"$f":"E57*$C57/12","v":0},{"$f":"F57*$C57/12","v":0},{"$f":"G57*$C57/12","v":0},{"$f":"H57*$C57/12","v":0},{"$f":"I57*$C57/12","v":0},{"$f":"J57*$C57/12","v":0},{"$f":"K57*$C57/12","v":0},{"$f":"L57*$C57/12","v":0},{"$f":"M57*$C57/12","v":0},{"$f":"N57*$C57/12","v":0},{"$f":"O57*$C57/12","v":0},{"$f":"SUM(E56:P56)","v":0},{"$f":"P56*12","v":0},null,{"$f":"IF(B57=\"データなし\",\"〇\",\" \")","v":"〇"}]
[null,{"$f":"①借入条件表!L46","v":"データなし"},{"$f":"①借入条件表!AN46+①借入条件表!AR46","v":0},"残高",{"$f":"C56-E55","v":0},{"$f":"E57-F55","v":0},{"$f":"F57-G55","v":0},{"$f":"G57-H55","v":0},{"$f":"H57-I55","v":0},{"$f":"I57-J55","v":0},{"$f":"J57-K55","v":0},{"$f":"K57-L55","v":0},{"$f":"L57-M55","v":0},{"$f":"M57-N55","v":0},{"$f":"N57-O55","v":0},{"$f":"O57-P55","v":0},{"$f":"P57","v":0},{"$f":"IF(P57>Q55,P57-Q55,0)","v":0},null,{"$f":"IF(B57=\"データなし\",\"〇\",\" \")","v":"〇"}]
[null,"小計",{"$f":"C43+C46+C49+C52+C55","v":0},"元金返済",{"$f":"E43+E46+E49+E52+E55","v":0},{"$f":"F43+F46+F49+F52+F55","v":0},{"$f":"G43+G46+G49+G52+G55","v":0},0,0,0,0,0,0,0,0,{"$f":"P43+P46+P49+P52+P55","v":0},{"$f":"SUM(E58:P58)","v":0},{"$f":"+Q58","v":0},null,{"$f":"IF(C59>0,\"\",\"〇 \")","v":"〇 "}]
[null,null,{"$f":"C44+C47+C50+C53+C56","v":0},"利息",{"$f":"E44+E47+E50+E53+E56","v":0},{"$f":"F44+F47+F50+F53+F56","v":0},0,0,0,0,0,0,0,0,0,{"$f":"P44+P47+P50+P53+P56","v":0},0,{"$f":"Q59","v":0},null,{"$f":"IF(C59>0,\"\",\"〇 \")","v":"〇 "}]
[null,null,null,"残高",{"$f":"E45+E48+E51+E54+E57","v":0},{"$f":"F45+F48+F51+F54+F57","v":0},0,0,0,0,0,0,0,0,0,{"$f":"P45+P48+P51+P54+P57","v":0},{"$f":"P60","v":0},{"$f":"Q60-R58","v":0},null,{"$f":"IF(C59>0,\"\",\"〇 \")","v":"〇 "}]
[{"$f":"①借入条件表!E54","v":0},{"$f":"①借入条件表!Q54","v":0},{"$f":"①借入条件表!W54","v":0},"元金返済",{"$f":"①借入条件表!$AH54","v":0},{"$f":"IF(E63<=0,0,IF(E63<E61,E63,①借入条件表!$AH54))","v":0},{"$f":"IF(F63<=0,0,IF(F63<F61,F63,①借入条件表!$AH54))","v":0},{"$f":"IF(G63<=0,0,IF(G63<G61,G63,①借入条件表!$AH54))","v":0},{"$f":"IF(H63<=0,0,IF(H63<H61,H63,①借入条件表!$AH54))","v":0},{"$f":"IF(I63<=0,0,IF(I63<I61,I63,①借入条件表!$AH54))","v":0},{"$f":"IF(J63<=0,0,IF(J63<J61,J63,①借入条件表!$AH54))","v":0},{"$f":"IF(K63<=0,0,IF(K63<K61,K63,①借入条件表!$AH54))","v":0},{"$f":"IF(L63<=0,0,IF(L63<L61,L63,①借入条件表!$AH54))","v":0},{"$f":"IF(M63<=0,0,IF(M63<M61,M63,①借入条件表!$AH54))","v":0},{"$f":"IF(N63<=0,0,IF(N63<N61,N63,①借入条件表!$AH54))","v":0},{"$f":"IF(O63<=0,0,IF(O63<O61,O63,①借入条件表!$AH54))","v":0},{"$f":"SUM(E61:P61)","v":0},{"$f":"IF(P63>Q61,P61*12,P63)","v":0},null,{"$f":"IF(B63=\"データなし\",\"〇\",\" \")","v":"〇"}]
[null,{"$f":"①借入条件表!Q55","v":0},{"$f":"①借入条件表!W55","v":0},"利息",{"$f":"C62*C63/12","v":0},{"$f":"E63*$C63/12","v":0},{"$f":"F63*$C63/12","v":0},{"$f":"G63*$C63/12","v":0},{"$f":"H63*$C63/12","v":0},{"$f":"I63*$C63/12","v":0},{"$f":"J63*$C63/12","v":0},{"$f":"K63*$C63/12","v":0},{"$f":"L63*$C63/12","v":0},{"$f":"M63*$C63/12","v":0},{"$f":"N63*$C63/12","v":0},{"$f":"O63*$C63/12","v":0},{"$f":"SUM(E62:P62)","v":0},{"$f":"P62*12","v":0},null,{"$f":"IF(B63=\"データなし\",\"〇\",\" \")","v":"〇"}]
[null,{"$f":"①借入条件表!L54","v":"データなし"},{"$f":"①借入条件表!AN54+①借入条件表!AR54","v":0},"残高",{"$f":"C62-E61","v":0},{"$f":"E63-F61","v":0},{"$f":"F63-G61","v":0},{"$f":"G63-H61","v":0},{"$f":"H63-I61","v":0},{"$f":"I63-J61","v":0},{"$f":"J63-K61","v":0},{"$f":"K63-L61","v":0},{"$f":"L63-M61","v":0},{"$f":"M63-N61","v":0},{"$f":"N63-O61","v":0},{"$f":"O63-P61","v":0},{"$f":"P63","v":0},{"$f":"IF(P63>Q61,P63-Q61,0)","v":0},null,{"$f":"IF(B63=\"データなし\",\"〇\",\" \")","v":"〇"}]
[null,{"$f":"①借入条件表!Q56","v":0},{"$f":"①借入条件表!W56","v":0},"元金返済",{"$f":"①借入条件表!$AH56","v":0},{"$f":"IF(E66<=0,0,IF(E66<E64,E66,①借入条件表!$AH56))","v":0},{"$f":"IF(F66<=0,0,IF(F66<F64,F66,①借入条件表!$AH56))","v":0},{"$f":"IF(G66<=0,0,IF(G66<G64,G66,①借入条件表!$AH56))","v":0},{"$f":"IF(H66<=0,0,IF(H66<H64,H66,①借入条件表!$AH56))","v":0},{"$f":"IF(I66<=0,0,IF(I66<I64,I66,①借入条件表!$AH56))","v":0},{"$f":"IF(J66<=0,0,IF(J66<J64,J66,①借入条件表!$AH56))","v":0},{"$f":"IF(K66<=0,0,IF(K66<K64,K66,①借入条件表!$AH56))","v":0},{"$f":"IF(L66<=0,0,IF(L66<L64,L66,①借入条件表!$AH56))","v":0},{"$f":"IF(M66<=0,0,IF(M66<M64,M66,①借入条件表!$AH56))","v":0},{"$f":"IF(N66<=0,0,IF(N66<N64,N66,①借入条件表!$AH56))","v":0},{"$f":"IF(O66<=0,0,IF(O66<O64,O66,①借入条件表!$AH56))","v":0},{"$f":"SUM(E64:P64)","v":0},{"$f":"IF(P66>Q64,P64*12,P66)","v":0},null,{"$f":"IF(B66=\"データなし\",\"〇\",\" \")","v":"〇"}]
[null,{"$f":"①借入条件表!Q57","v":0},{"$f":"①借入条件表!W57","v":0},"利息",{"$f":"C65*C66/12","v":0},{"$f":"E66*$C66/12","v":0},{"$f":"F66*$C66/12","v":0},{"$f":"G66*$C66/12","v":0},{"$f":"H66*$C66/12","v":0},{"$f":"I66*$C66/12","v":0},{"$f":"J66*$C66/12","v":0},{"$f":"K66*$C66/12","v":0},{"$f":"L66*$C66/12","v":0},{"$f":"M66*$C66/12","v":0},{"$f":"N66*$C66/12","v":0},{"$f":"O66*$C66/12","v":0},{"$f":"SUM(E65:P65)","v":0},{"$f":"P65*12","v":0},null,{"$f":"IF(B66=\"データなし\",\"〇\",\" \")","v":"〇"}]
[null,{"$f":"①借入条件表!L56","v":"データなし"},{"$f":"①借入条件表!AN56+①借入条件表!AR56","v":0},"残高",{"$f":"C65-E64","v":0},{"$f":"E66-F64","v":0},{"$f":"F66-G64","v":0},{"$f":"G66-H64","v":0},{"$f":"H66-I64","v":0},{"$f":"I66-J64","v":0},{"$f":"J66-K64","v":0},{"$f":"K66-L64","v":0},{"$f":"L66-M64","v":0},{"$f":"M66-N64","v":0},{"$f":"N66-O64","v":0},{"$f":"O66-P64","v":0},{"$f":"P66","v":0},{"$f":"IF(P66>Q64,P66-Q64,0)","v":0},null,{"$f":"IF(B66=\"データなし\",\"〇\",\" \")","v":"〇"}]
[null,{"$f":"①借入条件表!Q58","v":0},{"$f":"①借入条件表!W58","v":0},"元金返済",{"$f":"①借入条件表!$AH58","v":0},{"$f":"IF(E69<=0,0,IF(E69<E67,E69,①借入条件表!$AH58))","v":0},{"$f":"IF(F69<=0,0,IF(F69<F67,F69,①借入条件表!$AH58))","v":0},{"$f":"IF(G69<=0,0,IF(G69<G67,G69,①借入条件表!$AH58))","v":0},{"$f":"IF(H69<=0,0,IF(H69<H67,H69,①借入条件表!$AH58))","v":0},{"$f":"IF(I69<=0,0,IF(I69<I67,I69,①借入条件表!$AH58))","v":0},{"$f":"IF(J69<=0,0,IF(J69<J67,J69,①借入条件表!$AH58))","v":0},{"$f":"IF(K69<=0,0,IF(K69<K67,K69,①借入条件表!$AH58))","v":0},{"$f":"IF(L69<=0,0,IF(L69<L67,L69,①借入条件表!$AH58))","v":0},{"$f":"IF(M69<=0,0,IF(M69<M67,M69,①借入条件表!$AH58))","v":0},{"$f":"IF(N69<=0,0,IF(N69<N67,N69,①借入条件表!$AH58))","v":0},{"$f":"IF(O69<=0,0,IF(O69<O67,O69,①借入条件表!$AH58))","v":0},{"$f":"SUM(E67:P67)","v":0},{"$f":"IF(P69>Q67,P67*12,P69)","v":0},null,{"$f":"IF(B69=\"データなし\",\"〇\",\" \")","v":"〇"}]
[null,{"$f":"①借入条件表!Q59","v":0},{"$f":"①借入条件表!W59","v":0},"利息",{"$f":"C68*C69/12","v":0},{"$f":"E69*$C69/12","v":0},{"$f":"F69*$C69/12","v":0},{"$f":"G69*$C69/12","v":0},{"$f":"H69*$C69/12","v":0},{"$f":"I69*$C69/12","v":0},{"$f":"J69*$C69/12","v":0},{"$f":"K69*$C69/12","v":0},{"$f":"L69*$C69/12","v":0},{"$f":"M69*$C69/12","v":0},{"$f":"N69*$C69/12","v":0},{"$f":"O69*$C69/12","v":0},{"$f":"SUM(E68:P68)","v":0},{"$f":"P68*12","v":0},null,{"$f":"IF(B69=\"データなし\",\"〇\",\" \")","v":"〇"}]
[null,{"$f":"①借入条件表!L58","v":"データなし"},{"$f":"①借入条件表!AN58+①借入条件表!AR58","v":0},"残高",{"$f":"C68-E67","v":0},{"$f":"E69-F67","v":0},{"$f":"F69-G67","v":0},{"$f":"G69-H67","v":0},{"$f":"H69-I67","v":0},{"$f":"I69-J67","v":0},{"$f":"J69-K67","v":0},{"$f":"K69-L67","v":0},{"$f":"L69-M67","v":0},{"$f":"M69-N67","v":0},{"$f":"N69-O67","v":0},{"$f":"O69-P67","v":0},{"$f":"P69","v":0},{"$f":"IF(P69>Q67,P69-Q67,0)","v":0},null,{"$f":"IF(B69=\"データなし\",\"〇\",\" \")","v":"〇"}]
[null,{"$f":"①借入条件表!Q60","v":0},{"$f":"①借入条件表!W60","v":0},"元金返済",{"$f":"①借入条件表!$AH60","v":0},{"$f":"IF(E72<=0,0,IF(E72<E70,E72,①借入条件表!$AH60))","v":0},{"$f":"IF(F72<=0,0,IF(F72<F70,F72,①借入条件表!$AH60))","v":0},{"$f":"IF(G72<=0,0,IF(G72<G70,G72,①借入条件表!$AH60))","v":0},{"$f":"IF(H72<=0,0,IF(H72<H70,H72,①借入条件表!$AH60))","v":0},{"$f":"IF(I72<=0,0,IF(I72<I70,I72,①借入条件表!$AH60))","v":0},{"$f":"IF(J72<=0,0,IF(J72<J70,J72,①借入条件表!$AH60))","v":0},{"$f":"IF(K72<=0,0,IF(K72<K70,K72,①借入条件表!$AH60))","v":0},{"$f":"IF(L72<=0,0,IF(L72<L70,L72,①借入条件表!$AH60))","v":0},{"$f":"IF(M72<=0,0,IF(M72<M70,M72,①借入条件表!$AH60))","v":0},{"$f":"IF(N72<=0,0,IF(N72<N70,N72,①借入条件表!$AH60))","v":0},{"$f":"IF(O72<=0,0,IF(O72<O70,O72,①借入条件表!$AH60))","v":0},{"$f":"SUM(E70:P70)","v":0},{"$f":"IF(P72>Q70,P70*12,P72)","v":0},null,{"$f":"IF(B72=\"データなし\",\"〇\",\" \")","v":"〇"}]
[null,{"$f":"①借入条件表!Q61","v":0},{"$f":"①借入条件表!W61","v":0},"利息",{"$f":"C71*C72/12","v":0},{"$f":"E72*$C72/12","v":0},{"$f":"F72*$C72/12","v":0},{"$f":"G72*$C72/12","v":0},{"$f":"H72*$C72/12","v":0},{"$f":"I72*$C72/12","v":0},{"$f":"J72*$C72/12","v":0},{"$f":"K72*$C72/12","v":0},{"$f":"L72*$C72/12","v":0},{"$f":"M72*$C72/12","v":0},{"$f":"N72*$C72/12","v":0},{"$f":"O72*$C72/12","v":0},{"$f":"SUM(E71:P71)","v":0},{"$f":"P71*12","v":0},null,{"$f":"IF(B72=\"データなし\",\"〇\",\" \")","v":"〇"}]
[null,{"$f":"①借入条件表!L60","v":"データなし"},{"$f":"①借入条件表!AN60+①借入条件表!AR60","v":0},"残高",{"$f":"C71-E70","v":0},{"$f":"E72-F70","v":0},{"$f":"F72-G70","v":0},{"$f":"G72-H70","v":0},{"$f":"H72-I70","v":0},{"$f":"I72-J70","v":0},{"$f":"J72-K70","v":0},{"$f":"K72-L70","v":0},{"$f":"L72-M70","v":0},{"$f":"M72-N70","v":0},{"$f":"N72-O70","v":0},{"$f":"O72-P70","v":0},{"$f":"P72","v":0},{"$f":"IF(P72>Q70,P72-Q70,0)","v":0},null,{"$f":"IF(B72=\"データなし\",\"〇\",\" \")","v":"〇"}]
[null,{"$f":"①借入条件表!Q62","v":0},{"$f":"①借入条件表!W62","v":0},"元金返済",{"$f":"①借入条件表!$AH62","v":0},{"$f":"IF(E75<=0,0,IF(E75<E73,E75,①借入条件表!$AH62))","v":0},{"$f":"IF(F75<=0,0,IF(F75<F73,F75,①借入条件表!$AH62))","v":0},{"$f":"IF(G75<=0,0,IF(G75<G73,G75,①借入条件表!$AH62))","v":0},{"$f":"IF(H75<=0,0,IF(H75<H73,H75,①借入条件表!$AH62))","v":0},{"$f":"IF(I75<=0,0,IF(I75<I73,I75,①借入条件表!$AH62))","v":0},{"$f":"IF(J75<=0,0,IF(J75<J73,J75,①借入条件表!$AH62))","v":0},{"$f":"IF(K75<=0,0,IF(K75<K73,K75,①借入条件表!$AH62))","v":0},{"$f":"IF(L75<=0,0,IF(L75<L73,L75,①借入条件表!$AH62))","v":0},{"$f":"IF(M75<=0,0,IF(M75<M73,M75,①借入条件表!$AH62))","v":0},{"$f":"IF(N75<=0,0,IF(N75<N73,N75,①借入条件表!$AH62))","v":0},{"$f":"IF(O75<=0,0,IF(O75<O73,O75,①借入条件表!$AH62))","v":0},{"$f":"SUM(E73:P73)","v":0},{"$f":"IF(P75>Q73,P73*12,P75)","v":0},null,{"$f":"IF(B75=\"データなし\",\"〇\",\" \")","v":"〇"}]
[null,{"$f":"①借入条件表!Q63","v":0},{"$f":"①借入条件表!W63","v":0},"利息",{"$f":"$C74*$C75/12","v":0},{"$f":"E75*$C75/12","v":0},{"$f":"F75*$C75/12","v":0},{"$f":"G75*$C75/12","v":0},{"$f":"H75*$C75/12","v":0},{"$f":"I75*$C75/12","v":0},{"$f":"J75*$C75/12","v":0},{"$f":"K75*$C75/12","v":0},{"$f":"L75*$C75/12","v":0},{"$f":"M75*$C75/12","v":0},{"$f":"N75*$C75/12","v":0},{"$f":"O75*$C75/12","v":0},{"$f":"SUM(E74:P74)","v":0},{"$f":"P74*12","v":0},null,{"$f":"IF(B75=\"データなし\",\"〇\",\" \")","v":"〇"}]
[null,{"$f":"①借入条件表!L62","v":"データなし"},{"$f":"①借入条件表!AN62+①借入条件表!AR62","v":0},"残高",{"$f":"C74-E73","v":0},{"$f":"E75-F73","v":0},{"$f":"F75-G73","v":0},{"$f":"G75-H73","v":0},{"$f":"H75-I73","v":0},{"$f":"I75-J73","v":0},{"$f":"J75-K73","v":0},{"$f":"K75-L73","v":0},{"$f":"L75-M73","v":0},{"$f":"M75-N73","v":0},{"$f":"N75-O73","v":0},{"$f":"O75-P73","v":0},{"$f":"P75","v":0},{"$f":"IF(P75>Q73,P75-Q73,0)","v":0},null,{"$f":"IF(B75=\"データなし\",\"〇\",\" \")","v":"〇"}]
[null,"小計",{"$f":"C61+C64+C67+C70+C73","v":0},"元金返済",{"$f":"E61+E64+E67+E70+E73","v":0},{"$f":"F61+F64+F67+F70+F73","v":0},{"$f":"G61+G64+G67+G70+G73","v":0},0,0,0,0,0,0,0,0,{"$f":"P61+P64+P67+P70+P73","v":0},{"$f":"SUM(E76:P76)","v":0},{"$f":"+Q76","v":0},null,{"$f":"IF(C77>0,\"\",\"〇 \")","v":"〇 "}]
[null,null,{"$f":"C62+C65+C68+C71+C74","v":0},"利息",{"$f":"E62+E65+E68+E71+E74","v":0},{"$f":"F62+F65+F68+F71+F74","v":0},0,0,0,0,0,0,0,0,0,{"$f":"P62+P65+P68+P71+P74","v":0},0,{"$f":"Q77","v":0},null,{"$f":"IF(C77>0,\"\",\"〇 \")","v":"〇 "}]
[null,null,null,"残高",{"$f":"E63+E66+E69+E72+E75","v":0},{"$f":"F63+F66+F69+F72+F75","v":0},0,0,0,0,0,0,0,0,0,{"$f":"P63+P66+P69+P72+P75","v":0},{"$f":"P78","v":0},{"$f":"Q78-R76","v":0},null,{"$f":"IF(C77>0,\"\",\"〇 \")","v":"〇 "}]
[{"$f":"①借入条件表!E70","v":0},{"$f":"①借入条件表!Q70","v":0},{"$f":"①借入条件表!W70","v":0},"元金返済",{"$f":"①借入条件表!$AH70","v":0},{"$f":"IF(E81<=0,0,IF(E81<E79,E81,①借入条件表!$AH70))","v":0},{"$f":"IF(F81<=0,0,IF(F81<F79,F81,①借入条件表!$AH70))","v":0},{"$f":"IF(G81<=0,0,IF(G81<G79,G81,①借入条件表!$AH70))","v":0},{"$f":"IF(H81<=0,0,IF(H81<H79,H81,①借入条件表!$AH70))","v":0},{"$f":"IF(I81<=0,0,IF(I81<I79,I81,①借入条件表!$AH70))","v":0},{"$f":"IF(J81<=0,0,IF(J81<J79,J81,①借入条件表!$AH70))","v":0},{"$f":"IF(K81<=0,0,IF(K81<K79,K81,①借入条件表!$AH70))","v":0},{"$f":"IF(L81<=0,0,IF(L81<L79,L81,①借入条件表!$AH70))","v":0},{"$f":"IF(M81<=0,0,IF(M81<M79,M81,①借入条件表!$AH70))","v":0},{"$f":"IF(N81<=0,0,IF(N81<N79,N81,①借入条件表!$AH70))","v":0},{"$f":"IF(O81<=0,0,IF(O81<O79,O81,①借入条件表!$AH70))","v":0},{"$f":"SUM(E79:P79)","v":0},{"$f":"IF(P81>Q79,P79*12,P81)","v":0},null,{"$f":"IF(B81=\"データなし\",\"〇\",\" \")","v":"〇"}]
[null,{"$f":"①借入条件表!Q71","v":0},{"$f":"①借入条件表!W71","v":0},"利息",{"$f":"C80*C81/12","v":0},{"$f":"E81*$C81/12","v":0},{"$f":"F81*$C81/12","v":0},{"$f":"G81*$C81/12","v":0},{"$f":"H81*$C81/12","v":0},{"$f":"I81*$C81/12","v":0},{"$f":"J81*$C81/12","v":0},{"$f":"K81*$C81/12","v":0},{"$f":"L81*$C81/12","v":0},{"$f":"M81*$C81/12","v":0},{"$f":"N81*$C81/12","v":0},{"$f":"O81*$C81/12","v":0},{"$f":"SUM(E80:P80)","v":0},{"$f":"P80*12","v":0},null,{"$f":"IF(B81=\"データなし\",\"〇\",\" \")","v":"〇"}]
[null,{"$f":"①借入条件表!L70","v":"データなし"},{"$f":"①借入条件表!AN70+①借入条件表!AR70","v":0},"残高",{"$f":"C80-E79","v":0},{"$f":"E81-F79","v":0},{"$f":"F81-G79","v":0},{"$f":"G81-H79","v":0},{"$f":"H81-I79","v":0},{"$f":"I81-J79","v":0},{"$f":"J81-K79","v":0},{"$f":"K81-L79","v":0},{"$f":"L81-M79","v":0},{"$f":"M81-N79","v":0},{"$f":"N81-O79","v":0},{"$f":"O81-P79","v":0},{"$f":"P81","v":0},{"$f":"IF(P81>Q79,P81-Q79,0)","v":0},null,{"$f":"IF(B81=\"データなし\",\"〇\",\" \")","v":"〇"}]
[null,{"$f":"①借入条件表!Q72","v":0},{"$f":"①借入条件表!W72","v":0},"元金返済",{"$f":"①借入条件表!$AH72","v":0},{"$f":"IF(E84<=0,0,IF(E84<E82,E84,①借入条件表!$AH72))","v":0},{"$f":"IF(F84<=0,0,IF(F84<F82,F84,①借入条件表!$AH72))","v":0},{"$f":"IF(G84<=0,0,IF(G84<G82,G84,①借入条件表!$AH72))","v":0},{"$f":"IF(H84<=0,0,IF(H84<H82,H84,①借入条件表!$AH72))","v":0},{"$f":"IF(I84<=0,0,IF(I84<I82,I84,①借入条件表!$AH72))","v":0},{"$f":"IF(J84<=0,0,IF(J84<J82,J84,①借入条件表!$AH72))","v":0},{"$f":"IF(K84<=0,0,IF(K84<K82,K84,①借入条件表!$AH72))","v":0},{"$f":"IF(L84<=0,0,IF(L84<L82,L84,①借入条件表!$AH72))","v":0},{"$f":"IF(M84<=0,0,IF(M84<M82,M84,①借入条件表!$AH72))","v":0},{"$f":"IF(N84<=0,0,IF(N84<N82,N84,①借入条件表!$AH72))","v":0},{"$f":"IF(O84<=0,0,IF(O84<O82,O84,①借入条件表!$AH72))","v":0},{"$f":"SUM(E82:P82)","v":0},{"$f":"IF(P84>Q82,P82*12,P84)","v":0},null,{"$f":"IF(B84=\"データなし\",\"〇\",\" \")","v":"〇"}]
[null,{"$f":"①借入条件表!Q73","v":0},{"$f":"①借入条件表!W73","v":0},"利息",{"$f":"C83*C84/12","v":0},{"$f":"E84*$C84/12","v":0},{"$f":"F84*$C84/12","v":0},{"$f":"G84*$C84/12","v":0},{"$f":"H84*$C84/12","v":0},{"$f":"I84*$C84/12","v":0},{"$f":"J84*$C84/12","v":0},{"$f":"K84*$C84/12","v":0},{"$f":"L84*$C84/12","v":0},{"$f":"M84*$C84/12","v":0},{"$f":"N84*$C84/12","v":0},{"$f":"O84*$C84/12","v":0},{"$f":"SUM(E83:P83)","v":0},{"$f":"P83*12","v":0},null,{"$f":"IF(B84=\"データなし\",\"〇\",\" \")","v":"〇"}]
[null,{"$f":"①借入条件表!L72","v":"データなし"},{"$f":"①借入条件表!AN72+①借入条件表!AR72","v":0},"残高",{"$f":"C83-E82","v":0},{"$f":"E84-F82","v":0},{"$f":"F84-G82","v":0},{"$f":"G84-H82","v":0},{"$f":"H84-I82","v":0},{"$f":"I84-J82","v":0},{"$f":"J84-K82","v":0},{"$f":"K84-L82","v":0},{"$f":"L84-M82","v":0},{"$f":"M84-N82","v":0},{"$f":"N84-O82","v":0},{"$f":"O84-P82","v":0},{"$f":"P84","v":0},{"$f":"IF(P84>Q82,P84-Q82,0)","v":0},null,{"$f":"IF(B84=\"データなし\",\"〇\",\" \")","v":"〇"}]
[null,{"$f":"①借入条件表!Q74","v":0},{"$f":"①借入条件表!W74","v":0},"元金返済",{"$f":"①借入条件表!$AH74","v":0},{"$f":"IF(E87<=0,0,IF(E87<E85,E87,①借入条件表!$AH74))","v":0},{"$f":"IF(F87<=0,0,IF(F87<F85,F87,①借入条件表!$AH74))","v":0},{"$f":"IF(G87<=0,0,IF(G87<G85,G87,①借入条件表!$AH74))","v":0},{"$f":"IF(H87<=0,0,IF(H87<H85,H87,①借入条件表!$AH74))","v":0},{"$f":"IF(I87<=0,0,IF(I87<I85,I87,①借入条件表!$AH74))","v":0},{"$f":"IF(J87<=0,0,IF(J87<J85,J87,①借入条件表!$AH74))","v":0},{"$f":"IF(K87<=0,0,IF(K87<K85,K87,①借入条件表!$AH74))","v":0},{"$f":"IF(L87<=0,0,IF(L87<L85,L87,①借入条件表!$AH74))","v":0},{"$f":"IF(M87<=0,0,IF(M87<M85,M87,①借入条件表!$AH74))","v":0},{"$f":"IF(N87<=0,0,IF(N87<N85,N87,①借入条件表!$AH74))","v":0},{"$f":"IF(O87<=0,0,IF(O87<O85,O87,①借入条件表!$AH74))","v":0},{"$f":"SUM(E85:P85)","v":0},{"$f":"IF(P87>Q85,P85*12,P87)","v":0},null,{"$f":"IF(B87=\"データなし\",\"〇\",\" \")","v":"〇"}]
[null,{"$f":"①借入条件表!Q75","v":0},{"$f":"①借入条件表!W75","v":0},"利息",{"$f":"C86*C87/12","v":0},{"$f":"E87*$C87/12","v":0},{"$f":"F87*$C87/12","v":0},{"$f":"G87*$C87/12","v":0},{"$f":"H87*$C87/12","v":0},{"$f":"I87*$C87/12","v":0},{"$f":"J87*$C87/12","v":0},{"$f":"K87*$C87/12","v":0},{"$f":"L87*$C87/12","v":0},{"$f":"M87*$C87/12","v":0},{"$f":"N87*$C87/12","v":0},{"$f":"O87*$C87/12","v":0},{"$f":"SUM(E86:P86)","v":0},{"$f":"P86*12","v":0},null,{"$f":"IF(B87=\"データなし\",\"〇\",\" \")","v":"〇"}]
[null,{"$f":"①借入条件表!L74","v":"データなし"},{"$f":"①借入条件表!AN74+①借入条件表!AR74","v":0},"残高",{"$f":"C86-E85","v":0},{"$f":"E87-F85","v":0},{"$f":"F87-G85","v":0},{"$f":"G87-H85","v":0},{"$f":"H87-I85","v":0},{"$f":"I87-J85","v":0},{"$f":"J87-K85","v":0},{"$f":"K87-L85","v":0},{"$f":"L87-M85","v":0},{"$f":"M87-N85","v":0},{"$f":"N87-O85","v":0},{"$f":"O87-P85","v":0},{"$f":"P87","v":0},{"$f":"IF(P87>Q85,P87-Q85,0)","v":0},null,{"$f":"IF(B87=\"データなし\",\"〇\",\" \")","v":"〇"}]
[null,{"$f":"①借入条件表!Q76","v":0},{"$f":"①借入条件表!W76","v":0},"元金返済",{"$f":"①借入条件表!$AH76","v":0},{"$f":"IF(E90<=0,0,IF(E90<E88,E90,①借入条件表!$AH76))","v":0},{"$f":"IF(F90<=0,0,IF(F90<F88,F90,①借入条件表!$AH76))","v":0},{"$f":"IF(G90<=0,0,IF(G90<G88,G90,①借入条件表!$AH76))","v":0},{"$f":"IF(H90<=0,0,IF(H90<H88,H90,①借入条件表!$AH76))","v":0},{"$f":"IF(I90<=0,0,IF(I90<I88,I90,①借入条件表!$AH76))","v":0},{"$f":"IF(J90<=0,0,IF(J90<J88,J90,①借入条件表!$AH76))","v":0},{"$f":"IF(K90<=0,0,IF(K90<K88,K90,①借入条件表!$AH76))","v":0},{"$f":"IF(L90<=0,0,IF(L90<L88,L90,①借入条件表!$AH76))","v":0},{"$f":"IF(M90<=0,0,IF(M90<M88,M90,①借入条件表!$AH76))","v":0},{"$f":"IF(N90<=0,0,IF(N90<N88,N90,①借入条件表!$AH76))","v":0},{"$f":"IF(O90<=0,0,IF(O90<O88,O90,①借入条件表!$AH76))","v":0},{"$f":"SUM(E88:P88)","v":0},{"$f":"IF(P90>Q88,P88*12,P90)","v":0},null,{"$f":"IF(B90=\"データなし\",\"〇\",\" \")","v":"〇"}]
[null,{"$f":"①借入条件表!Q77","v":0},{"$f":"①借入条件表!W77","v":0},"利息",{"$f":"C89*C90/12","v":0},{"$f":"E90*$C90/12","v":0},{"$f":"F90*$C90/12","v":0},{"$f":"G90*$C90/12","v":0},{"$f":"H90*$C90/12","v":0},{"$f":"I90*$C90/12","v":0},{"$f":"J90*$C90/12","v":0},{"$f":"K90*$C90/12","v":0},{"$f":"L90*$C90/12","v":0},{"$f":"M90*$C90/12","v":0},{"$f":"N90*$C90/12","v":0},{"$f":"O90*$C90/12","v":0},{"$f":"SUM(E89:P89)","v":0},{"$f":"P89*12","v":0},null,{"$f":"IF(B90=\"データなし\",\"〇\",\" \")","v":"〇"}]
[null,{"$f":"①借入条件表!L76","v":"データなし"},{"$f":"①借入条件表!AN76+①借入条件表!AR76","v":0},"残高",{"$f":"C89-E88","v":0},{"$f":"E90-F88","v":0},{"$f":"F90-G88","v":0},{"$f":"G90-H88","v":0},{"$f":"H90-I88","v":0},{"$f":"I90-J88","v":0},{"$f":"J90-K88","v":0},{"$f":"K90-L88","v":0},{"$f":"L90-M88","v":0},{"$f":"M90-N88","v":0},{"$f":"N90-O88","v":0},{"$f":"O90-P88","v":0},{"$f":"P90","v":0},{"$f":"IF(P90>Q88,P90-Q88,0)","v":0},null,{"$f":"IF(B90=\"データなし\",\"〇\",\" \")","v":"〇"}]
[null,{"$f":"①借入条件表!Q78","v":0},{"$f":"①借入条件表!W78","v":0},"元金返済",{"$f":"①借入条件表!$AH78","v":0},{"$f":"IF(E93<=0,0,IF(E93<E91,E93,①借入条件表!$AH78))","v":0},{"$f":"IF(F93<=0,0,IF(F93<F91,F93,①借入条件表!$AH78))","v":0},{"$f":"IF(G93<=0,0,IF(G93<G91,G93,①借入条件表!$AH78))","v":0},{"$f":"IF(H93<=0,0,IF(H93<H91,H93,①借入条件表!$AH78))","v":0},{"$f":"IF(I93<=0,0,IF(I93<I91,I93,①借入条件表!$AH78))","v":0},{"$f":"IF(J93<=0,0,IF(J93<J91,J93,①借入条件表!$AH78))","v":0},{"$f":"IF(K93<=0,0,IF(K93<K91,K93,①借入条件表!$AH78))","v":0},{"$f":"IF(L93<=0,0,IF(L93<L91,L93,①借入条件表!$AH78))","v":0},{"$f":"IF(M93<=0,0,IF(M93<M91,M93,①借入条件表!$AH78))","v":0},{"$f":"IF(N93<=0,0,IF(N93<N91,N93,①借入条件表!$AH78))","v":0},{"$f":"IF(O93<=0,0,IF(O93<O91,O93,①借入条件表!$AH78))","v":0},{"$f":"SUM(E91:P91)","v":0},{"$f":"IF(P93>Q91,P91*12,P93)","v":0},null,{"$f":"IF(B93=\"データなし\",\"〇\",\" \")","v":"〇"}]
[null,{"$f":"①借入条件表!Q79","v":0},{"$f":"①借入条件表!W79","v":0},"利息",{"$f":"$C92*$C93/12","v":0},{"$f":"E93*$C93/12","v":0},{"$f":"F93*$C93/12","v":0},{"$f":"G93*$C93/12","v":0},{"$f":"H93*$C93/12","v":0},{"$f":"I93*$C93/12","v":0},{"$f":"J93*$C93/12","v":0},{"$f":"K93*$C93/12","v":0},{"$f":"L93*$C93/12","v":0},{"$f":"M93*$C93/12","v":0},{"$f":"N93*$C93/12","v":0},{"$f":"O93*$C93/12","v":0},{"$f":"SUM(E92:P92)","v":0},{"$f":"P92*12","v":0},null,{"$f":"IF(B93=\"データなし\",\"〇\",\" \")","v":"〇"}]
[null,{"$f":"①借入条件表!L78","v":"データなし"},{"$f":"①借入条件表!AN78+①借入条件表!AR78","v":0},"残高",{"$f":"C92-E91","v":0},{"$f":"E93-F91","v":0},{"$f":"F93-G91","v":0},{"$f":"G93-H91","v":0},{"$f":"H93-I91","v":0},{"$f":"I93-J91","v":0},{"$f":"J93-K91","v":0},{"$f":"K93-L91","v":0},{"$f":"L93-M91","v":0},{"$f":"M93-N91","v":0},{"$f":"N93-O91","v":0},{"$f":"O93-P91","v":0},{"$f":"P93","v":0},{"$f":"IF(P93>Q91,P93-Q91,0)","v":0},null,{"$f":"IF(B93=\"データなし\",\"〇\",\" \")","v":"〇"}]
[null,"小計",{"$f":"C79+C82+C85+C88+C91","v":0},"元金返済",{"$f":"E79+E82+E85+E88+E91","v":0},{"$f":"F79+F82+F85+F88+F91","v":0},{"$f":"G79+G82+G85+G88+G91","v":0},0,0,0,0,0,0,0,0,{"$f":"P79+P82+P85+P88+P91","v":0},{"$f":"SUM(E94:P94)","v":0},{"$f":"+Q94","v":0},null,{"$f":"IF(C95>0,\"\",\"〇 \")","v":"〇 "}]
[null,null,{"$f":"C80+C83+C86+C89+C92","v":0},"利息",{"$f":"E80+E83+E86+E89+E92","v":0},{"$f":"F80+F83+F86+F89+F92","v":0},0,0,0,0,0,0,0,0,0,{"$f":"P80+P83+P86+P89+P92","v":0},0,{"$f":"Q95","v":0},null,{"$f":"IF(C95>0,\"\",\"〇 \")","v":"〇 "}]
[null,null,null,"残高",{"$f":"E81+E84+E87+E90+E93","v":0},{"$f":"F81+F84+F87+F90+F93","v":0},0,0,0,0,0,0,0,0,0,{"$f":"P81+P84+P87+P90+P93","v":0},{"$f":"P96","v":0},{"$f":"Q96-R94","v":0},null,{"$f":"IF(C95>0,\"\",\"〇 \")","v":"〇 "}]
[{"$f":"①借入条件表!E86","v":0},{"$f":"①借入条件表!Q86","v":0},{"$f":"①借入条件表!W86","v":0},"元金返済",{"$f":"①借入条件表!$AH86","v":0},{"$f":"IF(E99<=0,0,IF(E99<E97,E99,①借入条件表!$AH86))","v":0},{"$f":"IF(F99<=0,0,IF(F99<F97,F99,①借入条件表!$AH86))","v":0},{"$f":"IF(G99<=0,0,IF(G99<G97,G99,①借入条件表!$AH86))","v":0},{"$f":"IF(H99<=0,0,IF(H99<H97,H99,①借入条件表!$AH86))","v":0},{"$f":"IF(I99<=0,0,IF(I99<I97,I99,①借入条件表!$AH86))","v":0},{"$f":"IF(J99<=0,0,IF(J99<J97,J99,①借入条件表!$AH86))","v":0},{"$f":"IF(K99<=0,0,IF(K99<K97,K99,①借入条件表!$AH86))","v":0},{"$f":"IF(L99<=0,0,IF(L99<L97,L99,①借入条件表!$AH86))","v":0},{"$f":"IF(M99<=0,0,IF(M99<M97,M99,①借入条件表!$AH86))","v":0},{"$f":"IF(N99<=0,0,IF(N99<N97,N99,①借入条件表!$AH86))","v":0},{"$f":"IF(O99<=0,0,IF(O99<O97,O99,①借入条件表!$AH86))","v":0},{"$f":"SUM(E97:P97)","v":0},{"$f":"IF(P99>Q97,P97*12,P99)","v":0},null,{"$f":"IF(B99=\"データなし\",\"〇\",\" \")","v":"〇"}]
[null,{"$f":"①借入条件表!Q87","v":0},{"$f":"①借入条件表!W87","v":0},"利息",{"$f":"C98*C99/12","v":0},{"$f":"E99*$C99/12","v":0},{"$f":"F99*$C99/12","v":0},{"$f":"G99*$C99/12","v":0},{"$f":"H99*$C99/12","v":0},{"$f":"I99*$C99/12","v":0},{"$f":"J99*$C99/12","v":0},{"$f":"K99*$C99/12","v":0},{"$f":"L99*$C99/12","v":0},{"$f":"M99*$C99/12","v":0},{"$f":"N99*$C99/12","v":0},{"$f":"O99*$C99/12","v":0},{"$f":"SUM(E98:P98)","v":0},{"$f":"P98*12","v":0},null,{"$f":"IF(B99=\"データなし\",\"〇\",\" \")","v":"〇"}]
[null,{"$f":"①借入条件表!L86","v":"データなし"},{"$f":"①借入条件表!AN86+①借入条件表!AR86","v":0},"残高",{"$f":"C98-E97","v":0},{"$f":"E99-F97","v":0},{"$f":"F99-G97","v":0},{"$f":"G99-H97","v":0},{"$f":"H99-I97","v":0},{"$f":"I99-J97","v":0},{"$f":"J99-K97","v":0},{"$f":"K99-L97","v":0},{"$f":"L99-M97","v":0},{"$f":"M99-N97","v":0},{"$f":"N99-O97","v":0},{"$f":"O99-P97","v":0},{"$f":"P99","v":0},{"$f":"IF(P99>Q97,P99-Q97,0)","v":0},null,{"$f":"IF(B99=\"データなし\",\"〇\",\" \")","v":"〇"}]
[null,{"$f":"①借入条件表!Q88","v":0},{"$f":"①借入条件表!W88","v":0},"元金返済",{"$f":"①借入条件表!$AH88","v":0},{"$f":"IF(E102<=0,0,IF(E102<E100,E102,①借入条件表!$AH88))","v":0},{"$f":"IF(F102<=0,0,IF(F102<F100,F102,①借入条件表!$AH88))","v":0},{"$f":"IF(G102<=0,0,IF(G102<G100,G102,①借入条件表!$AH88))","v":0},{"$f":"IF(H102<=0,0,IF(H102<H100,H102,①借入条件表!$AH88))","v":0},{"$f":"IF(I102<=0,0,IF(I102<I100,I102,①借入条件表!$AH88))","v":0},{"$f":"IF(J102<=0,0,IF(J102<J100,J102,①借入条件表!$AH88))","v":0},{"$f":"IF(K102<=0,0,IF(K102<K100,K102,①借入条件表!$AH88))","v":0},{"$f":"IF(L102<=0,0,IF(L102<L100,L102,①借入条件表!$AH88))","v":0},{"$f":"IF(M102<=0,0,IF(M102<M100,M102,①借入条件表!$AH88))","v":0},{"$f":"IF(N102<=0,0,IF(N102<N100,N102,①借入条件表!$AH88))","v":0},{"$f":"IF(O102<=0,0,IF(O102<O100,O102,①借入条件表!$AH88))","v":0},{"$f":"SUM(E100:P100)","v":0},{"$f":"IF(P102>Q100,P100*12,P102)","v":0},null,{"$f":"IF(B102=\"データなし\",\"〇\",\" \")","v":"〇"}]
[null,{"$f":"①借入条件表!Q89","v":0},{"$f":"①借入条件表!W89","v":0},"利息",{"$f":"C101*C102/12","v":0},{"$f":"E102*$C102/12","v":0},{"$f":"F102*$C102/12","v":0},{"$f":"G102*$C102/12","v":0},{"$f":"H102*$C102/12","v":0},{"$f":"I102*$C102/12","v":0},{"$f":"J102*$C102/12","v":0},{"$f":"K102*$C102/12","v":0},0,{"$f":"M102*$C102/12","v":0},{"$f":"N102*$C102/12","v":0},{"$f":"O102*$C102/12","v":0},{"$f":"SUM(E101:P101)","v":0},{"$f":"P101*12","v":0},null,{"$f":"IF(B102=\"データなし\",\"〇\",\" \")","v":"〇"}]
[null,{"$f":"①借入条件表!L88","v":"データなし"},{"$f":"①借入条件表!AN88+①借入条件表!AR88","v":0},"残高",{"$f":"C101-E100","v":0},{"$f":"E102-F100","v":0},{"$f":"F102-G100","v":0},{"$f":"G102-H100","v":0},{"$f":"H102-I100","v":0},{"$f":"I102-J100","v":0},{"$f":"J102-K100","v":0},{"$f":"K102-L100","v":0},{"$f":"L102-M100","v":0},{"$f":"M102-N100","v":0},{"$f":"N102-O100","v":0},{"$f":"O102-P100","v":0},{"$f":"P102","v":0},{"$f":"IF(P102>Q100,P102-Q100,0)","v":0},null,{"$f":"IF(B102=\"データなし\",\"〇\",\" \")","v":"〇"}]
[null,{"$f":"①借入条件表!Q90","v":0},{"$f":"①借入条件表!W90","v":0},"元金返済",{"$f":"①借入条件表!$AH90","v":0},{"$f":"IF(E105<=0,0,IF(E105<E103,E105,①借入条件表!$AH90))","v":0},{"$f":"IF(F105<=0,0,IF(F105<F103,F105,①借入条件表!$AH90))","v":0},{"$f":"IF(G105<=0,0,IF(G105<G103,G105,①借入条件表!$AH90))","v":0},{"$f":"IF(H105<=0,0,IF(H105<H103,H105,①借入条件表!$AH90))","v":0},{"$f":"IF(I105<=0,0,IF(I105<I103,I105,①借入条件表!$AH90))","v":0},{"$f":"IF(J105<=0,0,IF(J105<J103,J105,①借入条件表!$AH90))","v":0},{"$f":"IF(K105<=0,0,IF(K105<K103,K105,①借入条件表!$AH90))","v":0},{"$f":"IF(L105<=0,0,IF(L105<L103,L105,①借入条件表!$AH90))","v":0},{"$f":"IF(M105<=0,0,IF(M105<M103,M105,①借入条件表!$AH90))","v":0},{"$f":"IF(N105<=0,0,IF(N105<N103,N105,①借入条件表!$AH90))","v":0},{"$f":"IF(O105<=0,0,IF(O105<O103,O105,①借入条件表!$AH90))","v":0},{"$f":"SUM(E103:P103)","v":0},{"$f":"IF(P105>Q103,P103*12,P105)","v":0},null,{"$f":"IF(B105=\"データなし\",\"〇\",\" \")","v":"〇"}]
[null,{"$f":"①借入条件表!Q91","v":0},{"$f":"①借入条件表!W91","v":0},"利息",{"$f":"C104*C105/12","v":0},{"$f":"E105*$C105/12","v":0},{"$f":"F105*$C105/12","v":0},{"$f":"G105*$C105/12","v":0},{"$f":"H105*$C105/12","v":0},{"$f":"I105*$C105/12","v":0},{"$f":"J105*$C105/12","v":0},{"$f":"K105*$C105/12","v":0},{"$f":"L105*$C105/12","v":0},{"$f":"M105*$C105/12","v":0},{"$f":"N105*$C105/12","v":0},{"$f":"O105*$C105/12","v":0},{"$f":"SUM(E104:P104)","v":0},{"$f":"P104*12","v":0},null,{"$f":"IF(B105=\"データなし\",\"〇\",\" \")","v":"〇"}]
[null,{"$f":"①借入条件表!L90","v":"データなし"},{"$f":"①借入条件表!AN90+①借入条件表!AR90","v":0},"残高",{"$f":"C104-E103","v":0},{"$f":"E105-F103","v":0},{"$f":"F105-G103","v":0},{"$f":"G105-H103","v":0},{"$f":"H105-I103","v":0},{"$f":"I105-J103","v":0},{"$f":"J105-K103","v":0},{"$f":"K105-L103","v":0},{"$f":"L105-M103","v":0},{"$f":"M105-N103","v":0},{"$f":"N105-O103","v":0},{"$f":"O105-P103","v":0},{"$f":"P105","v":0},{"$f":"IF(P105>Q103,P105-Q103,0)","v":0},null,{"$f":"IF(B105=\"データなし\",\"〇\",\" \")","v":"〇"}]
[null,{"$f":"①借入条件表!Q92","v":0},{"$f":"①借入条件表!W92","v":0},"元金返済",{"$f":"①借入条件表!$AH92","v":0},{"$f":"IF(E108<=0,0,IF(E108<E106,E108,①借入条件表!$AH92))","v":0},{"$f":"IF(F108<=0,0,IF(F108<F106,F108,①借入条件表!$AH92))","v":0},{"$f":"IF(G108<=0,0,IF(G108<G106,G108,①借入条件表!$AH92))","v":0},{"$f":"IF(H108<=0,0,IF(H108<H106,H108,①借入条件表!$AH92))","v":0},{"$f":"IF(I108<=0,0,IF(I108<I106,I108,①借入条件表!$AH92))","v":0},{"$f":"IF(J108<=0,0,IF(J108<J106,J108,①借入条件表!$AH92))","v":0},{"$f":"IF(K108<=0,0,IF(K108<K106,K108,①借入条件表!$AH92))","v":0},{"$f":"IF(L108<=0,0,IF(L108<L106,L108,①借入条件表!$AH92))","v":0},{"$f":"IF(M108<=0,0,IF(M108<M106,M108,①借入条件表!$AH92))","v":0},{"$f":"IF(N108<=0,0,IF(N108<N106,N108,①借入条件表!$AH92))","v":0},{"$f":"IF(O108<=0,0,IF(O108<O106,O108,①借入条件表!$AH92))","v":0},{"$f":"SUM(E106:P106)","v":0},{"$f":"IF(P108>Q106,P106*12,P108)","v":0},null,{"$f":"IF(B108=\"データなし\",\"〇\",\" \")","v":"〇"}]
[null,{"$f":"①借入条件表!Q93","v":0},{"$f":"①借入条件表!W93","v":0},"利息",{"$f":"C107*C108/12","v":0},{"$f":"E108*$C108/12","v":0},{"$f":"F108*$C108/12","v":0},{"$f":"G108*$C108/12","v":0},{"$f":"H108*$C108/12","v":0},{"$f":"I108*$C108/12","v":0},{"$f":"J108*$C108/12","v":0},{"$f":"K108*$C108/12","v":0},{"$f":"L108*$C108/12","v":0},{"$f":"M108*$C108/12","v":0},{"$f":"N108*$C108/12","v":0},{"$f":"O108*$C108/12","v":0},{"$f":"SUM(E107:P107)","v":0},{"$f":"P107*12","v":0},null,{"$f":"IF(B108=\"データなし\",\"〇\",\" \")","v":"〇"}]
[null,{"$f":"①借入条件表!L92","v":"データなし"},{"$f":"①借入条件表!AN92+①借入条件表!AR92","v":0},"残高",{"$f":"C107-E106","v":0},{"$f":"E108-F106","v":0},{"$f":"F108-G106","v":0},{"$f":"G108-H106","v":0},{"$f":"H108-I106","v":0},{"$f":"I108-J106","v":0},{"$f":"J108-K106","v":0},{"$f":"K108-L106","v":0},{"$f":"L108-M106","v":0},{"$f":"M108-N106","v":0},{"$f":"N108-O106","v":0},{"$f":"O108-P106","v":0},{"$f":"P108","v":0},{"$f":"IF(P108>Q106,P108-Q106,0)","v":0},null,{"$f":"IF(B108=\"データなし\",\"〇\",\" \")","v":"〇"}]
[null,{"$f":"①借入条件表!Q94","v":0},{"$f":"①借入条件表!W94","v":0},"元金返済",{"$f":"①借入条件表!$AH94","v":0},{"$f":"IF(E111<=0,0,IF(E111<E109,E111,①借入条件表!$AH94))","v":0},{"$f":"IF(F111<=0,0,IF(F111<F109,F111,①借入条件表!$AH94))","v":0},{"$f":"IF(G111<=0,0,IF(G111<G109,G111,①借入条件表!$AH94))","v":0},{"$f":"IF(H111<=0,0,IF(H111<H109,H111,①借入条件表!$AH94))","v":0},{"$f":"IF(I111<=0,0,IF(I111<I109,I111,①借入条件表!$AH94))","v":0},{"$f":"IF(J111<=0,0,IF(J111<J109,J111,①借入条件表!$AH94))","v":0},{"$f":"IF(K111<=0,0,IF(K111<K109,K111,①借入条件表!$AH94))","v":0},{"$f":"IF(L111<=0,0,IF(L111<L109,L111,①借入条件表!$AH94))","v":0},{"$f":"IF(M111<=0,0,IF(M111<M109,M111,①借入条件表!$AH94))","v":0},{"$f":"IF(N111<=0,0,IF(N111<N109,N111,①借入条件表!$AH94))","v":0},{"$f":"IF(O111<=0,0,IF(O111<O109,O111,①借入条件表!$AH94))","v":0},{"$f":"SUM(E109:P109)","v":0},{"$f":"IF(P111>Q109,P109*12,P111)","v":0},null,{"$f":"IF(B111=\"データなし\",\"〇\",\" \")","v":"〇"}]
[null,{"$f":"①借入条件表!Q95","v":0},{"$f":"①借入条件表!W95","v":0},"利息",{"$f":"$C110*$C111/12","v":0},{"$f":"E111*$C111/12","v":0},{"$f":"F111*$C111/12","v":0},{"$f":"G111*$C111/12","v":0},{"$f":"H111*$C111/12","v":0},{"$f":"I111*$C111/12","v":0},{"$f":"J111*$C111/12","v":0},{"$f":"K111*$C111/12","v":0},{"$f":"L111*$C111/12","v":0},{"$f":"M111*$C111/12","v":0},{"$f":"N111*$C111/12","v":0},{"$f":"O111*$C111/12","v":0},{"$f":"SUM(E110:P110)","v":0},{"$f":"P110*12","v":0},null,{"$f":"IF(B111=\"データなし\",\"〇\",\" \")","v":"〇"}]
[null,{"$f":"①借入条件表!L94","v":"データなし"},{"$f":"①借入条件表!AN94+①借入条件表!AR94","v":0},"残高",{"$f":"C110-E109","v":0},{"$f":"E111-F109","v":0},{"$f":"F111-G109","v":0},{"$f":"G111-H109","v":0},{"$f":"H111-I109","v":0},{"$f":"I111-J109","v":0},{"$f":"J111-K109","v":0},{"$f":"K111-L109","v":0},{"$f":"L111-M109","v":0},{"$f":"M111-N109","v":0},{"$f":"N111-O109","v":0},{"$f":"O111-P109","v":0},{"$f":"P111","v":0},{"$f":"IF(P111>Q109,P111-Q109,0)","v":0},null,{"$f":"IF(B111=\"データなし\",\"〇\",\" \")","v":"〇"}]
[null,"小計",{"$f":"C97+C100+C103+C106+C109","v":0},"元金返済",{"$f":"E97+E100+E103+E106+E109","v":0},{"$f":"F97+F100+F103+F106+F109","v":0},{"$f":"G97+G100+G103+G106+G109","v":0},0,0,0,0,0,0,0,0,{"$f":"P97+P100+P103+P106+P109","v":0},{"$f":"SUM(E112:P112)","v":0},{"$f":"+Q112","v":0},null,{"$f":"IF(C113>0,\"\",\"〇 \")","v":"〇 "}]
[null,null,{"$f":"C98+C101+C104+C107+C110","v":0},"利息",{"$f":"E98+E101+E104+E107+E110","v":0},{"$f":"F98+F101+F104+F107+F110","v":0},0,0,0,0,0,0,0,0,0,{"$f":"P98+P101+P104+P107+P110","v":0},0,{"$f":"Q113","v":0},null,{"$f":"IF(C113>0,\"\",\"〇 \")","v":"〇 "}]
[null,null,null,"残高",{"$f":"E99+E102+E105+E108+E111","v":0},{"$f":"F99+F102+F105+F108+F111","v":0},0,0,0,0,0,0,0,0,0,{"$f":"P99+P102+P105+P108+P111","v":0},{"$f":"P114","v":0},{"$f":"Q114-R112","v":0},null,{"$f":"IF(C113>0,\"\",\"〇 \")","v":"〇 "}]
[{"$f":"①借入条件表!E102","v":0},{"$f":"①借入条件表!Q102","v":0},{"$f":"①借入条件表!W102","v":0},"元金返済",{"$f":"①借入条件表!$AH102","v":0},{"$f":"IF(E117<=0,0,IF(E117<E115,E117,①借入条件表!$AH102))","v":0},{"$f":"IF(F117<=0,0,IF(F117<F115,F117,①借入条件表!$AH102))","v":0},{"$f":"IF(G117<=0,0,IF(G117<G115,G117,①借入条件表!$AH102))","v":0},{"$f":"IF(H117<=0,0,IF(H117<H115,H117,①借入条件表!$AH102))","v":0},{"$f":"IF(I117<=0,0,IF(I117<I115,I117,①借入条件表!$AH102))","v":0},{"$f":"IF(J117<=0,0,IF(J117<J115,J117,①借入条件表!$AH102))","v":0},{"$f":"IF(K117<=0,0,IF(K117<K115,K117,①借入条件表!$AH102))","v":0},{"$f":"IF(L117<=0,0,IF(L117<L115,L117,①借入条件表!$AH102))","v":0},{"$f":"IF(M117<=0,0,IF(M117<M115,M117,①借入条件表!$AH102))","v":0},{"$f":"IF(N117<=0,0,IF(N117<N115,N117,①借入条件表!$AH102))","v":0},{"$f":"IF(O117<=0,0,IF(O117<O115,O117,①借入条件表!$AH102))","v":0},{"$f":"SUM(E115:P115)","v":0},{"$f":"IF(P117>Q115,P115*12,P117)","v":0},null,{"$f":"IF(B117=\"データなし\",\"〇\",\" \")","v":"〇"}]
[null,{"$f":"①借入条件表!Q103","v":0},{"$f":"①借入条件表!W103","v":0},"利息",{"$f":"C116*C117/12","v":0},{"$f":"E117*$C117/12","v":0},{"$f":"F117*$C117/12","v":0},{"$f":"G117*$C117/12","v":0},{"$f":"H117*$C117/12","v":0},{"$f":"I117*$C117/12","v":0},{"$f":"J117*$C117/12","v":0},{"$f":"K117*$C117/12","v":0},{"$f":"L117*$C117/12","v":0},{"$f":"M117*$C117/12","v":0},{"$f":"N117*$C117/12","v":0},{"$f":"O117*$C117/12","v":0},{"$f":"SUM(E116:P116)","v":0},{"$f":"P116*12","v":0},null,{"$f":"IF(B117=\"データなし\",\"〇\",\" \")","v":"〇"}]
[null,{"$f":"①借入条件表!L102","v":"データなし"},{"$f":"①借入条件表!AN102+①借入条件表!AR102","v":0},"残高",{"$f":"C116-E115","v":0},{"$f":"E117-F115","v":0},{"$f":"F117-G115","v":0},{"$f":"G117-H115","v":0},{"$f":"H117-I115","v":0},{"$f":"I117-J115","v":0},{"$f":"J117-K115","v":0},{"$f":"K117-L115","v":0},{"$f":"L117-M115","v":0},{"$f":"M117-N115","v":0},{"$f":"N117-O115","v":0},{"$f":"O117-P115","v":0},{"$f":"P117","v":0},{"$f":"IF(P117>Q115,P117-Q115,0)","v":0},null,{"$f":"IF(B117=\"データなし\",\"〇\",\" \")","v":"〇"}]
[null,{"$f":"①借入条件表!Q104","v":0},{"$f":"①借入条件表!W104","v":0},"元金返済",{"$f":"①借入条件表!$AH104","v":0},{"$f":"IF(E120<=0,0,IF(E120<E118,E120,①借入条件表!$AH104))","v":0},{"$f":"IF(F120<=0,0,IF(F120<F118,F120,①借入条件表!$AH104))","v":0},{"$f":"IF(G120<=0,0,IF(G120<G118,G120,①借入条件表!$AH104))","v":0},{"$f":"IF(H120<=0,0,IF(H120<H118,H120,①借入条件表!$AH104))","v":0},{"$f":"IF(I120<=0,0,IF(I120<I118,I120,①借入条件表!$AH104))","v":0},{"$f":"IF(J120<=0,0,IF(J120<J118,J120,①借入条件表!$AH104))","v":0},{"$f":"IF(K120<=0,0,IF(K120<K118,K120,①借入条件表!$AH104))","v":0},{"$f":"IF(L120<=0,0,IF(L120<L118,L120,①借入条件表!$AH104))","v":0},{"$f":"IF(M120<=0,0,IF(M120<M118,M120,①借入条件表!$AH104))","v":0},{"$f":"IF(N120<=0,0,IF(N120<N118,N120,①借入条件表!$AH104))","v":0},{"$f":"IF(O120<=0,0,IF(O120<O118,O120,①借入条件表!$AH104))","v":0},{"$f":"SUM(E118:P118)","v":0},{"$f":"IF(P120>Q118,P118*12,P120)","v":0},null,{"$f":"IF(B120=\"データなし\",\"〇\",\" \")","v":"〇"}]
[null,{"$f":"①借入条件表!Q105","v":0},{"$f":"①借入条件表!W105","v":0},"利息",{"$f":"C119*C120/12","v":0},{"$f":"E120*$C120/12","v":0},{"$f":"F120*$C120/12","v":0},{"$f":"G120*$C120/12","v":0},{"$f":"H120*$C120/12","v":0},{"$f":"I120*$C120/12","v":0},{"$f":"J120*$C120/12","v":0},{"$f":"K120*$C120/12","v":0},{"$f":"L120*$C120/12","v":0},{"$f":"M120*$C120/12","v":0},{"$f":"N120*$C120/12","v":0},{"$f":"O120*$C120/12","v":0},{"$f":"SUM(E119:P119)","v":0},{"$f":"P119*12","v":0},null,{"$f":"IF(B120=\"データなし\",\"〇\",\" \")","v":"〇"}]
[null,{"$f":"①借入条件表!L104","v":"データなし"},{"$f":"①借入条件表!AN104+①借入条件表!AR104","v":0},"残高",{"$f":"C119-E118","v":0},{"$f":"E120-F118","v":0},{"$f":"F120-G118","v":0},{"$f":"G120-H118","v":0},{"$f":"H120-I118","v":0},{"$f":"I120-J118","v":0},{"$f":"J120-K118","v":0},{"$f":"K120-L118","v":0},{"$f":"L120-M118","v":0},{"$f":"M120-N118","v":0},{"$f":"N120-O118","v":0},{"$f":"O120-P118","v":0},{"$f":"P120","v":0},{"$f":"IF(P120>Q118,P120-Q118,0)","v":0},null,{"$f":"IF(B120=\"データなし\",\"〇\",\" \")","v":"〇"}]
[null,{"$f":"①借入条件表!Q106","v":0},{"$f":"①借入条件表!W106","v":0},"元金返済",{"$f":"①借入条件表!$AH106","v":0},{"$f":"IF(E123<=0,0,IF(E123<E121,E123,①借入条件表!$AH106))","v":0},{"$f":"IF(F123<=0,0,IF(F123<F121,F123,①借入条件表!$AH106))","v":0},{"$f":"IF(G123<=0,0,IF(G123<G121,G123,①借入条件表!$AH106))","v":0},{"$f":"IF(H123<=0,0,IF(H123<H121,H123,①借入条件表!$AH106))","v":0},{"$f":"IF(I123<=0,0,IF(I123<I121,I123,①借入条件表!$AH106))","v":0},{"$f":"IF(J123<=0,0,IF(J123<J121,J123,①借入条件表!$AH106))","v":0},{"$f":"IF(K123<=0,0,IF(K123<K121,K123,①借入条件表!$AH106))","v":0},{"$f":"IF(L123<=0,0,IF(L123<L121,L123,①借入条件表!$AH106))","v":0},{"$f":"IF(M123<=0,0,IF(M123<M121,M123,①借入条件表!$AH106))","v":0},{"$f":"IF(N123<=0,0,IF(N123<N121,N123,①借入条件表!$AH106))","v":0},{"$f":"IF(O123<=0,0,IF(O123<O121,O123,①借入条件表!$AH106))","v":0},{"$f":"SUM(E121:P121)","v":0},{"$f":"IF(P123>Q121,P121*12,P123)","v":0},null,{"$f":"IF(B123=\"データなし\",\"〇\",\" \")","v":"〇"}]
[null,{"$f":"①借入条件表!Q107","v":0},{"$f":"①借入条件表!W107","v":0},"利息",{"$f":"C122*C123/12","v":0},{"$f":"E123*$C123/12","v":0},{"$f":"F123*$C123/12","v":0},{"$f":"G123*$C123/12","v":0},{"$f":"H123*$C123/12","v":0},{"$f":"I123*$C123/12","v":0},{"$f":"J123*$C123/12","v":0},{"$f":"K123*$C123/12","v":0},{"$f":"L123*$C123/12","v":0},{"$f":"M123*$C123/12","v":0},{"$f":"N123*$C123/12","v":0},{"$f":"O123*$C123/12","v":0},{"$f":"SUM(E122:P122)","v":0},{"$f":"P122*12","v":0},null,{"$f":"IF(B123=\"データなし\",\"〇\",\" \")","v":"〇"}]
[null,{"$f":"①借入条件表!L106","v":"データなし"},{"$f":"①借入条件表!AN106+①借入条件表!AR106","v":0},"残高",{"$f":"C122-E121","v":0},{"$f":"E123-F121","v":0},{"$f":"F123-G121","v":0},{"$f":"G123-H121","v":0},{"$f":"H123-I121","v":0},{"$f":"I123-J121","v":0},{"$f":"J123-K121","v":0},{"$f":"K123-L121","v":0},{"$f":"L123-M121","v":0},{"$f":"M123-N121","v":0},{"$f":"N123-O121","v":0},{"$f":"O123-P121","v":0},{"$f":"P123","v":0},{"$f":"IF(P123>Q121,P123-Q121,0)","v":0},null,{"$f":"IF(B123=\"データなし\",\"〇\",\" \")","v":"〇"}]
[null,{"$f":"①借入条件表!Q108","v":0},{"$f":"①借入条件表!W108","v":0},"元金返済",{"$f":"①借入条件表!$AH108","v":0},{"$f":"IF(E126<=0,0,IF(E126<E124,E126,①借入条件表!$AH108))","v":0},{"$f":"IF(F126<=0,0,IF(F126<F124,F126,①借入条件表!$AH108))","v":0},{"$f":"IF(G126<=0,0,IF(G126<G124,G126,①借入条件表!$AH108))","v":0},{"$f":"IF(H126<=0,0,IF(H126<H124,H126,①借入条件表!$AH108))","v":0},{"$f":"IF(I126<=0,0,IF(I126<I124,I126,①借入条件表!$AH108))","v":0},{"$f":"IF(J126<=0,0,IF(J126<J124,J126,①借入条件表!$AH108))","v":0},{"$f":"IF(K126<=0,0,IF(K126<K124,K126,①借入条件表!$AH108))","v":0},{"$f":"IF(L126<=0,0,IF(L126<L124,L126,①借入条件表!$AH108))","v":0},{"$f":"IF(M126<=0,0,IF(M126<M124,M126,①借入条件表!$AH108))","v":0},{"$f":"IF(N126<=0,0,IF(N126<N124,N126,①借入条件表!$AH108))","v":0},{"$f":"IF(O126<=0,0,IF(O126<O124,O126,①借入条件表!$AH108))","v":0},{"$f":"SUM(E124:P124)","v":0},{"$f":"IF(P126>Q124,P124*12,P126)","v":0},null,{"$f":"IF(B126=\"データなし\",\"〇\",\" \")","v":"〇"}]
[null,{"$f":"①借入条件表!Q109","v":0},{"$f":"①借入条件表!W109","v":0},"利息",{"$f":"C125*C126/12","v":0},{"$f":"E126*$C126/12","v":0},{"$f":"F126*$C126/12","v":0},{"$f":"G126*$C126/12","v":0},{"$f":"H126*$C126/12","v":0},{"$f":"I126*$C126/12","v":0},{"$f":"J126*$C126/12","v":0},{"$f":"K126*$C126/12","v":0},{"$f":"L126*$C126/12","v":0},{"$f":"M126*$C126/12","v":0},{"$f":"N126*$C126/12","v":0},{"$f":"O126*$C126/12","v":0},{"$f":"SUM(E125:P125)","v":0},{"$f":"P125*12","v":0},null,{"$f":"IF(B126=\"データなし\",\"〇\",\" \")","v":"〇"}]
[null,{"$f":"①借入条件表!L108","v":"データなし"},{"$f":"①借入条件表!AN108+①借入条件表!AR108","v":0},"残高",{"$f":"C125-E124","v":0},{"$f":"E126-F124","v":0},{"$f":"F126-G124","v":0},{"$f":"G126-H124","v":0},{"$f":"H126-I124","v":0},{"$f":"I126-J124","v":0},{"$f":"J126-K124","v":0},{"$f":"K126-L124","v":0},{"$f":"L126-M124","v":0},{"$f":"M126-N124","v":0},{"$f":"N126-O124","v":0},{"$f":"O126-P124","v":0},{"$f":"P126","v":0},{"$f":"IF(P126>Q124,P126-Q124,0)","v":0},null,{"$f":"IF(B126=\"データなし\",\"〇\",\" \")","v":"〇"}]
[null,{"$f":"①借入条件表!Q110","v":0},{"$f":"①借入条件表!W110","v":0},"元金返済",{"$f":"①借入条件表!$AH110","v":0},{"$f":"IF(E129<=0,0,IF(E129<E127,E129,①借入条件表!$AH110))","v":0},{"$f":"IF(F129<=0,0,IF(F129<F127,F129,①借入条件表!$AH110))","v":0},{"$f":"IF(G129<=0,0,IF(G129<G127,G129,①借入条件表!$AH110))","v":0},{"$f":"IF(H129<=0,0,IF(H129<H127,H129,①借入条件表!$AH110))","v":0},{"$f":"IF(I129<=0,0,IF(I129<I127,I129,①借入条件表!$AH110))","v":0},{"$f":"IF(J129<=0,0,IF(J129<J127,J129,①借入条件表!$AH110))","v":0},{"$f":"IF(K129<=0,0,IF(K129<K127,K129,①借入条件表!$AH110))","v":0},{"$f":"IF(L129<=0,0,IF(L129<L127,L129,①借入条件表!$AH110))","v":0},{"$f":"IF(M129<=0,0,IF(M129<M127,M129,①借入条件表!$AH110))","v":0},{"$f":"IF(N129<=0,0,IF(N129<N127,N129,①借入条件表!$AH110))","v":0},{"$f":"IF(O129<=0,0,IF(O129<O127,O129,①借入条件表!$AH110))","v":0},{"$f":"SUM(E127:P127)","v":0},{"$f":"IF(P129>Q127,P127*12,P129)","v":0},null,{"$f":"IF(B129=\"データなし\",\"〇\",\" \")","v":"〇"}]
[null,{"$f":"①借入条件表!Q111","v":0},{"$f":"①借入条件表!W111","v":0},"利息",{"$f":"$C128*$C129/12","v":0},{"$f":"E129*$C129/12","v":0},{"$f":"F129*$C129/12","v":0},{"$f":"G129*$C129/12","v":0},{"$f":"H129*$C129/12","v":0},{"$f":"I129*$C129/12","v":0},{"$f":"J129*$C129/12","v":0},{"$f":"K129*$C129/12","v":0},{"$f":"L129*$C129/12","v":0},{"$f":"M129*$C129/12","v":0},{"$f":"N129*$C129/12","v":0},{"$f":"O129*$C129/12","v":0},{"$f":"SUM(E128:P128)","v":0},{"$f":"P128*12","v":0},null,{"$f":"IF(B129=\"データなし\",\"〇\",\" \")","v":"〇"}]
[null,{"$f":"①借入条件表!L110","v":"データなし"},{"$f":"①借入条件表!AN110+①借入条件表!AR110","v":0},"残高",{"$f":"C128-E127","v":0},{"$f":"E129-F127","v":0},{"$f":"F129-G127","v":0},{"$f":"G129-H127","v":0},{"$f":"H129-I127","v":0},{"$f":"I129-J127","v":0},{"$f":"J129-K127","v":0},{"$f":"K129-L127","v":0},{"$f":"L129-M127","v":0},{"$f":"M129-N127","v":0},{"$f":"N129-O127","v":0},{"$f":"O129-P127","v":0},{"$f":"P129","v":0},{"$f":"IF(P129>Q127,P129-Q127,0)","v":0},null,{"$f":"IF(B129=\"データなし\",\"〇\",\" \")","v":"〇"}]
[null,"小計",{"$f":"C115+C118+C121+C124+C127","v":0},"元金返済",{"$f":"E115+E118+E121+E124+E127","v":0},{"$f":"F115+F118+F121+F124+F127","v":0},{"$f":"G115+G118+G121+G124+G127","v":0},0,0,0,0,0,0,0,0,{"$f":"P115+P118+P121+P124+P127","v":0},{"$f":"SUM(E130:P130)","v":0},{"$f":"+Q130","v":0},null,{"$f":"IF(C131>0,\"\",\"〇 \")","v":"〇 "}]
[null,null,{"$f":"C116+C119+C122+C125+C128","v":0},"利息",{"$f":"E116+E119+E122+E125+E128","v":0},{"$f":"F116+F119+F122+F125+F128","v":0},0,0,0,0,0,0,0,0,0,{"$f":"P116+P119+P122+P125+P128","v":0},0,{"$f":"Q131","v":0},null,{"$f":"IF(C131>0,\"\",\"〇 \")","v":"〇 "}]
[null,null,null,"残高",{"$f":"E117+E120+E123+E126+E129","v":0},{"$f":"F117+F120+F123+F126+F129","v":0},0,0,0,0,0,0,0,0,0,{"$f":"P117+P120+P123+P126+P129","v":0},{"$f":"P132","v":0},{"$f":"Q132-R130","v":0},null,{"$f":"IF(C131>0,\"\",\"〇 \")","v":"〇 "}]
[{"$f":"①借入条件表!E118","v":"日本政策金融公庫"},{"$f":"①借入条件表!Q118","v":0},{"$f":"①借入条件表!W118","v":0},"元金返済",{"$f":"①借入条件表!$AH118","v":0},{"$f":"IF(E135<=0,0,IF(E135<E133,E135,①借入条件表!$AH118))","v":0},{"$f":"IF(F135<=0,0,IF(F135<F133,F135,①借入条件表!$AH118))","v":0},{"$f":"IF(G135<=0,0,IF(G135<G133,G135,①借入条件表!$AH118))","v":0},{"$f":"IF(H135<=0,0,IF(H135<H133,H135,①借入条件表!$AH118))","v":0},{"$f":"IF(I135<=0,0,IF(I135<I133,I135,①借入条件表!$AH118))","v":0},{"$f":"IF(J135<=0,0,IF(J135<J133,J135,①借入条件表!$AH118))","v":0},{"$f":"IF(K135<=0,0,IF(K135<K133,K135,①借入条件表!$AH118))","v":0},{"$f":"IF(L135<=0,0,IF(L135<L133,L135,①借入条件表!$AH118))","v":0},{"$f":"IF(M135<=0,0,IF(M135<M133,M135,①借入条件表!$AH118))","v":0},{"$f":"IF(N135<=0,0,IF(N135<N133,N135,①借入条件表!$AH118))","v":0},{"$f":"IF(O135<=0,0,IF(O135<O133,O135,①借入条件表!$AH118))","v":0},{"$f":"SUM(E133:P133)","v":0},{"$f":"IF(P135>Q133,P133*12,P135)","v":0},null,{"$f":"IF(B135=\"データなし\",\"〇\",\" \")","v":"〇"}]
[null,{"$f":"①借入条件表!Q119","v":0},{"$f":"①借入条件表!W119","v":0},"利息",{"$f":"C134*C135/12","v":0},{"$f":"E135*$C135/12","v":0},{"$f":"F135*$C135/12","v":0},{"$f":"G135*$C135/12","v":0},{"$f":"H135*$C135/12","v":0},{"$f":"I135*$C135/12","v":0},{"$f":"J135*$C135/12","v":0},{"$f":"K135*$C135/12","v":0},{"$f":"L135*$C135/12","v":0},{"$f":"M135*$C135/12","v":0},{"$f":"N135*$C135/12","v":0},{"$f":"O135*$C135/12","v":0},{"$f":"SUM(E134:P134)","v":0},{"$f":"P134*12","v":0},null,{"$f":"IF(B135=\"データなし\",\"〇\",\" \")","v":"〇"}]
[null,{"$f":"①借入条件表!L118","v":"データなし"},{"$f":"①借入条件表!AN118+①借入条件表!AR118","v":0},"残高",{"$f":"C134-E133","v":0},{"$f":"E135-F133","v":0},{"$f":"F135-G133","v":0},{"$f":"G135-H133","v":0},{"$f":"H135-I133","v":0},{"$f":"I135-J133","v":0},{"$f":"J135-K133","v":0},{"$f":"K135-L133","v":0},{"$f":"L135-M133","v":0},{"$f":"M135-N133","v":0},{"$f":"N135-O133","v":0},{"$f":"O135-P133","v":0},{"$f":"P135","v":0},{"$f":"IF(P135>Q133,P135-Q133,0)","v":0},null,{"$f":"IF(B135=\"データなし\",\"〇\",\" \")","v":"〇"}]
[null,{"$f":"①借入条件表!Q120","v":0},{"$f":"①借入条件表!W120","v":0},"元金返済",{"$f":"①借入条件表!$AH120","v":0},{"$f":"IF(E138<=0,0,IF(E138<E136,E138,①借入条件表!$AH120))","v":0},{"$f":"IF(F138<=0,0,IF(F138<F136,F138,①借入条件表!$AH120))","v":0},{"$f":"IF(G138<=0,0,IF(G138<G136,G138,①借入条件表!$AH120))","v":0},{"$f":"IF(H138<=0,0,IF(H138<H136,H138,①借入条件表!$AH120))","v":0},{"$f":"IF(I138<=0,0,IF(I138<I136,I138,①借入条件表!$AH120))","v":0},{"$f":"IF(J138<=0,0,IF(J138<J136,J138,①借入条件表!$AH120))","v":0},{"$f":"IF(K138<=0,0,IF(K138<K136,K138,①借入条件表!$AH120))","v":0},{"$f":"IF(L138<=0,0,IF(L138<L136,L138,①借入条件表!$AH120))","v":0},{"$f":"IF(M138<=0,0,IF(M138<M136,M138,①借入条件表!$AH120))","v":0},{"$f":"IF(N138<=0,0,IF(N138<N136,N138,①借入条件表!$AH120))","v":0},{"$f":"IF(O138<=0,0,IF(O138<O136,O138,①借入条件表!$AH120))","v":0},{"$f":"SUM(E136:P136)","v":0},{"$f":"IF(P138>Q136,P136*12,P138)","v":0},null,{"$f":"IF(B138=\"データなし\",\"〇\",\" \")","v":"〇"}]
[null,{"$f":"①借入条件表!Q121","v":0},{"$f":"①借入条件表!W121","v":0},"利息",{"$f":"C137*C138/12","v":0},{"$f":"E138*$C138/12","v":0},{"$f":"F138*$C138/12","v":0},{"$f":"G138*$C138/12","v":0},{"$f":"H138*$C138/12","v":0},{"$f":"I138*$C138/12","v":0},{"$f":"J138*$C138/12","v":0},{"$f":"K138*$C138/12","v":0},{"$f":"L138*$C138/12","v":0},{"$f":"M138*$C138/12","v":0},{"$f":"N138*$C138/12","v":0},{"$f":"O138*$C138/12","v":0},{"$f":"SUM(E137:P137)","v":0},{"$f":"P137*12","v":0},null,{"$f":"IF(B138=\"データなし\",\"〇\",\" \")","v":"〇"}]
[null,{"$f":"①借入条件表!L120","v":"データなし"},{"$f":"①借入条件表!AN120+①借入条件表!AR120","v":0},"残高",{"$f":"C137-E136","v":0},{"$f":"E138-F136","v":0},{"$f":"F138-G136","v":0},{"$f":"G138-H136","v":0},{"$f":"H138-I136","v":0},{"$f":"I138-J136","v":0},{"$f":"J138-K136","v":0},{"$f":"K138-L136","v":0},{"$f":"L138-M136","v":0},{"$f":"M138-N136","v":0},{"$f":"N138-O136","v":0},{"$f":"O138-P136","v":0},{"$f":"P138","v":0},{"$f":"IF(P138>Q136,P138-Q136,0)","v":0},null,{"$f":"IF(B138=\"データなし\",\"〇\",\" \")","v":"〇"}]
[null,{"$f":"①借入条件表!Q122","v":0},{"$f":"①借入条件表!W122","v":0},"元金返済",{"$f":"①借入条件表!$AH122","v":0},{"$f":"IF(E141<=0,0,IF(E141<E139,E141,①借入条件表!$AH122))","v":0},{"$f":"IF(F141<=0,0,IF(F141<F139,F141,①借入条件表!$AH122))","v":0},{"$f":"IF(G141<=0,0,IF(G141<G139,G141,①借入条件表!$AH122))","v":0},{"$f":"IF(H141<=0,0,IF(H141<H139,H141,①借入条件表!$AH122))","v":0},{"$f":"IF(I141<=0,0,IF(I141<I139,I141,①借入条件表!$AH122))","v":0},{"$f":"IF(J141<=0,0,IF(J141<J139,J141,①借入条件表!$AH122))","v":0},{"$f":"IF(K141<=0,0,IF(K141<K139,K141,①借入条件表!$AH122))","v":0},{"$f":"IF(L141<=0,0,IF(L141<L139,L141,①借入条件表!$AH122))","v":0},{"$f":"IF(M141<=0,0,IF(M141<M139,M141,①借入条件表!$AH122))","v":0},{"$f":"IF(N141<=0,0,IF(N141<N139,N141,①借入条件表!$AH122))","v":0},{"$f":"IF(O141<=0,0,IF(O141<O139,O141,①借入条件表!$AH122))","v":0},{"$f":"SUM(E139:P139)","v":0},{"$f":"IF(P141>Q139,P139*12,P141)","v":0},null,{"$f":"IF(B141=\"データなし\",\"〇\",\" \")","v":"〇"}]
[null,{"$f":"①借入条件表!Q123","v":0},{"$f":"①借入条件表!W123","v":0},"利息",{"$f":"C140*C141/12","v":0},{"$f":"E141*$C141/12","v":0},{"$f":"F141*$C141/12","v":0},{"$f":"G141*$C141/12","v":0},{"$f":"H141*$C141/12","v":0},{"$f":"I141*$C141/12","v":0},{"$f":"J141*$C141/12","v":0},{"$f":"K141*$C141/12","v":0},{"$f":"L141*$C141/12","v":0},{"$f":"M141*$C141/12","v":0},{"$f":"N141*$C141/12","v":0},{"$f":"O141*$C141/12","v":0},{"$f":"SUM(E140:P140)","v":0},{"$f":"P140*12","v":0},null,{"$f":"IF(B141=\"データなし\",\"〇\",\" \")","v":"〇"}]
[null,{"$f":"①借入条件表!L122","v":"データなし"},{"$f":"①借入条件表!AN122+①借入条件表!AR122","v":0},"残高",{"$f":"C140-E139","v":0},{"$f":"E141-F139","v":0},{"$f":"F141-G139","v":0},{"$f":"G141-H139","v":0},{"$f":"H141-I139","v":0},{"$f":"I141-J139","v":0},{"$f":"J141-K139","v":0},{"$f":"K141-L139","v":0},{"$f":"L141-M139","v":0},{"$f":"M141-N139","v":0},{"$f":"N141-O139","v":0},{"$f":"O141-P139","v":0},{"$f":"P141","v":0},{"$f":"IF(P141>Q139,P141-Q139,0)","v":0},null,{"$f":"IF(B141=\"データなし\",\"〇\",\" \")","v":"〇"}]
[null,{"$f":"①借入条件表!Q124","v":0},{"$f":"①借入条件表!W124","v":0},"元金返済",{"$f":"①借入条件表!$AH124","v":0},{"$f":"IF(E144<=0,0,IF(E144<E142,E144,①借入条件表!$AH124))","v":0},{"$f":"IF(F144<=0,0,IF(F144<F142,F144,①借入条件表!$AH124))","v":0},{"$f":"IF(G144<=0,0,IF(G144<G142,G144,①借入条件表!$AH124))","v":0},{"$f":"IF(H144<=0,0,IF(H144<H142,H144,①借入条件表!$AH124))","v":0},{"$f":"IF(I144<=0,0,IF(I144<I142,I144,①借入条件表!$AH124))","v":0},{"$f":"IF(J144<=0,0,IF(J144<J142,J144,①借入条件表!$AH124))","v":0},{"$f":"IF(K144<=0,0,IF(K144<K142,K144,①借入条件表!$AH124))","v":0},{"$f":"IF(L144<=0,0,IF(L144<L142,L144,①借入条件表!$AH124))","v":0},{"$f":"IF(M144<=0,0,IF(M144<M142,M144,①借入条件表!$AH124))","v":0},{"$f":"IF(N144<=0,0,IF(N144<N142,N144,①借入条件表!$AH124))","v":0},{"$f":"IF(O144<=0,0,IF(O144<O142,O144,①借入条件表!$AH124))","v":0},{"$f":"SUM(E142:P142)","v":0},{"$f":"IF(P144>Q142,P142*12,P144)","v":0},null,{"$f":"IF(B144=\"データなし\",\"〇\",\" \")","v":"〇"}]
[null,{"$f":"①借入条件表!Q125","v":0},{"$f":"①借入条件表!W125","v":0},"利息",{"$f":"C143*C144/12","v":0},{"$f":"E144*$C144/12","v":0},{"$f":"F144*$C144/12","v":0},{"$f":"G144*$C144/12","v":0},{"$f":"H144*$C144/12","v":0},{"$f":"I144*$C144/12","v":0},{"$f":"J144*$C144/12","v":0},{"$f":"K144*$C144/12","v":0},{"$f":"L144*$C144/12","v":0},{"$f":"M144*$C144/12","v":0},{"$f":"N144*$C144/12","v":0},{"$f":"O144*$C144/12","v":0},{"$f":"SUM(E143:P143)","v":0},{"$f":"P143*12","v":0},null,{"$f":"IF(B144=\"データなし\",\"〇\",\" \")","v":"〇"}]
[null,{"$f":"①借入条件表!L124","v":"データなし"},{"$f":"①借入条件表!AN124+①借入条件表!AR124","v":0},"残高",{"$f":"C143-E142","v":0},{"$f":"E144-F142","v":0},{"$f":"F144-G142","v":0},{"$f":"G144-H142","v":0},{"$f":"H144-I142","v":0},{"$f":"I144-J142","v":0},{"$f":"J144-K142","v":0},{"$f":"K144-L142","v":0},{"$f":"L144-M142","v":0},{"$f":"M144-N142","v":0},{"$f":"N144-O142","v":0},{"$f":"O144-P142","v":0},{"$f":"P144","v":0},{"$f":"IF(P144>Q142,P144-Q142,0)","v":0},null,{"$f":"IF(B144=\"データなし\",\"〇\",\" \")","v":"〇"}]
[null,"小計",{"$f":"C133+C136+C139+C142","v":0},"元金返済",{"$f":"E133+E136+E139+E142","v":0},{"$f":"F133+F136+F139+F142","v":0},0,0,0,0,0,0,0,0,0,0,{"$f":"SUM(E145:P145)","v":0},{"$f":"+Q145","v":0},null,{"$f":"IF(C146>0,\"\",\"〇 \")","v":"〇 "}]
[null,null,{"$f":"C134+C137+C140+C143","v":0},"利息",{"$f":"E134+E137+E140+E143","v":0},0,0,0,0,0,0,0,0,0,0,0,{"$f":"SUM(E146:P146)","v":0},{"$f":"Q146","v":0},null,{"$f":"IF(C146>0,\"\",\"〇 \")","v":"〇 "}]
[null,null,null,"残高",0,0,0,0,0,0,0,0,0,0,0,0,{"$f":"P147","v":0},{"$f":"Q147-R145","v":0},null,{"$f":"IF(C146>0,\"\",\"〇 \")","v":"〇 "}]
["総借入金",null,{"$f":"C22+C40+C58+C76+C94+C112+C130+C145","v":40000000},"元金返済",{"$f":"E22+E40+E58+E76+E94+E112+E130+E145","v":667000},{"$f":"F22+F40+F58+F76+F94+F112+F130+F145","v":667000},667000,667000,667000,667000,667000,667000,667000,667000,667000,667000,{"$f":"SUM(E148:P148)","v":8004000},{"$f":"R22+R40+R58+R76+R94+R112+R130+R145","v":8004000}]
["残高合計",null,{"$f":"C23+C41+C59+C77+C95+C113+C131+C146","v":23000000},"利息",25000,{"$f":"F23+F41+F59+F77+F95+F113+F131+F146","v":24291.25},23582.5,22873.75,22165,21456.25,20747.5,20038.75,19330,18621.25,17912.5,17203.75,{"$f":"SUM(E149:P149)","v":253222.5},{"$f":"R23+R41+R59+R77+R95+R113+R131+R146","v":253222.5},null,{"$f":"IF(C148>0,\"\",\"〇 \")","v":""}]
["平均金利",null,null,"残高",22333000,21666000,20999000,20332000,19665000,18998000,18331000,17664000,16997000,16330000,15663000,14996000,{"$f":"P150","v":14996000},{"$f":"Q150-R148","v":6992000},null,""]
[]
["保全状況別残高推移",null,"プロパー",null,{"$f":"SUMIF($B$7:$B$132,\"プロパー\",E$7:E$132)","v":7833000},{"$f":"SUMIF($B$7:$B$132,\"プロパー\",F$7:F$132)","v":7666000},{"$f":"SUMIF($B$7:$B$132,\"プロパー\",G$7:G$132)","v":7499000},7332000,7165000,6998000,6831000,6664000,6497000,6330000,6163000,5996000,5996000,3992000]
[null,null,"保証協会",null,{"$f":"SUMIF($B$7:$B$147,\"協会\",E$7:E$147)","v":14500000},{"$f":"SUMIF($B$7:$B$147,\"協会\",F$7:F$147)","v":14000000},13500000,13000000,12500000,12000000,11500000,11000000,10500000,10000000,9500000,9000000,{"$f":"SUMIF($B$7:$B$147,\"協会\",Q$7:Q$147)","v":9000000},3000000]
[null,null,"日本政策金融公庫",null,{"$f":"SUMIF($B$133:$B$147,\"プロパー\",E$133:E$147)","v":0},{"$f":"SUMIF($B$133:$B$147,\"プロパー\",F$133:F$147)","v":0},0,0,0,0,0,0,0,0,0,0,0,{"$f":"SUMIF($B$133:$B$147,\"プロパー\",R$133:R$147)","v":0}]
[]
["金融機関別保全率",null,{"$f":"A7","v":"Ａ銀行"},null,{"$f":"E24/E$150","v":1},1,1,1,1,1,1,1,1,1,1,1,1,1,null,{"$f":"IF(C156=0,\"〇\",\" \")","v":" "}]
[null,null,{"$f":"A25","v":"Ｂ銀行"},null,{"$f":"E42/E$150","v":0},0,0,0,0,0,0,0,0,0,0,0,0,0,null," "]
[null,null,{"$f":"A43","v":0},null,{"$f":"E60/E$150","v":0},{"$f":"F60/F$150","v":0},0,0,0,0,0,0,0,0,0,0,{"$f":"Q60/Q$150","v":0},0,null,"〇"]
[null,null,{"$f":"A61","v":0},null,{"$f":"E78/E$150","v":0},{"$f":"F78/F$150","v":0},0,0,0,0,0,0,0,0,0,0,{"$f":"Q78/Q$150","v":0},0,null,"〇"]
[null,null,{"$f":"A79","v":0},null,{"$f":"E96/E$150","v":0},{"$f":"F96/F$150","v":0},0,0,0,0,0,0,0,0,0,0,{"$f":"Q96/Q$150","v":0},0,null,"〇"]
[null,null,{"$f":"A97","v":0},null,{"$f":"E114/E$150","v":0},{"$f":"F114/F$150","v":0},0,0,0,0,0,0,0,0,0,0,{"$f":"Q114/Q$150","v":0},0,null,"〇"]
[null,null,{"$f":"A115","v":0},null,{"$f":"E132/E$150","v":0},{"$f":"F132/F$150","v":0},0,0,0,0,0,0,0,0,0,0,{"$f":"Q132/Q$150","v":0},0,null,{"$f":"IF(C162=0,\"〇\",\" \")","v":"〇"}]
[null,null,{"$f":"A133","v":"日本政策金融公庫"},null,{"$f":"E147/E$150","v":0},{"$f":"F147/F$150","v":0},0,0,0,0,0,0,0,0,0,0,{"$f":"Q147/Q$150","v":0},0,null,{"$f":"IF(C163=0,\"〇\",\" \")","v":" "}]

{"sheet":"③長期取引推移表_合計","index":2,"n_rows":155,"n_cols":16384,"rows_kept":69,"cut":true,"hidden":false,"merged":[[138,82,138,84],[135,57,135,60],[135,61,135,63],[135,64,135,67],[135,68,135,70],[135,71,135,74],[135,75,135,77],[135,78,135,81],[135,82,135,84],[136,64,136,67],[136,68,136,70],[4,29,4,32],[4,36,4,39],[4,43,4,46],[4,50,4,53],[4,57,4,60],[4,64,4,67],[4,71,4,74],[4,78,4,81],[137,64,137,67],[137,68,137,70],[137,71,137,74],[137,75,137,77],[137,78,137,81],[137,82,137,84],[137,61,137,63],[136,71,136,74],[136,75,136,77],[136,78,136,81],[136,82,136,84],[133,61,133,63],[133,64,133,67],[151,29,151,32],[151,36,151,39],[151,43,151,46],[151,50,151,53],[151,57,151,60],[151,64,151,67],[151,71,151,74],[151,78,151,81],[138,68,138,70],[138,71,138,74],[138,75,138,77],[138,78,138,81],[151,18,151,21],[151,22,151,25],[151,26,151,28],[151,33,151,35],[151,40,151,42],[151,47,151,49],[151,54,151,56],[151,61,151,63],[151,68,151,70],[151,75,151,77],[139,61,139,63],[139,64,139,67],[139,68,139,70],[139,71,139,74],[139,75,139,77],[139,78,139,81],[141,57,141,60],[141,61,141,63],[141,64,141,67],[141,68,141,70],[138,4,138,17],[138,18,138,21],[138,22,138,25],[138,26,138,28],[138,29,138,32],[138,33,138,35],[138,36,138,39],[138,40,138,42],[138,43,138,46],[138,47,138,49],[138,50,138,53],[138,54,138,56],[138,57,138,60],[138,61,138,63],[138,64,138,67],[151,82,151,84],[137,4,137,7],[137,8,137,12],[137,13,137,14],[137,15,137,17],[137,18,137,21],[137,22,137,25],[137,26,137,28],[137,29,137,32],[137,33,137,35],[137,36,137,39],[137,40,137,42],[137,43,137,46],[137,47,137,49],[137,50,137,53],[137,54,137,56],[137,57,137,60],[136,4,136,7],[136,8,136,12],[136,13,136,14],[136,15,136,17],[136,18,136,21],[136,22,136,25],[136,26,136,28],[136,29,136,32],[136,33,136,35],[136,36,136,39],[136,40,136,42],[136,43,136,46],[136,47,136,49],[136,50,136,53],[136,54,136,56],[136,57,136,60],[136,61,136,63],[133,68,133,70],[133,71,133,74],[133,75,133,77],[133,78,133,81],[133,82,133,84],[134,4,134,7],[134,8,134,12],[134,13,134,14],[134,15,134,17],[134,18,134,21],[134,22,134,25],[134,26,134,28],[134,29,134,32],[134,33,134,35],[134,36,134,39],[134,40,134,42],[134,43,134,46],[134,47,134,49],[134,50,134,53],[134,54,134,56],[134,57,134,60],[134,61,134,63],[134,64,134,67],[134,68,134,70],[134,71,134,74],[134,75,134,77],[134,78,134,81],[134,82,134,84],[133,0,138,3],[133,4,133,7],[133,8,133,12],[133,13,133,14],[133,15,133,17],[133,18,133,21],[133,22,133,25],[133,26,133,28],[133,29,133,32],[133,33,133,35],[133,36,133,39],[133,40,133,42],[133,43,133,46],[133,47,133,49],[133,50,133,53],[133,54,133,56],[133,57,133,60],[135,4,135,7],[135,8,135,12],[135,13,135,14],[135,15,135,17],[135,18,135,21],[135,22,135,25],[135,26,135,28],[135,29,135,32],[135,33,135,35],[135,36,135,39],[135,40,135,42],[135,43,135,46],[135,47,135,49],[135,50,135,53],[135,54,135,56],[131,78,131,81],[131,82,131,84],[132,4,132,17],[132,18,132,21],[132,22,132,25],[132,26,132,28],[132,29,132,32],[132,33,132,35],[132,36,132,39],[132,40,132,42],[132,43,132,46],[132,47,132,49],[132,50,132,53],[132,54,132,56],[132,57,132,60],[132,61,132,63],[132,64,132,67],[132,68,132,70],[132,71,132,74],[132,75,132,77],[132,78,132,81],[132,82,132,84],[131,4,131,7],[131,8,131,12],[131,13,131,14],[131,15,131,17],[131,18,131,21],[131,22,131,25],[131,26,131,28],[131,29,131,32],[131,33,131,35],[131,36,131,39],[131,40,131,42],[131,43,131,46],[131,47,131,49],[131,50,131,53],[131,54,131,56],[131,57,131,60],[131,61,131,63],[129,57,129,60],[129,61,129,63],[129,64,129,67],[129,68,129,70],[129,71,129,74],[129,75,129,77],[131,64,131,67],[131,68,131,70],[131,71,131,74],[131,75,131,77],[129,78,129,81],[129,82,129,84],[130,4,130,7],[130,8,130,12],[130,13,130,14],[130,15,130,17],[130,18,130,21],[130,22,130,25],[130,26,130,28],[130,29,130,32],[130,33,130,35],[130,36,130,39],[130,40,130,42],[130,43,130,46],[130,47,130,49],[130,50,130,53],[130,54,130,56],[130,57,130,60],[130,61,130,63],[130,64,130,67],[130,68,130,70],[130,71,130,74],[130,75,130,77],[130,78,130,81],[130,82,130,84],[127,61,127,63],[127,64,127,67],[127,68,127,70],[127,71,127,74],[127,75,127,77],[127,78,127,81],[127,82,127,84],[128,4,128,7],[128,8,128,12],[128,13,128,14],[128,15,128,17],[128,18,128,21],[128,22,128,25],[128,26,128,28],[128,29,128,32],[128,33,128,35],[128,36,128,39],[128,40,128,42],[128,43,128,46],[128,47,128,49],[128,50,128,53],[128,54,128,56],[128,57,128,60],[128,61,128,63],[128,64,128,67],[128,68,128,70],[128,71,128,74],[128,75,128,77],[128,78,128,81],[128,82,128,84],[127,0,132,3],[127,4,127,7],[127,8,127,12],[127,13,127,14],[127,15,127,17],[127,18,127,21],[127,22,127,25],[127,26,127,28],[127,29,127,32],[127,33,127,35],[127,36,127,39],[127,40,127,42],[127,43,127,46],[127,47,127,49],[127,50,127,53],[127,54,127,56],[127,57,127,60],[129,4,129,7],[129,8,129,12],[129,13,129,14],[129,15,129,17],[129,18,129,21],[129,22,129,25],[129,26,129,28],[129,29,129,32],[129,33,129,35],[129,36,129,39],[129,40,129,42],[129,43,129,46],[129,47,129,49],[129,50,129,53],[129,54,129,56],[125,78,125,81],[125,82,125,84],[126,4,126,17],[126,18,126,21],[126,22,126,25],[126,26,126,28],[126,29,126,32],[126,33,126,35],[126,36,126,39],[126,40,126,42],[126,43,126,46],[126,47,126,49],[126,50,126,53],[126,54,126,56],[126,57,126,60],[126,61,126,63],[126,64,126,67],[126,68,126,70],[126,71,126,74],[126,75,126,77],[126,78,126,81],[126,82,126,84],[125,4,125,7],[125,8,125,12],[125,13,125,14],[125,15,125,17],[125,18,125,21],[125,22,125,25],[125,26,125,28],[125,29,125,32],[125,33,125,35],[125,36,125,39],[125,40,125,42],[125,43,125,46],[125,47,125,49],[125,50,125,53],[125,54,125,56],[125,57,125,60],[125,61,125,63],[123,57,123,60],[123,61,123,63],[123,64,123,67],[123,68,123,70],[123,71,123,74],[123,75,123,77],[125,64,125,67],[125,68,125,70],[125,71,125,74],[125,75,125,77],[123,78,123,81],[123,82,123,84],[124,4,124,7],[124,8,124,12],[124,13,124,14],[124,15,124,17],[124,18,124,21],[124,22,124,25],[124,26,124,28],[124,29,124,32],[124,33,124,35],[124,36,124,39],[124,40,124,42],[124,43,124,46],[124,47,124,49],[124,50,124,53],[124,54,124,56],[124,57,124,60],[124,61,124,63],[124,64,124,67],[124,68,124,70],[124,71,124,74],[124,75,124,77],[124,78,124,81],[124,82,124,84],[121,61,121,63],[121,64,121,67],[121,68,121,70],[121,71,121,74],[121,75,121,77],[121,78,121,81],[121,82,121,84],[122,4,122,7],[122,8,122,12],[122,13,122,14],[122,15,122,17],[122,18,122,21],[122,22,122,25],[122,26,122,28],[122,29,122,32],[122,33,122,35],[122,36,122,39],[122,40,122,42],[122,43,122,46],[122,47,122,49],[122,50,122,53],[122,54,122,56],[122,57,122,60],[122,61,122,63],[122,64,122,67],[122,68,122,70],[122,71,122,74],[122,75,122,77],[122,78,122,81],[122,82,122,84],[121,0,126,3],[121,4,121,7],[121,8,121,12],[121,13,121,14],[121,15,121,17],[121,18,121,21],[121,22,121,25],[121,26,121,28],[121,29,121,32],[121,33,121,35],[121,36,121,39],[121,40,121,42],[121,43,121,46],[121,47,121,49],[121,50,121,53],[121,54,121,56],[121,57,121,60],[123,4,123,7],[123,8,123,12],[123,13,123,14],[123,15,123,17],[123,18,123,21],[123,22,123,25],[123,26,123,28],[123,29,123,32],[123,33,123,35],[123,36,123,39],[123,40,123,42],[123,43,123,46],[123,47,123,49],[123,50,123,53],[123,54,123,56],[119,47,119,49],[119,50,119,53],[119,54,119,56],[119,57,119,60],[119,61,119,63],[119,64,119,67],[119,68,119,70],[119,71,119,74],[119,75,119,77],[119,78,119,81],[119,82,119,84],[120,4,120,17],[120,18,120,21],[120,22,120,25],[120,26,120,28],[120,29,120,32],[120,33,120,35],[120,36,120,39],[120,40,120,42],[120,43,120,46],[120,47,120,49],[120,50,120,53],[120,54,120,56],[120,57,120,60],[120,61,120,63],[120,64,120,67],[120,68,120,70],[120,71,120,74],[120,75,120,77],[120,78,120,81],[120,82,120,84],[119,4,119,7],[117,29,117,32],[117,33,117,35],[117,36,117,39],[117,40,117,42],[118,4,118,7],[118,8,118,12],[118,13,118,14],[118,15,118,17],[118,18,118,21],[118,22,118,25],[118,26,118,28],[118,29,118,32],[118,33,118,35],[118,36,118,39],[118,40,118,42],[118,43,118,46],[119,40,119,42],[119,43,119,46],[119,8,119,12],[119,13,119,14],[119,15,119,17],[119,18,119,21],[119,22,119,25],[119,26,119,28],[119,29,119,32],[119,33,119,35],[119,36,119,39],[114,18,114,21],[114,22,114,25],[114,26,114,28],[114,29,114,32],[114,33,114,35],[114,36,114,39],[114,40,114,42],[114,43,114,46],[114,47,114,49],[114,54,114,56],[114,61,114,63],[114,68,114,70],[114,75,114,77],[114,78,114,81],[114,82,114,84],[115,0,120,3],[115,4,115,7],[115,8,115,12],[115,13,115,14],[115,15,115,17],[115,18,115,21],[115,22,115,25],[115,26,115,28],[115,29,115,32],[115,33,115,35],[115,36,115,39],[115,40,115,42],[115,43,115,46],[117,15,117,17],[117,18,117,21],[117,22,117,25],[117,26,117,28],[116,78,116,81],[116,82,116,84],[117,43,117,46],[117,47,117,49],[117,50,117,53],[117,54,117,56],[117,57,117,60],[117,61,117,63],[117,64,117,67],[117,68,117,70],[117,71,117,74],[117,75,117,77],[117,78,117,81],[117,82,117,84],[118,47,118,49],[118,50,118,53],[118,54,118,56],[118,57,118,60],[118,61,118,63],[118,64,118,67],[118,68,118,70],[118,71,118,74],[118,75,118,77],[118,78,118,81],[118,82,118,84],[115,57,115,60],[115,61,115,63],[115,64,115,67],[115,68,115,70],[117,4,117,7],[117,8,117,12],[117,13,117,14],[115,71,115,74],[115,75,115,77],[115,78,115,81],[115,82,115,84],[116,4,116,7],[116,8,116,12],[116,13,116,14],[116,15,116,17],[116,18,116,21],[116,22,116,25],[116,26,116,28],[116,29,116,32],[116,33,116,35],[116,36,116,39],[116,40,116,42],[116,43,116,46],[116,47,116,49],[116,50,116,53],[116,54,116,56],[116,57,116,60],[116,61,116,63],[116,64,116,67],[116,68,116,70],[116,71,116,74],[116,75,116,77],[85,78,85,81],[85,82,85,84],[86,4,86,17],[86,18,86,21],[86,22,86,25],[86,26,86,28],[86,29,86,32],[86,33,86,35],[86,36,86,39],[86,40,86,42],[86,43,86,46],[86,47,86,49],[86,50,86,53],[86,54,86,56],[86,57,86,60],[86,61,86,63],[86,64,86,67],[86,68,86,70],[86,71,86,74],[86,75,86,77],[86,78,86,81],[86,82,86,84],[85,4,85,7],[85,8,85,12],[85,13,85,14],[85,15,85,17],[85,18,85,21],[85,22,85,25],[85,26,85,28],[85,29,85,32],[85,33,85,35],[85,36,85,39],[85,40,85,42],[85,43,85,46],[85,47,85,49],[85,50,85,53],[85,54,85,56],[85,57,85,60],[85,61,85,63],[83,57,83,60],[83,61,83,63],[83,64,83,67],[83,68,83,70],[83,71,83,74],[83,75,83,77],[85,64,85,67],[85,68,85,70],[85,71,85,74],[85,75,85,77],[83,78,83,81],[83,82,83,84],[84,4,84,7],[84,8,84,12],[84,13,84,14],[84,15,84,17],[84,18,84,21],[84,22,84,25],[84,26,84,28],[84,29,84,32],[84,33,84,35],[84,36,84,39],[84,40,84,42],[84,43,84,46],[84,47,84,49],[84,50,84,53],[84,54,84,56],[84,57,84,60],[84,61,84,63],[84,64,84,67],[84,68,84,70],[84,71,84,74],[84,75,84,77],[84,78,84,81],[84,82,84,84],[81,61,81,63],[81,64,81,67],[81,68,81,70],[81,71,81,74],[81,75,81,77],[81,78,81,81],[81,82,81,84],[82,4,82,7],[82,8,82,12],[82,13,82,14],[82,15,82,17],[82,18,82,21],[82,22,82,25],[82,26,82,28],[82,29,82,32],[82,33,82,35],[82,36,82,39],[82,40,82,42],[82,43,82,46],[82,47,82,49],[82,50,82,53],[82,54,82,56],[82,57,82,60],[82,61,82,63],[82,64,82,67],[82,68,82,70],[82,71,82,74],[82,75,82,77],[82,78,82,81],[82,82,82,84],[81,0,86,3],[81,4,81,7],[81,8,81,12],[81,13,81,14],[81,15,81,17],[81,18,81,21],[81,22,81,25],[81,26,81,28],[81,29,81,32],[81,33,81,35],[81,36,81,39],[81,40,81,42],[81,43,81,46],[81,47,81,49],[81,50,81,53],[81,54,81,56],[81,57,81,60],[83,4,83,7],[83,8,83,12],[83,13,83,14],[83,15,83,17],[83,18,83,21],[83,22,83,25],[83,26,83,28],[83,29,83,32],[83,33,83,35],[83,36,83,39],[83,40,83,42],[83,43,83,46],[83,47,83,49],[83,50,83,53],[83,54,83,56],[101,64,101,67],[101,68,101,70],[101,71,101,74],[101,75,101,77],[101,78,101,81],[101,82,101,84],[102,4,102,7],[102,8,102,12],[102,13,102,14],[102,15,102,17],[102,18,102,21],[102,22,102,25],[102,26,102,28],[102,29,102,32],[102,33,102,35],[102,36,102,39],[102,40,102,42],[102,43,102,46],[102,47,102,49],[102,50,102,53],[102,54,102,56],[102,57,102,60],[102,61,102,63],[102,64,102,67],[102,68,102,70],[102,71,102,74],[102,75,102,77],[102,78,102,81],[102,82,102,84],[101,4,101,7],[101,8,101,12],[101,13,101,14],[101,15,101,17],[101,18,101,21],[101,22,101,25],[101,26,101,28],[101,29,101,32],[101,33,101,35],[101,36,101,39],[101,40,101,42],[101,43,101,46],[101,47,101,49],[101,50,101,53],[101,54,101,56],[101,57,101,60],[101,61,101,63],[99,54,99,56],[99,57,99,60],[99,61,99,63],[99,64,99,67],[99,68,99,70],[99,71,99,74],[99,75,99,77],[99,78,99,81],[99,82,99,84],[100,4,100,7],[100,8,100,12],[100,13,100,14],[100,15,100,17],[100,18,100,21],[100,22,100,25],[100,26,100,28],[100,29,100,32],[100,33,100,35],[100,36,100,39],[100,40,100,42],[100,43,100,46],[100,47,100,49],[100,50,100,53],[100,54,100,56],[100,57,100,60],[100,61,100,63],[100,64,100,67],[100,68,100,70],[100,71,100,74],[100,75,100,77],[100,78,100,81],[100,82,100,84],[79,78,79,81],[79,82,79,84],[80,4,80,17],[80,18,80,21],[80,22,80,25],[80,26,80,28],[80,29,80,32],[80,33,80,35],[80,36,80,39],[80,40,80,42],[80,43,80,46],[80,47,80,49],[80,50,80,53],[80,54,80,56],[80,57,80,60],[80,61,80,63],[80,64,80,67],[80,68,80,70],[80,71,80,74],[80,75,80,77],[80,78,80,81],[80,82,80,84],[79,4,79,7],[79,8,79,12],[79,13,79,14],[79,15,79,17],[79,18,79,21],[79,22,79,25],[79,26,79,28],[79,29,79,32],[79,33,79,35],[79,36,79,39],[79,40,79,42],[79,43,79,46],[79,47,79,49],[79,50,79,53],[79,54,79,56],[79,57,79,60],[79,61,79,63],[77,57,77,60],[77,61,77,63],[77,64,77,67],[77,68,77,70],[77,71,77,74],[77,75,77,77],[79,64,79,67],[79,68,79,70],[79,71,79,74],[79,75,79,77],[77,78,77,81],[77,82,77,84],[78,4,78,7],[78,8,78,12],[78,13,78,14],[78,15,78,17],[78,18,78,21],[78,22,78,25],[78,26,78,28],[78,29,78,32],[78,33,78,35],[78,36,78,39],[78,40,78,42],[78,43,78,46],[78,47,78,49],[78,50,78,53],[78,54,78,56],[78,57,78,60],[78,61,78,63],[78,64,78,67],[78,68,78,70],[78,71,78,74],[78,75,78,77],[78,78,78,81],[78,82,78,84],[75,61,75,63],[75,64,75,67],[75,68,75,70],[75,71,75,74],[75,75,75,77],[75,78,75,81],[75,82,75,84],[76,4,76,7],[76,8,76,12],[76,13,76,14],[76,15,76,17],[76,18,76,21],[76,22,76,25],[76,26,76,28],[76,29,76,32],[76,33,76,35],[76,36,76,39],[76,40,76,42],[76,43,76,46],[76,47,76,49],[76,50,76,53],[76,54,76,56],[76,57,76,60],[76,61,76,63],[76,64,76,67],[76,68,76,70],[76,71,76,74],[76,75,76,77],[76,78,76,81],[76,82,76,84],[75,0,80,3],[75,4,75,7],[75,8,75,12],[75,13,75,14],[75,15,75,17],[75,18,75,21],[75,22,75,25],[75,26,75,28],[75,29,75,32],[75,33,75,35],[75,36,75,39],[75,40,75,42],[75,43,75,46],[75,47,75,49],[75,50,75,53],[75,54,75,56],[75,57,75,60],[77,4,77,7],[77,8,77,12],[77,13,77,14],[77,15,77,17],[77,18,77,21],[77,22,77,25],[77,26,77,28],[77,29,77,32],[77,33,77,35],[77,36,77,39],[77,40,77,42],[77,43,77,46],[77,47,77,49],[77,50,77,53],[77,54,77,56],[73,78,73,81],[73,82,73,84],[74,4,74,17],[74,18,74,21],[74,22,74,25],[74,26,74,28],[74,29,74,32],[74,33,74,35],[74,36,74,39],[74,40,74,42],[74,43,74,46],[74,47,74,49],[74,50,74,53],[74,54,74,56],[74,57,74,60],[74,61,74,63],[74,64,74,67],[74,68,74,70],[74,71,74,74],[74,75,74,77],[74,78,74,81],[74,82,74,84],[73,4,73,7],[73,8,73,12],[73,13,73,14],[73,15,73,17],[73,18,73,21],[73,22,73,25],[73,26,73,28],[73,29,73,32],[73,33,73,35],[73,36,73,39],[73,40,73,42],[73,43,73,46],[73,47,73,49],[73,50,73,53],[73,54,73,56],[73,57,73,60],[73,61,73,63],[71,57,71,60],[71,61,71,63],[71,64,71,67],[71,68,71,70],[71,71,71,74],[71,75,71,77],[73,64,73,67],[73,68,73,70],[73,71,73,74],[73,75,73,77],[71,78,71,81],[71,82,71,84],[72,4,72,7],[72,8,72,12],[72,13,72,14],[72,15,72,17],[72,18,72,21],[72,22,72,25]],"bounds":{"rows_first":31,"rows_last":7,"rows_between":31,"halvings":6},"merged_total":3250,"flags":["merged_cut"]}
["株式会社　○○○○　　　　 銀行別長期借入計画表　(合計分)"]
[]
["<合計>",null,null,null,null,null,null,null,null,null,null,null,null,null,null,null,null,null,null,null,null,null,null,null,null,null,null,null,null,null,null,null,null,null,null,null,null,null,null,null,null,null,null,null,null,null,null,null,null,null,null,null,null,null,null,null,null,null,null,null,null,null,null,null,null,null,null,null,null,null,null,null,null,null,null,null,null,null,"(単位：円)"]
["金融機関",null,null,null,"保全状況",null,null,null,"借入期間",null,null,null,null,"年数",null,"資金\n使途",null,null,"当初借入額",null,null,null,"前期",null,null,null,null,null,null,{"$f":"①借入条件表!$W$5","v":"令和"},{"$f":"$AL$4-1","v":3},{"$f":"①借入条件表!$Y$5","v":"年"},{"$f":"$AN$4","v":5},{"$f":"①借入条件表!$AA$5","v":"月末"},null,null,{"$f":"①借入条件表!$W$5","v":"令和"},{"$f":"①借入条件表!$X$5","v":"4"},{"$f":"①借入条件表!$Y$5","v":"年"},{"$f":"①借入条件表!$Z$5","v":5},{"$f":"①借入条件表!$AA$5","v":"月末"},null,null,{"$f":"①借入条件表!$W$5","v":"令和"},{"$f":"$AL$4+1","v":5},{"$f":"①借入条件表!$Y$5","v":"年"},{"$f":"$AN$4","v":5},{"$f":"①借入条件表!$AA$5","v":"月末"},null,null,{"$f":"①借入条件表!$W$5","v":"令和"},{"$f":"$AS$4+1","v":6},{"$f":"①借入条件表!$Y$5","v":"年"},{"$f":"$AN$4","v":5},{"$f":"①借入条件表!$AA$5","v":"月末"},null,null,{"$f":"①借入条件表!$W$5","v":"令和"},{"$f":"$AZ$4+1","v":7},{"$f":"①借入条件表!$Y$5","v":"年"},{"$f":"$AN$4","v":5},{"$f":"①借入条件表!$AA$5","v":"月末"},null,null,{"$f":"①借入条件表!$W$5","v":"令和"},{"$f":"$BG$4+1","v":8},{"$f":"①借入条件表!$Y$5","v":"年"},{"$f":"$AN$4","v":5},{"$f":"①借入条件表!$AA$5","v":"月末"},null,null,{"$f":"①借入条件表!$W$5","v":"令和"},{"$f":"$BN$4+1","v":9},{"$f":"①借入条件表!$Y$5","v":"年"},{"$f":"$AN$4","v":5},{"$f":"①借入条件表!$AA$5","v":"月末"},null,null,{"$f":"①借入条件表!$W$5","v":"令和"},{"$f":"$BU$4+1","v":10},{"$f":"①借入条件表!$Y$5","v":"年"},{"$f":"$AN$4","v":5},{"$f":"①借入条件表!$AA$5","v":"月末"}]
[null,null,null,null,null,null,null,null,null,null,null,null,null,null,null,null,null,null,null,null,null,null,"H22.10",null,null,null,"比率",null,null,"残高",null,null,null,"比率",null,null,"残高",null,null,null,"比率",null,null,"残高",null,null,null,"比率",null,null,"残高",null,null,null,"比率",null,null,"残高",null,null,null,"比率",null,null,"残高",null,null,null,"比率",null,null,"残高",null,null,null,"比率",null,null,"残高",null,null,null,"比率"]
[{"$f":"①借入条件表!$E$6","v":"Ａ銀行"},null,null,null,{"$f":"①借入条件表!L6","v":"プロパー"},null,null,null,{"$f":"①借入条件表!Q6","v":60},null,null,null,null,{"$f":"①借入条件表!Q7","v":5},null,{"$f":"①借入条件表!AV6","v":0},null,null,{"$f":"①借入条件表!W6","v":10000000},null,null,null,0,null,null,null,{"$f":"W6/$W$53","v":{"$error":"#REF!"}},null,null,{"$f":"IF((AK6+AK6-AR6)>S6,0,AK6+AK6-AR6)","v":0},null,null,null,{"$f":"IF(AD6=0,\"0\",AD6/$AD$53)","v":"0"},null,null,{"$f":"①借入条件表!W7","v":8000000},null,null,null,{"$f":"IF(AK6=0,\"0\",AK6/$AK$53)","v":0.34782608695652173},null,null,{"$f":"②銀行別取引推移表!Q9","v":5996000},null,null,null,{"$f":"IF(AR6=0,\"0\",AR6/$AR$53)","v":0.39983995732195254},null,null,{"$f":"②銀行別取引推移表!R9","v":3992000},null,null,null,{"$f":"IF(AY6=0,\"0\",AY6/$AY$53)","v":0.57093821510297482},null,null,{"$f":"IF(AY6-(AR6-AY6)>0,AY6-(AR6-AY6),0)","v":1988000},null,null,null,{"$f":"IF(BF6=0,\"0\",BF6/$BF$53)","v":1},null,null,{"$f":"IF(BF6-(AY6-BF6)>0,BF6-(AY6-BF6),0)","v":0},null,null,null,{"$f":"IF(BM6=0,\"0\",BM6/$BM$53)","v":"0"},null,null,{"$f":"IF(BM6-(BF6-BM6)>0,BM6-(BF6-BM6),0)","v":0},null,null,null,{"$f":"IF(BT6=0,\"0\",BT6/$BT$53)","v":"0"},null,null,{"$f":"IF(BT6-(BM6-BT6)>0,BT6-(BM6-BT6),0)","v":0},null,null,null,{"$f":"IF(CA6=0,\"0\",CA6/$CA$53)","v":"0"},null,null,null,{"$f":"IF(E6=\"データなし\",\"〇\",\"\")","v":""}]
[null,null,null,null,{"$f":"①借入条件表!L8","v":"協会"},null,null,null,{"$f":"①借入条件表!Q8","v":60},null,null,null,null,{"$f":"①借入条件表!Q9","v":5},null,{"$f":"①借入条件表!AV8","v":0},null,null,{"$f":"①借入条件表!W8","v":30000000},null,null,null,0,null,null,null,{"$error":"#REF!"},null,null,{"$f":"IF((AK7+AK7-AR7)>S7,0,AK7+AK7-AR7)","v":21000000},null,null,null,{"$f":"IF(AD7=0,\"0\",AD7/$AD$53)","v":1},null,null,{"$f":"①借入条件表!W9","v":15000000},null,null,null,{"$f":"IF(AK7=0,\"0\",AK7/$AK$53)","v":0.65217391304347827},null,null,{"$f":"②銀行別取引推移表!Q12","v":9000000},null,null,null,{"$f":"IF(AR7=0,\"0\",AR7/$AR$53)","v":0.60016004267804746},null,null,{"$f":"②銀行別取引推移表!R12","v":3000000},null,null,null,{"$f":"IF(AY7=0,\"0\",AY7/$AY$53)","v":0.42906178489702518},null,null,{"$f":"IF(AY7-(AR7-AY7)>0,AY7-(AR7-AY7),0)","v":0},null,null,null,{"$f":"IF(BF7=0,\"0\",BF7/$BF$53)","v":"0"},null,null,{"$f":"IF(BF7-(AY7-BF7)>0,BF7-(AY7-BF7),0)","v":0},null,null,null,{"$f":"IF(BM7=0,\"0\",BM7/$BM$53)","v":"0"},null,null,{"$f":"IF(BM7-(BF7-BM7)>0,BM7-(BF7-BM7),0)","v":0},null,null,null,{"$f":"IF(BT7=0,\"0\",BT7/$BT$53)","v":"0"},null,null,{"$f":"IF(BT7-(BM7-BT7)>0,BT7-(BM7-BT7),0)","v":0},null,null,null,{"$f":"IF(CA7=0,\"0\",CA7/$CA$53)","v":"0"},null,null,null,{"$f":"IF(E7=\"データなし\",\"〇\",\"\")","v":""}]
[null,null,null,null,{"$f":"①借入条件表!L10","v":"データなし"},null,null,null,{"$f":"①借入条件表!Q10","v":0},null,null,null,null,{"$f":"①借入条件表!Q11","v":0},null,{"$f":"①借入条件表!AV10","v":0},null,null,{"$f":"①借入条件表!W10","v":0},null,null,null,0,null,null,null,{"$error":"#REF!"},null,null,{"$f":"IF((AK8+AK8-AR8)>S8,0,AK8+AK8-AR8)","v":0},null,null,null,"0",null,null,{"$f":"①借入条件表!W11","v":0},null,null,null,"0",null,null,{"$f":"②銀行別取引推移表!Q15","v":0},null,null,null,"0",null,null,{"$f":"②銀行別取引推移表!R15","v":0},null,null,null,"0",null,null,0,null,null,null,"0",null,null,0,null,null,null,"0",null,null,0,null,null,null,"0",null,null,0,null,null,null,"0",null,null,null,"〇"]
[null,null,null,null,{"$f":"①借入条件表!L12","v":"データなし"},null,null,null,{"$f":"①借入条件表!Q12","v":0},null,null,null,null,{"$f":"①借入条件表!Q13","v":0},null,{"$f":"①借入条件表!AV12","v":0},null,null,{"$f":"①借入条件表!W12","v":0},null,null,null,0,null,null,null,{"$error":"#REF!"},null,null,{"$f":"IF((AK9+AK9-AR9)>S9,0,AK9+AK9-AR9)","v":0},null,null,null,"0",null,null,{"$f":"①借入条件表!W13","v":0},null,null,null,"0",null,null,{"$f":"②銀行別取引推移表!Q18","v":0},null,null,null,"0",null,null,{"$f":"②銀行別取引推移表!R18","v":0},null,null,null,"0",null,null,0,null,null,null,"0",null,null,0,null,null,null,"0",null,null,0,null,null,null,"0",null,null,0,null,null,null,"0",null,null,null,"〇"]
[null,null,null,null,{"$f":"①借入条件表!L14","v":"データなし"},null,null,null,{"$f":"①借入条件表!Q14","v":0},null,null,null,null,{"$f":"①借入条件表!Q15","v":0},null,{"$f":"①借入条件表!AV14","v":0},null,null,{"$f":"①借入条件表!W14","v":0},null,null,null,0,null,null,null,{"$error":"#REF!"},null,null,0,null,null,null,"0",null,null,{"$f":"①借入条件表!W15","v":0},null,null,null,"0",null,null,{"$f":"②銀行別取引推移表!Q21","v":0},null,null,null,"0",null,null,{"$f":"②銀行別取引推移表!R21","v":0},null,null,null,"0",null,null,0,null,null,null,"0",null,null,0,null,null,null,"0",null,null,0,null,null,null,"0",null,null,0,null,null,null,"0",null,null,null,"〇"]
[null,null,null,null,"小計",null,null,null,null,null,null,null,null,null,null,null,null,null,{"$f":"SUBTOTAL(9,S6:V10)","v":40000000},null,null,null,{"$f":"SUM(W6:Z10)","v":0},null,null,null,{"$error":"#REF!"},null,null,{"$f":"SUBTOTAL(9,AD6:AG10)","v":21000000},null,null,null,{"$f":"IF(AD11=0,\"0\",AD11/$AD$53)","v":1},null,null,{"$f":"SUBTOTAL(9,AK6:AN10)","v":23000000},null,null,null,1,null,null,{"$f":"SUBTOTAL(9,AR6:AU10)","v":14996000},null,null,null,1,null,null,{"$f":"SUBTOTAL(9,AY6:BB10)","v":6992000},null,null,null,1,null,null,{"$f":"SUBTOTAL(9,BF6:BI10)","v":1988000},null,null,null,1,null,null,{"$f":"SUBTOTAL(9,BM6:BP10)","v":0},null,null,null,"0",null,null,{"$f":"SUBTOTAL(9,BT6:BW10)","v":0},null,null,null,"0",null,null,{"$f":"SUBTOTAL(9,CA6:CD10)","v":0},null,null,null,"0",null,null,null,{"$f":"IF(S11>0,\"\",\"〇\")","v":""},{"$f":"S11","v":40000000},{"$f":"AD11","v":21000000},{"$f":"AK11","v":23000000},{"$f":"AR11","v":14996000},{"$f":"AY11","v":6992000},{"$f":"BF11","v":1988000},{"$f":"BM11","v":0},{"$f":"BT11","v":0},{"$f":"CA11","v":0}]
[{"$f":"①借入条件表!$E$22","v":"Ｂ銀行"},null,null,null,{"$f":"①借入条件表!L22","v":"データなし"},null,null,null,{"$f":"①借入条件表!Q22","v":0},null,null,null,null,{"$f":"①借入条件表!Q23","v":0},null,{"$f":"①借入条件表!AV22","v":0},null,null,{"$f":"①借入条件表!W22","v":0},null,null,null,0,null,null,null,{"$error":"#REF!"},null,null,{"$f":"IF((AK12+AK12-AR12)>S12,0,AK12+AK12-AR12)","v":0},null,null,null,{"$f":"IF(AD12=0,\"0\",AD12/$AD$53)","v":"0"},null,null,{"$f":"①借入条件表!W23","v":0},null,null,null,"0",null,null,{"$f":"②銀行別取引推移表!Q27","v":0},null,null,null,"0",null,null,{"$f":"②銀行別取引推移表!R27","v":0},null,null,null,"0",null,null,{"$f":"IF(AY12-(AR12-AY12)>0,AY12-(AR12-AY12),0)","v":0},null,null,null,"0",null,null,{"$f":"IF(BF12-(AY12-BF12)>0,BF12-(AY12-BF12),0)","v":0},null,null,null,"0",null,null,{"$f":"IF(BM12-(BF12-BM12)>0,BM12-(BF12-BM12),0)","v":0},null,null,null,"0",null,null,{"$f":"IF(BT12-(BM12-BT12)>0,BT12-(BM12-BT12),0)","v":0},null,null,null,"0",null,null,null,{"$f":"IF(E12=\"データなし\",\"〇\",\"\")","v":"〇"}]
[null,null,null,null,{"$f":"①借入条件表!L24","v":"データなし"},null,null,null,{"$f":"①借入条件表!Q24","v":0},null,null,null,null,{"$f":"①借入条件表!Q25","v":0},null,{"$f":"①借入条件表!AV24","v":0},null,null,{"$f":"①借入条件表!W24","v":0},null,null,null,0,null,null,null,{"$error":"#REF!"},null,null,0,null,null,null,"0",null,null,{"$f":"①借入条件表!W25","v":0},null,null,null,"0",null,null,{"$f":"②銀行別取引推移表!Q30","v":0},null,null,null,"0",null,null,{"$f":"②銀行別取引推移表!R30","v":0},null,null,null,"0",null,null,{"$f":"IF(AY13-(AR13-AY13)>0,AY13-(AR13-AY13),0)","v":0},null,null,null,"0",null,null,{"$f":"IF(BF13-(AY13-BF13)>0,BF13-(AY13-BF13),0)","v":0},null,null,null,"0",null,null,{"$f":"IF(BM13-(BF13-BM13)>0,BM13-(BF13-BM13),0)","v":0},null,null,null,"0",null,null,{"$f":"IF(BT13-(BM13-BT13)>0,BT13-(BM13-BT13),0)","v":0},null,null,null,"0",null,null,null,{"$f":"IF(E13=\"データなし\",\"〇\",\"\")","v":"〇"}]
[null,null,null,null,{"$f":"①借入条件表!L26","v":"データなし"},null,null,null,{"$f":"①借入条件表!Q26","v":0},null,null,null,null,{"$f":"①借入条件表!Q27","v":0},null,{"$f":"①借入条件表!AV26","v":0},null,null,{"$f":"①借入条件表!W26","v":0},null,null,null,0,null,null,null,{"$error":"#REF!"},null,null,{"$f":"IF((AK14+AK14-AR14)>S14,0,AK14+AK14-AR14)","v":0},null,null,null,"0",null,null,{"$f":"①借入条件表!W27","v":0},null,null,null,"0",null,null,{"$f":"②銀行別取引推移表!Q33","v":0},null,null,null,"0",null,null,{"$f":"②銀行別取引推移表!R33","v":0},null,null,null,"0",null,null,0,null,null,null,"0",null,null,0,null,null,null,"0",null,null,0,null,null,null,"0",null,null,0,null,null,null,"0",null,null,null,"〇"]
[null,null,null,null,{"$f":"①借入条件表!L28","v":"データなし"},null,null,null,{"$f":"①借入条件表!Q28","v":0},null,null,null,null,{"$f":"①借入条件表!Q29","v":0},null,{"$f":"①借入条件表!AV28","v":0},null,null,{"$f":"①借入条件表!W28","v":0},null,null,null,0,null,null,null,{"$error":"#REF!"},null,null,{"$f":"IF((AK15+AK15-AR15)>S15,0,AK15+AK15-AR15)","v":0},null,null,null,"0",null,null,{"$f":"①借入条件表!W29","v":0},null,null,null,"0",null,null,{"$f":"②銀行別取引推移表!Q36","v":0},null,null,null,"0",null,null,{"$f":"②銀行別取引推移表!R36","v":0},null,null,null,"0",null,null,0,null,null,null,"0",null,null,0,null,null,null,"0",null,null,0,null,null,null,"0",null,null,0,null,null,null,"0",null,null,null,"〇"]
[null,null,null,null,{"$f":"①借入条件表!L30","v":"データなし"},null,null,null,{"$f":"①借入条件表!Q30","v":0},null,null,null,null,{"$f":"①借入条件表!Q31","v":0},null,{"$f":"①借入条件表!AV30","v":0},null,null,{"$f":"①借入条件表!W30","v":0},null,null,null,0,null,null,null,{"$error":"#REF!"},null,null,0,null,null,null,"0",null,null,{"$f":"①借入条件表!W31","v":0},null,null,null,"0",null,null,{"$f":"②銀行別取引推移表!Q39","v":0},null,null,null,"0",null,null,{"$f":"②銀行別取引推移表!R39","v":0},null,null,null,"0",null,null,0,null,null,null,"0",null,null,0,null,null,null,"0",null,null,0,null,null,null,"0",null,null,0,null,null,null,"0",null,null,null,"〇"]
[null,null,null,null,"小計",null,null,null,null,null,null,null,null,null,null,null,null,null,{"$f":"SUBTOTAL(9,S12:V16)","v":0},null,null,null,{"$f":"SUM(W12:Z16)","v":0},null,null,null,{"$error":"#REF!"},null,null,{"$f":"SUBTOTAL(9,AD12:AG16)","v":0},null,null,null,"0",null,null,{"$f":"SUBTOTAL(9,AK12:AN16)","v":0},null,null,null,"0",null,null,{"$f":"SUBTOTAL(9,AR12:AU16)","v":0},null,null,null,"0",null,null,{"$f":"SUBTOTAL(9,AY12:BB16)","v":0},null,null,null,"0",null,null,{"$f":"SUBTOTAL(9,BF12:BI16)","v":0},null,null,null,"0",null,null,{"$f":"SUBTOTAL(9,BM12:BP16)","v":0},null,null,null,"0",null,null,{"$f":"SUBTOTAL(9,BT12:BW16)","v":0},null,null,null,"0",null,null,{"$f":"SUBTOTAL(9,CA12:CD16)","v":0},null,null,null,"0",null,null,null,{"$f":"IF(S17>0,\"\",\"〇\")","v":"〇"},{"$f":"S17","v":0},{"$f":"AD17","v":0},{"$f":"AK17","v":0},{"$f":"AR17","v":0},{"$f":"AY17","v":0},{"$f":"BF17","v":0},{"$f":"BM17","v":0},{"$f":"BT17","v":0},{"$f":"CA17","v":0}]
[{"$f":"①借入条件表!$E$38","v":0},null,null,null,{"$f":"①借入条件表!L38","v":"データなし"},null,null,null,{"$f":"①借入条件表!Q38","v":0},null,null,null,null,{"$f":"①借入条件表!Q39","v":0},null,{"$f":"①借入条件表!AV38","v":0},null,null,{"$f":"①借入条件表!W38","v":0},null,null,null,0,null,null,null,{"$error":"#REF!"},null,null,{"$f":"IF((AK18+AK18-AR18)>S18,0,AK18+AK18-AR18)","v":0},null,null,null,"0",null,null,{"$f":"①借入条件表!W39","v":0},null,null,null,"0",null,null,{"$f":"②銀行別取引推移表!Q45","v":0},null,null,null,"0",null,null,{"$f":"②銀行別取引推移表!R45","v":0},null,null,null,"0",null,null,{"$f":"IF(AY18-(AR18-AY18)>0,AY18-(AR18-AY18),0)","v":0},null,null,null,"0",null,null,{"$f":"IF(BF18-(AY18-BF18)>0,BF18-(AY18-BF18),0)","v":0},null,null,null,"0",null,null,{"$f":"IF(BM18-(BF18-BM18)>0,BM18-(BF18-BM18),0)","v":0},null,null,null,"0",null,null,{"$f":"IF(BT18-(BM18-BT18)>0,BT18-(BM18-BT18),0)","v":0},null,null,null,"0",null,null,null,{"$f":"IF(E18=\"データなし\",\"〇\",\"\")","v":"〇"}]
[null,null,null,null,{"$f":"①借入条件表!L40","v":"データなし"},null,null,null,{"$f":"①借入条件表!Q40","v":0},null,null,null,null,{"$f":"①借入条件表!Q41","v":0},null,{"$f":"①借入条件表!AV40","v":0},null,null,{"$f":"①借入条件表!W40","v":0},null,null,null,0,null,null,null,{"$error":"#REF!"},null,null,0,null,null,null,"0",null,null,{"$f":"①借入条件表!W41","v":0},null,null,null,"0",null,null,{"$f":"②銀行別取引推移表!Q48","v":0},null,null,null,"0",null,null,{"$f":"②銀行別取引推移表!R48","v":0},null,null,null,"0",null,null,{"$f":"IF(AY19-(AR19-AY19)>0,AY19-(AR19-AY19),0)","v":0},null,null,null,"0",null,null,{"$f":"IF(BF19-(AY19-BF19)>0,BF19-(AY19-BF19),0)","v":0},null,null,null,"0",null,null,{"$f":"IF(BM19-(BF19-BM19)>0,BM19-(BF19-BM19),0)","v":0},null,null,null,"0",null,null,{"$f":"IF(BT19-(BM19-BT19)>0,BT19-(BM19-BT19),0)","v":0},null,null,null,"0",null,null,null,{"$f":"IF(E19=\"データなし\",\"〇\",\"\")","v":"〇"}]
[null,null,null,null,{"$f":"①借入条件表!L42","v":"データなし"},null,null,null,{"$f":"①借入条件表!Q42","v":0},null,null,null,null,{"$f":"①借入条件表!Q43","v":0},null,{"$f":"①借入条件表!AV42","v":0},null,null,{"$f":"①借入条件表!W42","v":0},null,null,null,0,null,null,null,{"$error":"#REF!"},null,null,{"$f":"IF((AK20+AK20-AR20)>S20,0,AK20+AK20-AR20)","v":0},null,null,null,"0",null,null,{"$f":"①借入条件表!W43","v":0},null,null,null,"0",null,null,{"$f":"②銀行別取引推移表!Q51","v":0},null,null,null,"0",null,null,{"$f":"②銀行別取引推移表!R51","v":0},null,null,null,"0",null,null,0,null,null,null,"0",null,null,0,null,null,null,"0",null,null,0,null,null,null,"0",null,null,0,null,null,null,"0",null,null,null,"〇"]
[null,null,null,null,{"$f":"①借入条件表!L44","v":"データなし"},null,null,null,{"$f":"①借入条件表!Q44","v":0},null,null,null,null,{"$f":"①借入条件表!Q45","v":0},null,{"$f":"①借入条件表!AV44","v":0},null,null,{"$f":"①借入条件表!W44","v":0},null,null,null,0,null,null,null,{"$error":"#REF!"},null,null,{"$f":"IF((AK21+AK21-AR21)>S21,0,AK21+AK21-AR21)","v":0},null,null,null,"0",null,null,{"$f":"①借入条件表!W45","v":0},null,null,null,"0",null,null,{"$f":"②銀行別取引推移表!Q54","v":0},null,null,null,"0",null,null,{"$f":"②銀行別取引推移表!R54","v":0},null,null,null,"0",null,null,0,null,null,null,"0",null,null,0,null,null,null,"0",null,null,0,null,null,null,"0",null,null,0,null,null,null,"0",null,null,null,"〇"]
[null,null,null,null,{"$f":"①借入条件表!L46","v":"データなし"},null,null,null,{"$f":"①借入条件表!Q46","v":0},null,null,null,null,{"$f":"①借入条件表!Q47","v":0},null,{"$f":"①借入条件表!AV46","v":0},null,null,{"$f":"①借入条件表!W46","v":0},null,null,null,0,null,null,null,{"$error":"#REF!"},null,null,0,null,null,null,"0",null,null,{"$f":"①借入条件表!W47","v":0},null,null,null,"0",null,null,{"$f":"②銀行別取引推移表!Q57","v":0},null,null,null,"0",null,null,{"$f":"②銀行別取引推移表!R57","v":0},null,null,null,"0",null,null,0,null,null,null,"0",null,null,0,null,null,null,"0",null,null,0,null,null,null,"0",null,null,0,null,null,null,"0",null,null,null,"〇"]
[null,null,null,null,"小計",null,null,null,null,null,null,null,null,null,null,null,null,null,{"$f":"SUBTOTAL(9,S18:V22)","v":0},null,null,null,{"$f":"SUM(W18:Z22)","v":0},null,null,null,{"$error":"#REF!"},null,null,{"$f":"SUBTOTAL(9,AD18:AG22)","v":0},null,null,null,"0",null,null,{"$f":"SUBTOTAL(9,AK18:AN22)","v":0},null,null,null,"0",null,null,{"$f":"SUBTOTAL(9,AR18:AU22)","v":0},null,null,null,"0",null,null,{"$f":"SUBTOTAL(9,AY18:BB22)","v":0},null,null,null,"0",null,null,{"$f":"SUBTOTAL(9,BF18:BI22)","v":0},null,null,null,"0",null,null,{"$f":"SUBTOTAL(9,BM18:BP22)","v":0},null,null,null,"0",null,null,{"$f":"SUBTOTAL(9,BT18:BW22)","v":0},null,null,null,"0",null,null,{"$f":"SUBTOTAL(9,CA18:CD22)","v":0},null,null,null,"0",null,null,null,{"$f":"IF(S23>0,\"\",\"〇\")","v":"〇"},{"$f":"S23","v":0},{"$f":"AD23","v":0},{"$f":"AK23","v":0},{"$f":"AR23","v":0},{"$f":"AY23","v":0},{"$f":"BF23","v":0},{"$f":"BM23","v":0},{"$f":"BT23","v":0},{"$f":"CA23","v":0}]
[{"$f":"①借入条件表!$E$54","v":0},null,null,null,{"$f":"①借入条件表!L54","v":"データなし"},null,null,null,{"$f":"①借入条件表!Q54","v":0},null,null,null,null,{"$f":"①借入条件表!Q55","v":0},null,{"$f":"①借入条件表!AV54","v":0},null,null,{"$f":"①借入条件表!W54","v":0},null,null,null,0,null,null,null,{"$error":"#REF!"},null,null,{"$f":"IF((AK24+AK24-AR24)>S24,0,AK24+AK24-AR24)","v":0},null,null,null,"0",null,null,{"$f":"①借入条件表!W55","v":0},null,null,null,"0",null,null,{"$f":"②銀行別取引推移表!Q63","v":0},null,null,null,"0",null,null,{"$f":"②銀行別取引推移表!R63","v":0},null,null,null,"0",null,null,{"$f":"IF(AY24-(AR24-AY24)>0,AY24-(AR24-AY24),0)","v":0},null,null,null,"0",null,null,{"$f":"IF(BF24-(AY24-BF24)>0,BF24-(AY24-BF24),0)","v":0},null,null,null,"0",null,null,{"$f":"IF(BM24-(BF24-BM24)>0,BM24-(BF24-BM24),0)","v":0},null,null,null,"0",null,null,{"$f":"IF(BT24-(BM24-BT24)>0,BT24-(BM24-BT24),0)","v":0},null,null,null,"0",null,null,null,{"$f":"IF(E24=\"データなし\",\"〇\",\"\")","v":"〇"}]
[null,null,null,null,{"$f":"①借入条件表!L56","v":"データなし"},null,null,null,{"$f":"①借入条件表!Q56","v":0},null,null,null,null,{"$f":"①借入条件表!Q57","v":0},null,{"$f":"①借入条件表!AV56","v":0},null,null,{"$f":"①借入条件表!W56","v":0},null,null,null,0,null,null,null,{"$error":"#REF!"},null,null,0,null,null,null,"0",null,null,{"$f":"①借入条件表!W57","v":0},null,null,null,"0",null,null,{"$f":"②銀行別取引推移表!Q66","v":0},null,null,null,"0",null,null,{"$f":"②銀行別取引推移表!R66","v":0},null,null,null,"0",null,null,{"$f":"IF(AY25-(AR25-AY25)>0,AY25-(AR25-AY25),0)","v":0},null,null,null,"0",null,null,{"$f":"IF(BF25-(AY25-BF25)>0,BF25-(AY25-BF25),0)","v":0},null,null,null,"0",null,null,{"$f":"IF(BM25-(BF25-BM25)>0,BM25-(BF25-BM25),0)","v":0},null,null,null,"0",null,null,{"$f":"IF(BT25-(BM25-BT25)>0,BT25-(BM25-BT25),0)","v":0},null,null,null,"0",null,null,null,{"$f":"IF(E25=\"データなし\",\"〇\",\"\")","v":"〇"}]
[null,null,null,null,{"$f":"①借入条件表!L58","v":"データなし"},null,null,null,{"$f":"①借入条件表!Q58","v":0},null,null,null,null,{"$f":"①借入条件表!Q59","v":0},null,{"$f":"①借入条件表!AV58","v":0},null,null,{"$f":"①借入条件表!W58","v":0},null,null,null,0,null,null,null,{"$error":"#REF!"},null,null,{"$f":"IF((AK26+AK26-AR26)>S26,0,AK26+AK26-AR26)","v":0},null,null,null,"0",null,null,{"$f":"①借入条件表!W59","v":0},null,null,null,"0",null,null,{"$f":"②銀行別取引推移表!Q69","v":0},null,null,null,"0",null,null,{"$f":"②銀行別取引推移表!R69","v":0},null,null,null,"0",null,null,0,null,null,null,"0",null,null,0,null,null,null,"0",null,null,0,null,null,null,"0",null,null,0,null,null,null,"0",null,null,null,"〇"]
[null,null,null,null,{"$f":"①借入条件表!L60","v":"データなし"},null,null,null,{"$f":"①借入条件表!Q60","v":0},null,null,null,null,{"$f":"①借入条件表!Q61","v":0},null,{"$f":"①借入条件表!AV60","v":0},null,null,{"$f":"①借入条件表!W60","v":0},null,null,null,0,null,null,null,{"$error":"#REF!"},null,null,{"$f":"IF((AK27+AK27-AR27)>S27,0,AK27+AK27-AR27)","v":0},null,null,null,"0",null,null,{"$f":"①借入条件表!W61","v":0},null,null,null,"0",null,null,{"$f":"②銀行別取引推移表!Q72","v":0},null,null,null,"0",null,null,{"$f":"②銀行別取引推移表!R72","v":0},null,null,null,"0",null,null,0,null,null,null,"0",null,null,0,null,null,null,"0",null,null,0,null,null,null,"0",null,null,0,null,null,null,"0",null,null,null,"〇"]
[null,null,null,null,{"$f":"①借入条件表!L62","v":"データなし"},null,null,null,{"$f":"①借入条件表!Q62","v":0},null,null,null,null,{"$f":"①借入条件表!Q63","v":0},null,{"$f":"①借入条件表!AV62","v":0},null,null,{"$f":"①借入条件表!W62","v":0},null,null,null,0,null,null,null,{"$error":"#REF!"},null,null,0,null,null,null,"0",null,null,{"$f":"①借入条件表!W63","v":0},null,null,null,"0",null,null,{"$f":"②銀行別取引推移表!Q75","v":0},null,null,null,"0",null,null,{"$f":"②銀行別取引推移表!R75","v":0},null,null,null,"0",null,null,0,null,null,null,"0",null,null,0,null,null,null,"0",null,null,0,null,null,null,"0",null,null,0,null,null,null,"0",null,null,null,"〇"]
[null,null,null,null,"小計",null,null,null,null,null,null,null,null,null,null,null,null,null,{"$f":"SUBTOTAL(9,S24:V28)","v":0},null,null,null,{"$f":"SUM(W24:Z28)","v":0},null,null,null,{"$error":"#REF!"},null,null,{"$f":"SUBTOTAL(9,AD24:AG28)","v":0},null,null,null,"0",null,null,{"$f":"SUBTOTAL(9,AK24:AN28)","v":0},null,null,null,"0",null,null,{"$f":"SUBTOTAL(9,AR24:AU28)","v":0},null,null,null,"0",null,null,{"$f":"SUBTOTAL(9,AY24:BB28)","v":0},null,null,null,"0",null,null,{"$f":"SUBTOTAL(9,BF24:BI28)","v":0},null,null,null,"0",null,null,{"$f":"SUBTOTAL(9,BM24:BP28)","v":0},null,null,null,"0",null,null,{"$f":"SUBTOTAL(9,BT24:BW28)","v":0},null,null,null,"0",null,null,{"$f":"SUBTOTAL(9,CA24:CD28)","v":0},null,null,null,"0",null,null,null,{"$f":"IF(S29>0,\"\",\"〇\")","v":"〇"},{"$f":"S29","v":0},{"$f":"AD29","v":0},{"$f":"AK29","v":0},{"$f":"AR29","v":0},{"$f":"AY29","v":0},{"$f":"BF29","v":0},{"$f":"BM29","v":0},{"$f":"BT29","v":0},{"$f":"CA29","v":0}]
[{"$f":"①借入条件表!$E$70","v":0},null,null,null,{"$f":"①借入条件表!L70","v":"データなし"},null,null,null,{"$f":"①借入条件表!Q70","v":0},null,null,null,null,{"$f":"①借入条件表!Q71","v":0},null,{"$f":"①借入条件表!AV70","v":0},null,null,{"$f":"①借入条件表!W70","v":0},null,null,null,0,null,null,null,{"$error":"#REF!"},null,null,{"$f":"IF((AK30+AK30-AR30)>S30,0,AK30+AK30-AR30)","v":0},null,null,null,"0",null,null,{"$f":"①借入条件表!W71","v":0},null,null,null,"0",null,null,{"$f":"②銀行別取引推移表!Q81","v":0},null,null,null,"0",null,null,{"$f":"②銀行別取引推移表!R81","v":0},null,null,null,"0",null,null,{"$f":"IF(AY30-(AR30-AY30)>0,AY30-(AR30-AY30),0)","v":0},null,null,null,"0",null,null,{"$f":"IF(BF30-(AY30-BF30)>0,BF30-(AY30-BF30),0)","v":0},null,null,null,"0",null,null,{"$f":"IF(BM30-(BF30-BM30)>0,BM30-(BF30-BM30),0)","v":0},null,null,null,"0",null,null,{"$f":"IF(BT30-(BM30-BT30)>0,BT30-(BM30-BT30),0)","v":0},null,null,null,"0",null,null,null,{"$f":"IF(E30=\"データなし\",\"〇\",\"\")","v":"〇"}]
[null,null,null,null,{"$f":"①借入条件表!L72","v":"データなし"},null,null,null,{"$f":"①借入条件表!Q72","v":0},null,null,null,null,{"$f":"①借入条件表!Q73","v":0},null,{"$f":"①借入条件表!AV72","v":0},null,null,{"$f":"①借入条件表!W72","v":0},null,null,null,0,null,null,null,{"$error":"#REF!"},null,null,0,null,null,null,"0",null,null,{"$f":"①借入条件表!W73","v":0},null,null,null,"0",null,null,{"$f":"②銀行別取引推移表!Q84","v":0},null,null,null,"0",null,null,{"$f":"②銀行別取引推移表!R84","v":0},null,null,null,"0",null,null,{"$f":"IF(AY31-(AR31-AY31)>0,AY31-(AR31-AY31),0)","v":0},null,null,null,"0",null,null,{"$f":"IF(BF31-(AY31-BF31)>0,BF31-(AY31-BF31),0)","v":0},null,null,null,"0",null,null,{"$f":"IF(BM31-(BF31-BM31)>0,BM31-(BF31-BM31),0)","v":0},null,null,null,"0",null,null,{"$f":"IF(BT31-(BM31-BT31)>0,BT31-(BM31-BT31),0)","v":0},null,null,null,"0",null,null,null,{"$f":"IF(E31=\"データなし\",\"〇\",\"\")","v":"〇"}]
[null,null,null,null,{"$f":"①借入条件表!L74","v":"データなし"},null,null,null,{"$f":"①借入条件表!Q74","v":0},null,null,null,null,{"$f":"①借入条件表!Q75","v":0},null,{"$f":"①借入条件表!AV74","v":0},null,null,{"$f":"①借入条件表!W74","v":0},null,null,null,0,null,null,null,{"$error":"#REF!"},null,null,{"$f":"IF((AK32+AK32-AR32)>S32,0,AK32+AK32-AR32)","v":0},null,null,null,"0",null,null,{"$f":"①借入条件表!W75","v":0},null,null,null,"0",null,null,{"$f":"②銀行別取引推移表!Q87","v":0},null,null,null,"0",null,null,{"$f":"②銀行別取引推移表!R87","v":0},null,null,null,"0",null,null,0,null,null,null,"0",null,null,0,null,null,null,"0",null,null,0,null,null,null,"0",null,null,0,null,null,null,"0",null,null,null,"〇"]
[null,null,null,null,{"$f":"①借入条件表!L88","v":"データなし"},null,null,null,{"$f":"①借入条件表!Q88","v":0},null,null,null,null,{"$f":"①借入条件表!Q89","v":0},null,{"$f":"①借入条件表!AV88","v":0},null,null,{"$f":"①借入条件表!W88","v":0},null,null,null,0,null,null,null,{"$error":"#REF!"},null,null,0,null,null,null,"0",null,null,{"$f":"①借入条件表!W89","v":0},null,null,null,"0",null,null,{"$f":"②銀行別取引推移表!Q102","v":0},null,null,null,"0",null,null,{"$f":"②銀行別取引推移表!R102","v":0},null,null,null,"0",null,null,{"$f":"IF(AY37-(AR37-AY37)>0,AY37-(AR37-AY37),0)","v":0},null,null,null,"0",null,null,{"$f":"IF(BF37-(AY37-BF37)>0,BF37-(AY37-BF37),0)","v":0},null,null,null,"0",null,null,{"$f":"IF(BM37-(BF37-BM37)>0,BM37-(BF37-BM37),0)","v":0},null,null,null,"0",null,null,{"$f":"IF(BT37-(BM37-BT37)>0,BT37-(BM37-BT37),0)","v":0},null,null,null,"0",null,null,null,{"$f":"IF(E37=\"データなし\",\"〇\",\"\")","v":"〇"}]
[{"$f":"①借入条件表!E102","v":0},null,null,null,{"$f":"①借入条件表!L102","v":"データなし"},null,null,null,{"$f":"①借入条件表!Q102","v":0},null,null,null,null,{"$f":"①借入条件表!Q103","v":0},null,{"$f":"①借入条件表!AV102","v":0},null,null,{"$f":"①借入条件表!W102","v":0},null,null,null,0,null,null,null,{"$error":"#REF!"},null,null,{"$f":"IF((AK42+AK42-AR42)>S42,0,AK42+AK42-AR42)","v":0},null,null,null,"0",null,null,{"$f":"①借入条件表!W103","v":0},null,null,null,"0",null,null,{"$f":"②銀行別取引推移表!Q117","v":0},null,null,null,"0",null,null,{"$f":"②銀行別取引推移表!R117","v":0},null,null,null,"0",null,null,{"$f":"IF(AY42-(AR42-AY42)>0,AY42-(AR42-AY42),0)","v":0},null,null,null,"0",null,null,{"$f":"IF(BF42-(AY42-BF42)>0,BF42-(AY42-BF42),0)","v":0},null,null,null,"0",null,null,{"$f":"IF(BM42-(BF42-BM42)>0,BM42-(BF42-BM42),0)","v":0},null,null,null,"0",null,null,{"$f":"IF(BT42-(BM42-BT42)>0,BT42-(BM42-BT42),0)","v":0},null,null,null,"0",null,null,null,{"$f":"IF(E42=\"データなし\",\"〇\",\"\")","v":"〇"}]
[null,null,null,null,{"$f":"①借入条件表!L104","v":"データなし"},null,null,null,{"$f":"①借入条件表!Q104","v":0},null,null,null,null,{"$f":"①借入条件表!Q105","v":0},null,{"$f":"①借入条件表!AV104","v":0},null,null,{"$f":"①借入条件表!W104","v":0},null,null,null,0,null,null,null,{"$error":"#REF!"},null,null,0,null,null,null,"0",null,null,{"$f":"①借入条件表!W105","v":0},null,null,null,"0",null,null,{"$f":"②銀行別取引推移表!Q120","v":0},null,null,null,"0",null,null,{"$f":"②銀行別取引推移表!R120","v":0},null,null,null,"0",null,null,{"$f":"IF(AY43-(AR43-AY43)>0,AY43-(AR43-AY43),0)","v":0},null,null,null,"0",null,null,{"$f":"IF(BF43-(AY43-BF43)>0,BF43-(AY43-BF43),0)","v":0},null,null,null,"0",null,null,{"$f":"IF(BM43-(BF43-BM43)>0,BM43-(BF43-BM43),0)","v":0},null,null,null,"0",null,null,{"$f":"IF(BT43-(BM43-BT43)>0,BT43-(BM43-BT43),0)","v":0},null,null,null,"0",null,null,null,{"$f":"IF(E43=\"データなし\",\"〇\",\"\")","v":"〇"}]
[null,null,null,null,{"$f":"①借入条件表!L120","v":"データなし"},null,null,null,{"$f":"①借入条件表!Q120","v":0},null,null,null,null,{"$f":"①借入条件表!Q121","v":0},null,{"$f":"①借入条件表!AV120","v":0},null,null,{"$f":"①借入条件表!W120","v":0},null,null,null,0,null,null,null,{"$error":"#REF!"},null,null,0,null,null,null,"0",null,null,{"$f":"①借入条件表!W121","v":0},null,null,null,"0",null,null,{"$f":"②銀行別取引推移表!Q138","v":0},null,null,null,"0",null,null,{"$f":"②銀行別取引推移表!R138","v":0},null,null,null,"0",null,null,{"$f":"IF(AY49-(AR49-AY49)>0,AY49-(AR49-AY49),0)","v":0},null,null,null,"0",null,null,{"$f":"IF(BF49-(AY49-BF49)>0,BF49-(AY49-BF49),0)","v":0},null,null,null,"0",null,null,{"$f":"IF(BM49-(BF49-BM49)>0,BM49-(BF49-BM49),0)","v":0},null,null,null,"0",null,null,{"$f":"IF(BT49-(BM49-BT49)>0,BT49-(BM49-BT49),0)","v":0},null,null,null,"0",null,null,null,{"$f":"IF(E49=\"データなし\",\"〇\",\"\")","v":"〇"}]
[null,null,null,null,"小計",null,null,null,null,null,null,null,null,null,null,null,null,null,{"$f":"SUBTOTAL(9,S48:V51)","v":0},null,null,null,{"$f":"SUM(W48:Z51)","v":0},null,null,null,{"$error":"#REF!"},null,null,{"$f":"SUBTOTAL(9,AD48:AG51)","v":0},null,null,null,"0",null,null,{"$f":"SUBTOTAL(9,AK48:AN51)","v":0},null,null,null,"0",null,null,{"$f":"SUBTOTAL(9,AR48:AU51)","v":0},null,null,null,"0",null,null,{"$f":"SUBTOTAL(9,AY48:BB51)","v":0},null,null,null,"0",null,null,{"$f":"SUBTOTAL(9,BF48:BI51)","v":0},null,null,null,"0",null,null,{"$f":"SUBTOTAL(9,BM48:BP51)","v":0},null,null,null,"0",null,null,{"$f":"SUBTOTAL(9,BT48:BW51)","v":0},null,null,null,"0",null,null,{"$f":"SUBTOTAL(9,CA48:CD51)","v":0},null,null,null,"0",null,null,null,{"$f":"IF(S52>0,\"\",\"〇\")","v":"〇"},{"$f":"S52","v":0},{"$f":"AD52","v":0},{"$f":"AK52","v":0},{"$f":"AR52","v":0},{"$f":"AY52","v":0},{"$f":"BF52","v":0},{"$f":"BM52","v":0},{"$f":"BT52","v":0},{"$f":"CA52","v":0}]
[null,null,null,null,null,null,null,null,null,null,null,null,null,null,null,null,null,null,null,null,null,null,"H22.10",null,null,null,"比率",null,null,{"$f":"AD5","v":"残高"},null,null,null,"比率",null,null,{"$f":"AK5","v":"残高"},null,null,null,"比率",null,null,{"$f":"AR5","v":"残高"},null,null,null,"比率",null,null,{"$f":"AY5","v":"残高"},null,null,null,"比率",null,null,{"$f":"BF5","v":"残高"},null,null,null,"比率",null,null,{"$f":"BM5","v":"残高"},null,null,null,"比率",null,null,{"$f":"BT5","v":"残高"},null,null,null,"比率",null,null,{"$f":"CA5","v":"残高"},null,null,null,"比率"]
[{"$f":"①借入条件表!$E$6","v":"Ａ銀行"},null,null,null,{"$f":"E6","v":"プロパー"},null,null,null,{"$f":"I6","v":60},null,null,null,null,5,null,{"$f":"P6","v":0},null,null,10000000,null,null,null,0,null,null,null,{"$error":"#REF!"},null,null,0,null,null,null,{"$f":"AH6","v":"0"},null,null,{"$f":"AK6","v":8000000},null,null,null,{"$f":"AO6","v":0.34782608695652173},null,null,5996000,null,null,null,0.39983995732195254,null,null,3992000,null,null,null,0.57093821510297482,null,null,{"$f":"IF(AY58-(AR58-AY58)>0,AY58-(AR58-AY58),0)","v":1988000},null,null,null,1,null,null,{"$f":"IF(BF58-(AY58-BF58)>0,BF58-(AY58-BF58),0)","v":0},null,null,null,{"$f":"BQ6","v":"0"},null,null,{"$f":"IF(BM58-(BF58-BM58)>0,BM58-(BF58-BM58),0)","v":0},null,null,null,"0",null,null,{"$f":"IF(BT58-(BM58-BT58)>0,BT58-(BM58-BT58),0)","v":0},null,null,null,"0",null,null,null,{"$f":"IF(E58=\"プロパー\",\"\",\"〇\")","v":""},null,null,null,null,null,null,null,null,null,null,null,null,null,null,null,null,null,null,null,null,null,null,null,null,null,null,null,null,null,null,null,null,null,null,null,null,null,null,null,null,null,null,null,null,null,null,null,null,null,null,null,null,null,null,null,null,null,null,null,null,null,null,null,null,null,null,null,null,null,null,null,null,null,null,null,null,null,null,null,null,null,null,null,null,null,null,null,null,null,null,null,null,null,null,null,null,null,null,null,null,null,null,null,null,null,null,null,null,null,null,null,null,null,null,null,null,null,null,null,null,null,null,null,null,null,null,null,null,null,null,null,null,null,null,null,null,null,null,null,null,null,null,null,null,null,null,null,null,null,null,null,null,null,null,null,null,null,null,null,null,null,null,null,null,null,null,null,null,null,null,null,null,null,null,null,null,null,null,null,null,null,null,null,null,null,null,null,null,null,null,null,null,null,null,null,null,null,null,null,null,null,null,null,null,null,null,null,null,null,null,null,null,null,null,null,null,null,null,null,null,null,null,null,null,null,null,null,null,null,null,null,null,null,null,null,null,null,null,null,null,null,null,null,null,null,null,null,null,null,null,null,null,null,null,null,null,null,null,null,null,null,null,null,null,null,null,null,null,null,null,null,null,null,null,null,null,null,null,null,null,null,null,null,null,null,null,null,null,null,null,null,null,null,null,null,null,null,null,null,null,null,null,null,null,null,null,null,null,null,null,null,null,null,null,null,null,null,null,null,null,null,null,null,null,null,null,null,null,null,null,null,null,null,null,null,null,null,null,null,null,null,null,null,null,null,null,null,null,null,null,null,null,null,null,null,null,null,null,null,null,null,null,null,null,null,null,null,null,null,null,null,null,null,null,null,null,null,null,null,null,null,null,null,null,null,null,null,null,null,null,null,null,null,null,null,null,null,null,null,null,null,null,null,null,null,null,null,null,null,null,null,null,null,null,null,null,null,null,null,null,null,null,null,null,null,null,null,null,null,null,null,null,null,null,null,null,null,null,null,null,null,null,null,null,null,null,null,null,null,null,null,null,null,null,null,null,null,null,null,null,null,null,null,null,null,null,null,null,null,null,null,null,null,null,null,null,null,null,null,null,null,null,null,null,null,null,null,null,null,null,null,null,null,null,null,null,null,null,null,null,null,null,null,null,null,null,null,null,null,null,null,null,null,null,null,null,null,null,null,null,null,null,null,null,null,null,null,null,null,null,null,null,null,null,null,null,null,null,null,null,null,null,null,null,null,null,null,null,null,null,null,null,null,null,null,null,null,null,null,null,null,null,null,null,null,null,null,null,null,null,null,null,null,null,null,null,null,null,null,null,null,null,null,null,null,null,null,null,null,null,null,null,null,null,null,null,null,null,null,null,null,null,null,null,null,null,null,null,null,null,null,null,null,null,null,null,null,null,null,null,null,null,null,null,null,null,null,null,null,null,null,null,null,null,null,null,null,null,null,null,null,{"$f":"XT6","v":0},0,0,0,0,0,0,0,0,0,{"$f":"YD6","v":0},0,0,0,0,0,0,0,0,0,{"$f":"YN6","v":0},0,0,0,0,0,0,0,0,0,{"$f":"YX6","v":0},0,0,0,0,0,0,0,0,0,{"$f":"ZH6","v":0},0,0,0,0,0,0,0,0,0,{"$f":"ZR6","v":0},0,0,0,0,0,0,0,0,0,{"$f":"AAB6","v":0},0,0,0,0,0,0,0,0,0,{"$f":"AAL6","v":0},0,0,0,0,0,0,0,0,0,{"$f":"AAV6","v":0},0,0,0,0,0,0,0,0,0,{"$f":"ABF6","v":0},0,0,0,0,0,0,0,0,0,{"$f":"ABP6","v":0},0,0,0,0,0,0,0,0,0,{"$f":"ABZ6","v":0},0,0,0,0,0,0,0,0,0,{"$f":"ACJ6","v":0},0,0,0,0,0,0,0,0,0,{"$f":"ACT6","v":0},0,0,0,0,0,0,0,0,0,{"$f":"ADD6","v":0},0,0,0,0,0,0,0,0,0,{"$f":"ADN6","v":0},0,0,0,0,0,0,0,0,0,{"$f":"ADX6","v":0},0,0,0,0,0,0,0,0,0,{"$f":"AEH6","v":0},0,0,0,0,0,0,0,0,0,{"$f":"AER6","v":0},0,0,0,0,0,0,0,0,0,{"$f":"AFB6","v":0},0,0,0,0,0,0,0,0,0,{"$f":"AFL6","v":0},0,0,0,0,0,0,0,0,0,{"$f":"AFV6","v":0},0,0,0,0,0,0,0,0,0,{"$f":"AGF6","v":0},0,0,0,0,0,0,0,0,0,{"$f":"AGP6","v":0},0,0,0,0,0,0,0,0,0,{"$f":"AGZ6","v":0},0,0,0,0,0,0,0,0,0,{"$f":"AHJ6","v":0},0,0,0,0,0,0,0,0,0,{"$f":"AHT6","v":0},0,0,0,0,0,0,0,0,0,{"$f":"AID6","v":0},0,0,0,0,0,0,0,0,0,{"$f":"AIN6","v":0},0,0,0,0,0,0,0,0,0,{"$f":"AIX6","v":0},0,0,0,0,0,0,0,0,0,{"$f":"AJH6","v":0},0,0,0,0,0,0,0,0,0,{"$f":"AJR6","v":0},0,0,0,0,0,0,0,0,0,{"$f":"AKB6","v":0},0,0,0,0,0,0,0,0,0,{"$f":"AKL6","v":0},0,0,0,0,0,0,0,0,0,{"$f":"AKV6","v":0},0,0,0,0,0,0,0,0,0,{"$f":"ALF6","v":0},0,0,0,0,0,0,0,0,0,{"$f":"ALP6","v":0},0,0,0,0,0,0,0,0,0,{"$f":"ALZ6","v":0},0,0,0,0,0,0,0,0,0,{"$f":"AMJ6","v":0},0,0,0,0,0,0,0,0,0,{"$f":"AMT6","v":0},0,0,0,0,0,0,0,0,0,{"$f":"AND6","v":0},0,0,0,0,0,0,0,0,0,{"$f":"ANN6","v":0},0,0,0,0,0,0,0,0,0,{"$f":"ANX6","v":0},0,0,0,0,0,0,0,0,0,{"$f":"AOH6","v":0},0,0,0,0,0,0,0,0,0,{"$f":"AOR6","v":0},0,0,0,0,0,0,0,0,0,{"$f":"APB6","v":0},0,0,0,0,0,0,0,0,0,{"$f":"APL6","v":0},0,0,0,0,0,0,0,0,0,{"$f":"APV6","v":0},0,0,0,0,0,0,0,0,0,{"$f":"AQF6","v":0},0,0,0,0,0,0,0,0,0,{"$f":"AQP6","v":0},0,0,0,0,0,0,0,0,0,{"$f":"AQZ6","v":0},0,0,0,0,0,0,0,0,0,{"$f":"ARJ6","v":0},0,0,0,0,0,0,0,0,0,{"$f":"ART6","v":0},0,0,0,0,0,0,0,0,0,{"$f":"ASD6","v":0},0,0,0,0,0,0,0,0,0,{"$f":"ASN6","v":0},0,0,0,0,0,0,0,0,0,{"$f":"ASX6","v":0},0,0,0,0,0,0,0,0,0,{"$f":"ATH6","v":0},0,0,0,0,0,0,0,0,0,{"$f":"ATR6","v":0},0,0,0,0,0,0,0,0,0,{"$f":"AUB6","v":0},0,0,0,0,0,0,0,0,0,{"$f":"AUL6","v":0},0,0,0,0,0,0,0,0,0,{"$f":"AUV6","v":0},0,0,0,0,0,0,0,0,0,{"$f":"AVF6","v":0},0,0,0,0,0,0,0,0,0,{"$f":"AVP6","v":0},0,0,0,0,0,0,0,0,0,{"$f":"AVZ6","v":0},0,0,0,0,0,0,0,0,0,{"$f":"AWJ6","v":0},0,0,0,0,0,0,0,0,0,{"$f":"AWT6","v":0},0,0,0,0,0,0,0,0,0,{"$f":"AXD6","v":0},0,0,0,0,0,0,0,0,0,{"$f":"AXN6","v":0},0,0,0,0,0,0,0,0,0,{"$f":"AXX6","v":0},0,0,0,0,0,0,0,0,0,{"$f":"AYH6","v":0},0,0,0,0,0,0,0,0,0,{"$f":"AYR6","v":0},0,0,0,0,0,0,0,0,0,{"$f":"AZB6","v":0},0,0,0,0,0,0,0,0,0,{"$f":"AZL6","v":0},0,0,0,0,0,0,0,0,0,{"$f":"AZV6","v":0},0,0,0,0,0,0,0,0,0,{"$f":"BAF6","v":0},0,0,0,0,0,0,0,0,0,{"$f":"BAP6","v":0},0,0,0,0,0,0,0,0,0,{"$f":"BAZ6","v":0},0,0,0,0,0,0,0,0,0,{"$f":"BBJ6","v":0},0,0,0,0,0,0,0,0,0,{"$f":"BBT6","v":0},0,0,0,0,0,0,0,0,0,{"$f":"BCD6","v":0},0,0,0,0,0,0,0,0,0,{"$f":"BCN6","v":0},0,0,0,0,0,0,0,0,0,{"$f":"BCX6","v":0},0,0,0,0,0,0,0,0,0,{"$f":"BDH6","v":0},0,0,0,0,0,0,0,0,0,{"$f":"BDR6","v":0},0,0,0,0,0,0,0,0,0,{"$f":"BEB6","v":0},0,0,0,0,0,0,0,0,0,{"$f":"BEL6","v":0},0,0,0,0,0,0,0,0,0,{"$f":"BEV6","v":0},0,0,0,0,0,0,0,0,0,{"$f":"BFF6","v":0},0,0,0,0,0,0,0,0,0,{"$f":"BFP6","v":0},0,0,0,0,0,0,0,0,0,{"$f":"BFZ6","v":0},0,0,0,0,0,0,0,0,0,{"$f":"BGJ6","v":0},0,0,0,0,0,0,0,0,0,{"$f":"BGT6","v":0},0,0,0,0,0,0,0,0,0,{"$f":"BHD6","v":0},0,0,0,0,0,0,0,0,0,{"$f":"BHN6","v":0},0,0,0,0,0,0,0,0,0,{"$f":"BHX6","v":0},0,0,0,0,0,0,0,0,0,{"$f":"BIH6","v":0},0,0,0,0,0,0,0,0,0,{"$f":"BIR6","v":0},0,0,0,0,0,0,0,0,0,{"$f":"BJB6","v":0},0,0,0,0,0,0,0,0,0,{"$f":"BJL6","v":0},0,0,0,0,0,0,0,0,0,{"$f":"BJV6","v":0},0,0,0,0,0,0,0,0,0,{"$f":"BKF6","v":0},0,0,0,0,0,0,0,0,0,{"$f":"BKP6","v":0},0,0,0,0,0,0,0,0,0,{"$f":"BKZ6","v":0},0,0,0,0,0,0,0,0,0,{"$f":"BLJ6","v":0},0,0,0,0,0,0,0,0,0,{"$f":"BLT6","v":0},0,0,0,0,0,0,0,0,0,{"$f":"BMD6","v":0},0,0,0,0,0,0,0,0,0,{"$f":"BMN6","v":0},0,0,0,0,0,0,0,0,0,{"$f":"BMX6","v":0},0,0,0,0,0,0,0,0,0,{"$f":"BNH6","v":0},0,0,0,0,0,0,0,0,0,{"$f":"BNR6","v":0},0,0,0,0,0,0,0,0,0,{"$f":"BOB6","v":0},0,0,0,0,0,0,0,0,0,{"$f":"BOL6","v":0},0,0,0,0,0,0,0,0,0,{"$f":"BOV6","v":0},0,0,0,0,0,0,0,0,0,{"$f":"BPF6","v":0},0,0,0,0,0,0,0,0,0,{"$f":"BPP6","v":0},0,0,0,0,0,0,0,0,0,{"$f":"BPZ6","v":0},0,0,0,0,0,0,0,0,0,{"$f":"BQJ6","v":0},0,0,0,0,0,0,0,0,0,{"$f":"BQT6","v":0},0,0,0,0,0,0,0,0,0,{"$f":"BRD6","v":0},0,0,0,0,0,0,0,0,0,{"$f":"BRN6","v":0},0,0,0,0,0,0,0,0,0,{"$f":"BRX6","v":0},0,0,0,0,0,0,0,0,0,{"$f":"BSH6","v":0},0,0,0,0,0,0,0,0,0,{"$f":"BSR6","v":0},0,0,0,0,0,0,0,0,0,{"$f":"BTB6","v":0},0,0,0,0,0,0,0,0,0,{"$f":"BTL6","v":0},0,0,0,0,0,0,0,0,0,{"$f":"BTV6","v":0},0,0,0,0,0,0,0,0,0,{"$f":"BUF6","v":0},0,0,0,0,0,0,0,0,0,{"$f":"BUP6","v":0},0,0,0,0,0,0,0,0,0,{"$f":"BUZ6","v":0},0,0,0,0,0,0,0,0,0,{"$f":"BVJ6","v":0},0,0,0,0,0,0,0,0,0,{"$f":"BVT6","v":0},0,0,0,0,0,0,0,0,0,{"$f":"BWD6","v":0},0,0,0,0,0,0,0,0,0,{"$f":"BWN6","v":0},0,0,0,0,0,0,0,0,0,{"$f":"BWX6","v":0},0,0,0,0,0,0,0,0,0,{"$f":"BXH6","v":0},0,0,0,0,0,0,0,0,0,{"$f":"BXR6","v":0},0,0,0,0,0,0,0,0,0,{"$f":"BYB6","v":0},0,0,0,0,0,0,0,0,0,{"$f":"BYL6","v":0},0,0,0,0,0,0,0,0,0,{"$f":"BYV6","v":0},0,0,0,0,0,0,0,0,0,{"$f":"BZF6","v":0},0,0,0,0,0,0,0,0,0,{"$f":"BZP6","v":0},0,0,0,0,0,0,0,0,0,{"$f":"BZZ6","v":0},0,0,0,0,0,0,0,0,0,{"$f":"CAJ6","v":0},0,0,0,0,0,0,0,0,0,{"$f":"CAT6","v":0},0,0,0,0,0,0,0,0,0,{"$f":"CBD6","v":0},0,0,0,0,0,0,0,0,0,{"$f":"CBN6","v":0},0,0,0,0,0,0,0,0,0,{"$f":"CBX6","v":0},0,0,0,0,0,0,0,0,0,{"$f":"CCH6","v":0},0,0,0,0,0,0,0,0,0,{"$f":"CCR6","v":0},0,0,0,0,0,0,0,0,0,{"$f":"CDB6","v":0},0,0,0,0,0,0,0,0,0,{"$f":"CDL6","v":0},0,0,0,0,0,0,0,0,0,{"$f":"CDV6","v":0},0,0,0,0,0,0,0,0,0,{"$f":"CEF6","v":0},0,0,0,0,0,0,0,0,0,{"$f":"CEP6","v":0},0,0,0,0,0,0,0,0,0,{"$f":"CEZ6","v":0},0,0,0,0,0,0,0,0,0,{"$f":"CFJ6","v":0},0,0,0,0,0,0,0,0,0,{"$f":"CFT6","v":0},0,0,0,0,0,0,0,0,0,{"$f":"CGD6","v":0},0,0,0,0,0,0,0,0,0,{"$f":"CGN6","v":0},0,0,0,0,0,0,0,0,0,{"$f":"CGX6","v":0},0,0,0,0,0,0,0,0,0,{"$f":"CHH6","v":0},0,0,0,0,0,0,0,0,0,{"$f":"CHR6","v":0},0,0,0,0,0,0,0,0,0,{"$f":"CIB6","v":0},0,0,0,0,0,0,0,0,0,{"$f":"CIL6","v":0},0,0,0,0,0,0,0,0,0,{"$f":"CIV6","v":0},0,0,0,0,0,0,0,0,0,{"$f":"CJF6","v":0},0,0,0,0,0,0,0,0,0,{"$f":"CJP6","v":0},0,0,0,0,0,0,0,0,0,{"$f":"CJZ6","v":0},0,0,0,0,0,0,0,0,0,{"$f":"CKJ6","v":0},0,0,0,0,0,0,0,0,0,{"$f":"CKT6","v":0},0,0,0,0,0,0,0,0,0,{"$f":"CLD6","v":0},0,0,0,0,0,0,0,0,0,{"$f":"CLN6","v":0},0,0,0,0,0,0,0,0,0,{"$f":"CLX6","v":0},0,0,0,0,0,0,0,0,0,{"$f":"CMH6","v":0},0,0,0,0,0,0,0,0,0,{"$f":"CMR6","v":0},0,0,0,0,0,0,0,0,0,{"$f":"CNB6","v":0},0,0,0,0,0,0,0,0,0,{"$f":"CNL6","v":0},0,0,0,0,0,0,0,0,0,{"$f":"CNV6","v":0},0,0,0,0,0,0,0,0,0,{"$f":"COF6","v":0},0,0,0,0,0,0,0,0,0,{"$f":"COP6","v":0},0,0,0,0,0,0,0,0,0,{"$f":"COZ6","v":0},0,0,0,0,0,0,0,0,0,{"$f":"CPJ6","v":0},0,0,0,0,0,0,0,0,0,{"$f":"CPT6","v":0},0,0,0,0,0,0,0,0,0,{"$f":"CQD6","v":0},0,0,0,0,0,0,0,0,0,{"$f":"CQN6","v":0},0,0,0,0,0,0,0,0,0,{"$f":"CQX6","v":0},0,0,0,0,0,0,0,0,0,{"$f":"CRH6","v":0},0,0,0,0,0,0,0,0,0,{"$f":"CRR6","v":0},0,0,0,0,0,0,0,0,0,{"$f":"CSB6","v":0},0,0,0,0,0,0,0,0,0,{"$f":"CSL6","v":0},0,0,0,0,0,0,0,0,0,{"$f":"CSV6","v":0},0,0,0,0,0,0,0,0,0,{"$f":"CTF6","v":0},0,0,0,0,0,0,0,0,0,{"$f":"CTP6","v":0},0,0,0,0,0,0,0,0,0,{"$f":"CTZ6","v":0},0,0,0,0,0,0,0,0,0,{"$f":"CUJ6","v":0},0,0,0,0,0,0,0,0,0,{"$f":"CUT6","v":0},0,0,0,0,0,0,0,0,0,{"$f":"CVD6","v":0},0,0,0,0,0,0,0,0,0,{"$f":"CVN6","v":0},0,0,0,0,0,0,0,0,0,{"$f":"CVX6","v":0},0,0,0,0,0,0,0,0,0,{"$f":"CWH6","v":0},0,0,0,0,0,0,0,0,0,{"$f":"CWR6","v":0},0,0,0,0,0,0,0,0,0,{"$f":"CXB6","v":0},0,0,0,0,0,0,0,0,0,{"$f":"CXL6","v":0},0,0,0,0,0,0,0,0,0,{"$f":"CXV6","v":0},0,0,0,0,0,0,0,0,0,{"$f":"CYF6","v":0},0,0,0,0,0,0,0,0,0,{"$f":"CYP6","v":0},0,0,0,0,0,0,0,0,0,{"$f":"CYZ6","v":0},0,0,0,0,0,0,0,0,0,{"$f":"CZJ6","v":0},0,0,0,0,0,0,0,0,0,{"$f":"CZT6","v":0},0,0,0,0,0,0,0,0,0,{"$f":"DAD6","v":0},0,0,0,0,0,0,0,0,0,{"$f":"DAN6","v":0},0,0,0,0,0,0,0,0,0,{"$f":"DAX6","v":0},0,0,0,0,0,0,0,0,0,{"$f":"DBH6","v":0},0,0,0,0,0,0,0,0,0,{"$f":"DBR6","v":0},0,0,0,0,0,0,0,0,0,{"$f":"DCB6","v":0},0,0,0,0,0,0,0,0,0,{"$f":"DCL6","v":0},0,0,0,0,0,0,0,0,0,{"$f":"DCV6","v":0},0,0,0,0,0,0,0,0,0,{"$f":"DDF6","v":0},0,0,0,0,0,0,0,0,0,{"$f":"DDP6","v":0},0,0,0,0,0,0,0,0,0,{"$f":"DDZ6","v":0},0,0,0,0,0,0,0,0,0,{"$f":"DEJ6","v":0},0,0,0,0,0,0,0,0,0,{"$f":"DET6","v":0},0,0,0,0,0,0,0,0,0,{"$f":"DFD6","v":0},0,0,0,0,0,0,0,0,0,{"$f":"DFN6","v":0},0,0,0,0,0,0,0,0,0,{"$f":"DFX6","v":0},0,0,0,0,0,0,0,0,0,{"$f":"DGH6","v":0},0,0,0,0,0,0,0,0,0,{"$f":"DGR6","v":0},0,0,0,0,0,0,0,0,0,{"$f":"DHB6","v":0},0,0,0,0,0,0,0,0,0,{"$f":"DHL6","v":0},0,0,0,0,0,0,0,0,0,{"$f":"DHV6","v":0},0,0,0,0,0,0,0,0,0,{"$f":"DIF6","v":0},0,0,0,0,0,0,0,0,0,{"$f":"DIP6","v":0},0,0,0,0,0,0,0,0,0,{"$f":"DIZ6","v":0},0,0,0,0,0,0,0,0,0,{"$f":"DJJ6","v":0},0,0,0,0,0,0,0,0,0,{"$f":"DJT6","v":0},0,0,0,0,0,0,0,0,0,{"$f":"DKD6","v":0},0,0,0,0,0,0,0,0,0,{"$f":"DKN6","v":0},0,0,0,0,0,0,0,0,0,{"$f":"DKX6","v":0},0,0,0,0,0,0,0,0,0,{"$f":"DLH6","v":0},0,0,0,0,0,0,0,0,0,{"$f":"DLR6","v":0},0,0,0,0,0,0,0,0,0,{"$f":"DMB6","v":0},0,0,0,0,0,0,0,0,0,{"$f":"DML6","v":0},0,0,0,0,0,0,0,0,0,{"$f":"DMV6","v":0},0,0,0,0,0,0,0,0,0,{"$f":"DNF6","v":0},0,0,0,0,0,0,0,0,0,{"$f":"DNP6","v":0},0,0,0,0,0,0,0,0,0,{"$f":"DNZ6","v":0},0,0,0,0,0,0,0,0,0,{"$f":"DOJ6","v":0},0,0,0,0,0,0,0,0,0,{"$f":"DOT6","v":0},0,0,0,0,0,0,0,0,0,{"$f":"DPD6","v":0},0,0,0,0,0,0,0,0,0,{"$f":"DPN6","v":0},0,0,0,0,0,0,0,0,0,{"$f":"DPX6","v":0},0,0,0,0,0,0,0,0,0,{"$f":"DQH6","v":0},0,0,0,0,0,0,0,0,0,{"$f":"DQR6","v":0},0,0,0,0,0,0,0,0,0,{"$f":"DRB6","v":0},0,0,0,0,0,0,0,0,0,{"$f":"DRL6","v":0},0,0,0,0,0,0,0,0,0,{"$f":"DRV6","v":0},0,0,0,0,0,0,0,0,0,{"$f":"DSF6","v":0},0,0,0,0,0,0,0,0,0,{"$f":"DSP6","v":0},0,0,0,0,0,0,0,0,0,{"$f":"DSZ6","v":0},0,0,0,0,0,0,0,0,0,{"$f":"DTJ6","v":0},0,0,0,0,0,0,0,0,0,{"$f":"DTT6","v":0},0,0,0,0,0,0,0,0,0,{"$f":"DUD6","v":0},0,0,0,0,0,0,0,0,0,{"$f":"DUN6","v":0},0,0,0,0,0,0,0,0,0,{"$f":"DUX6","v":0},0,0,0,0,0,0,0,0,0,{"$f":"DVH6","v":0},0,0,0,0,0,0,0,0,0,{"$f":"DVR6","v":0},0,0,0,0,0,0,0,0,0,{"$f":"DWB6","v":0},0,0,0,0,0,0,0,0,0,{"$f":"DWL6","v":0},0,0,0,0,0,0,0,0,0,{"$f":"DWV6","v":0},0,0,0,0,0,0,0,0,0,{"$f":"DXF6","v":0},0,0,0,0,0,0,0,0,0,{"$f":"DXP6","v":0},0,0,0,0,0,0,0,0,0,{"$f":"DXZ6","v":0},0,0,0,0,0,0,0,0,0,{"$f":"DYJ6","v":0},0,0,0,0,0,0,0,0,0,{"$f":"DYT6","v":0},0,0,0,0,0,0,0,0,0,{"$f":"DZD6","v":0},0,0,0,0,0,0,0,0,0,{"$f":"DZN6","v":0},0,0,0,0,0,0,0,0,0,{"$f":"DZX6","v":0},0,0,0,0,0,0,0,0,0,{"$f":"EAH6","v":0},0,0,0,0,0,0,0,0,0,{"$f":"EAR6","v":0},0,0,0,0,0,0,0,0,0,{"$f":"EBB6","v":0},0,0,0,0,0,0,0,0,0,{"$f":"EBL6","v":0},0,0,0,0,0,0,0,0,0,{"$f":"EBV6","v":0},0,0,0,0,0,0,0,0,0,{"$f":"ECF6","v":0},0,0,0,0,0,0,0,0,0,{"$f":"ECP6","v":0},0,0,0,0,0,0,0,0,0,{"$f":"ECZ6","v":0},0,0,0,0,0,0,0,0,0,{"$f":"EDJ6","v":0},0,0,0,0,0,0,0,0,0,{"$f":"EDT6","v":0},0,0,0,0,0,0,0,0,0,{"$f":"EED6","v":0},0,0,0,0,0,0,0,0,0,{"$f":"EEN6","v":0},0,0,0,0,0,0,0,0,0,{"$f":"EEX6","v":0},0,0,0,0,0,0,0,0,0,{"$f":"EFH6","v":0},0,0,0,0,0,0,0,0,0,{"$f":"EFR6","v":0},0,0,0,0,0,0,0,0,0,{"$f":"EGB6","v":0},0,0,0,0,0,0,0,0,0,{"$f":"EGL6","v":0},0,0,0,0,0,0,0,0,0,{"$f":"EGV6","v":0},0,0,0,0,0,0,0,0,0,{"$f":"EHF6","v":0},0,0,0,0,0,0,0,0,0,{"$f":"EHP6","v":0},0,0,0,0,0,0,0,0,0,{"$f":"EHZ6","v":0},0,0,0,0,0,0,0,0,0,{"$f":"EIJ6","v":0},0,0,0,0,0,0,0,0,0,{"$f":"EIT6","v":0},0,0,0,0,0,0,0,0,0,{"$f":"EJD6","v":0},0,0,0,0,0,0,0,0,0,{"$f":"EJN6","v":0},0,0,0,0,0,0,0,0,0,{"$f":"EJX6","v":0},0,0,0,0,0,0,0,0,0,{"$f":"EKH6","v":0},0,0,0,0,0,0,0,0,0,{"$f":"EKR6","v":0},0,0,0,0,0,0,0,0,0,{"$f":"ELB6","v":0},0,0,0,0,0,0,0,0,0,{"$f":"ELL6","v":0},0,0,0,0,0,0,0,0,0,{"$f":"ELV6","v":0},0,0,0,0,0,0,0,0,0,{"$f":"EMF6","v":0},0,0,0,0,0,0,0,0,0,{"$f":"EMP6","v":0},0,0,0,0,0,0,0,0,0,{"$f":"EMZ6","v":0},0,0,0,0,0,0,0,0,0,{"$f":"ENJ6","v":0},0,0,0,0,0,0,0,0,0,{"$f":"ENT6","v":0},0,0,0,0,0,0,0,0,0,{"$f":"EOD6","v":0},0,0,0,0,0,0,0,0,0,{"$f":"EON6","v":0},0,0,0,0,0,0,0,0,0,{"$f":"EOX6","v":0},0,0,0,0,0,0,0,0,0,{"$f":"EPH6","v":0},0,0,0,0,0,0,0,0,0,{"$f":"EPR6","v":0},0,0,0,0,0,0,0,0,0,{"$f":"EQB6","v":0},0,0,0,0,0,0,0,0,0,{"$f":"EQL6","v":0},0,0,0,0,0,0,0,0,0,{"$f":"EQV6","v":0},0,0,0,0,0,0,0,0,0,{"$f":"ERF6","v":0},0,0,0,0,0,0,0,0,0,{"$f":"ERP6","v":0},0,0,0,0,0,0,0,0,0,{"$f":"ERZ6","v":0},0,0,0,0,0,0,0,0,0,{"$f":"ESJ6","v":0},0,0,0,0,0,0,0,0,0,{"$f":"EST6","v":0},0,0,0,0,0,0,0,0,0,{"$f":"ETD6","v":0},0,0,0,0,0,0,0,0,0,{"$f":"ETN6","v":0},0,0,0,0,0,0,0,0,0,{"$f":"ETX6","v":0},0,0,0,0,0,0,0,0,0,{"$f":"EUH6","v":0},0,0,0,0,0,0,0,0,0,{"$f":"EUR6","v":0},0,0,0,0,0,0,0,0,0,{"$f":"EVB6","v":0},0,0,0,0,0,0,0,0,0,{"$f":"EVL6","v":0},0,0,0,0,0,0,0,0,0,{"$f":"EVV6","v":0},0,0,0,0,0,0,0,0,0,{"$f":"EWF6","v":0},0,0,0,0,0,0,0,0,0,{"$f":"EWP6","v":0},0,0,0,0,0,0,0,0,0,{"$f":"EWZ6","v":0},0,0,0,0,0,0,0,0,0,{"$f":"EXJ6","v":0},0,0,0,0,0,0,0,0,0,{"$f":"EXT6","v":0},0,0,0,0,0,0,0,0,0,{"$f":"EYD6","v":0},0,0,0,0,0,0,0,0,0,{"$f":"EYN6","v":0},0,0,0,0,0,0,0,0,0,{"$f":"EYX6","v":0},0,0,0,0,0,0,0,0,0,{"$f":"EZH6","v":0},0,0,0,0,0,0,0,0,0,{"$f":"EZR6","v":0},0,0,0,0,0,0,0,0,0,{"$f":"FAB6","v":0},0,0,0,0,0,0,0,0,0,{"$f":"FAL6","v":0},0,0,0,0,0,0,0,0,0,{"$f":"FAV6","v":0},0,0,0,0,0,0,0,0,0,{"$f":"FBF6","v":0},0,0,0,0,0,0,0,0,0,{"$f":"FBP6","v":0},0,0,0,0,0,0,0,0,0,{"$f":"FBZ6","v":0},0,0,0,0,0,0,0,0,0,{"$f":"FCJ6","v":0},0,0,0,0,0,0,0,0,0,{"$f":"FCT6","v":0},0,0,0,0,0,0,0,0,0,{"$f":"FDD6","v":0},0,0,0,0,0,0,0,0,0,{"$f":"FDN6","v":0},0,0,0,0,0,0,0,0,0,{"$f":"FDX6","v":0},0,0,0,0,0,0,0,0,0,{"$f":"FEH6","v":0},0,0,0,0,0,0,0,0,0,{"$f":"FER6","v":0},0,0,0,0,0,0,0,0,0,{"$f":"FFB6","v":0},0,0,0,0,0,0,0,0,0,{"$f":"FFL6","v":0},0,0,0,0,0,0,0,0,0,{"$f":"FFV6","v":0},0,0,0,0,0,0,0,0,0,{"$f":"FGF6","v":0},0,0,0,0,0,0,0,0,0,{"$f":"FGP6","v":0},0,0,0,0,0,0,0,0,0,{"$f":"FGZ6","v":0},0,0,0,0,0,0,0,0,0,{"$f":"FHJ6","v":0},0,0,0,0,0,0,0,0,0,{"$f":"FHT6","v":0},0,0,0,0,0,0,0,0,0,{"$f":"FID6","v":0},0,0,0,0,0,0,0,0,0,{"$f":"FIN6","v":0},0,0,0,0,0,0,0,0,0,{"$f":"FIX6","v":0},0,0,0,0,0,0,0,0,0,{"$f":"FJH6","v":0},0,0,0,0,0,0,0,0,0,{"$f":"FJR6","v":0},0,0,0,0,0,0,0,0,0,{"$f":"FKB6","v":0},0,0,0,0,0,0,0,0,0,{"$f":"FKL6","v":0},0,0,0,0,0,0,0,0,0,{"$f":"FKV6","v":0},0,0,0,0,0,0,0,0,0,{"$f":"FLF6","v":0},0,0,0,0,0,0,0,0,0,{"$f":"FLP6","v":0},0,0,0,0,0,0,0,0,0,{"$f":"FLZ6","v":0},0,0,0,0,0,0,0,0,0,{"$f":"FMJ6","v":0},0,0,0,0,0,0,0,0,0,{"$f":"FMT6","v":0},0,0,0,0,0,0,0,0,0,{"$f":"FND6","v":0},0,0,0,0,0,0,0,0,0,{"$f":"FNN6","v":0},0,0,0,0,0,0,0,0,0,{"$f":"FNX6","v":0},0,0,0,0,0,0,0,0,0,{"$f":"FOH6","v":0},0,0,0,0,0,0,0,0,0,{"$f":"FOR6","v":0},0,0,0,0,0,0,0,0,0,{"$f":"FPB6","v":0},0,0,0,0,0,0,0,0,0,{"$f":"FPL6","v":0},0,0,0,0,0,0,0,0,0,{"$f":"FPV6","v":0},0,0,0,0,0,0,0,0,0,{"$f":"FQF6","v":0},0,0,0,0,0,0,0,0,0,{"$f":"FQP6","v":0},0,0,0,0,0,0,0,0,0,{"$f":"FQZ6","v":0},0,0,0,0,0,0,0,0,0,{"$f":"FRJ6","v":0},0,0,0,0,0,0,0,0,0,{"$f":"FRT6","v":0},0,0,0,0,0,0,0,0,0,{"$f":"FSD6","v":0},0,0,0,0,0,0,0,0,0,{"$f":"FSN6","v":0},0,0,0,0,0,0,0,0,0,{"$f":"FSX6","v":0},0,0,0,0,0,0,0,0,0,{"$f":"FTH6","v":0},0,0,0,0,0,0,0,0,0,{"$f":"FTR6","v":0},0,0,0,0,0,0,0,0,0,{"$f":"FUB6","v":0},0,0,0,0,0,0,0,0,0,{"$f":"FUL6","v":0},0,0,0,0,0,0,0,0,0,{"$f":"FUV6","v":0},0,0,0,0,0,0,0,0,0,{"$f":"FVF6","v":0},0,0,0,0,0,0,0,0,0,{"$f":"FVP6","v":0},0,0,0,0,0,0,0,0,0,{"$f":"FVZ6","v":0},0,0,0,0,0,0,0,0,0,{"$f":"FWJ6","v":0},0,0,0,0,0,0,0,0,0,{"$f":"FWT6","v":0},0,0,0,0,0,0,0,0,0,{"$f":"FXD6","v":0},0,0,0,0,0,0,0,0,0,{"$f":"FXN6","v":0},0,0,0,0,0,0,0,0,0,{"$f":"FXX6","v":0},0,0,0,0,0,0,0,0,0,{"$f":"FYH6","v":0},0,0,0,0,0,0,0,0,0,{"$f":"FYR6","v":0},0,0,0,0,0,0,0,0,0,{"$f":"FZB6","v":0},0,0,0,0,0,0,0,0,0,{"$f":"FZL6","v":0},0,0,0,0,0,0,0,0,0,{"$f":"FZV6","v":0},0,0,0,0,0,0,0,0,0,{"$f":"GAF6","v":0},0,0,0,0,0,0,0,0,0,{"$f":"GAP6","v":0},0,0,0,0,0,0,0,0,0,{"$f":"GAZ6","v":0},0,0,0,0,0,0,0,0,0,{"$f":"GBJ6","v":0},0,0,0,0,0,0,0,0,0,{"$f":"GBT6","v":0},0,0,0,0,0,0,0,0,0,{"$f":"GCD6","v":0},0,0,0,0,0,0,0,0,0,{"$f":"GCN6","v":0},0,0,0,0,0,0,0,0,0,{"$f":"GCX6","v":0},0,0,0,0,0,0,0,0,0,{"$f":"GDH6","v":0},0,0,0,0,0,0,0,0,0,{"$f":"GDR6","v":0},0,0,0,0,0,0,0,0,0,{"$f":"GEB6","v":0},0,0,0,0,0,0,0,0,0,{"$f":"GEL6","v":0},0,0,0,0,0,0,0,0,0,{"$f":"GEV6","v":0},0,0,0,0,0,0,0,0,0,{"$f":"GFF6","v":0},0,0,0,0,0,0,0,0,0,{"$f":"GFP6","v":0},0,0,0,0,0,0,0,0,0,{"$f":"GFZ6","v":0},0,0,0,0,0,0,0,0,0,{"$f":"GGJ6","v":0},0,0,0,0,0,0,0,0,0,{"$f":"GGT6","v":0},0,0,0,0,0,0,0,0,0,{"$f":"GHD6","v":0},0,0,0,0,0,0,0,0,0,{"$f":"GHN6","v":0},0,0,0,0,0,0,0,0,0,{"$f":"GHX6","v":0},0,0,0,0,0,0,0,0,0,{"$f":"GIH6","v":0},0,0,0,0,0,0,0,0,0,{"$f":"GIR6","v":0},0,0,0,0,0,0,0,0,0,{"$f":"GJB6","v":0},0,0,0,0,0,0,0,0,0,{"$f":"GJL6","v":0},0,0,0,0,0,0,0,0,0,{"$f":"GJV6","v":0},0,0,0,0,0,0,0,0,0,{"$f":"GKF6","v":0},0,0,0,0,0,0,0,0,0,{"$f":"GKP6","v":0},0,0,0,0,0,0,0,0,0,{"$f":"GKZ6","v":0},0,0,0,0,0,0,0,0,0,{"$f":"GLJ6","v":0},0,0,0,0,0,0,0,0,0,{"$f":"GLT6","v":0},0,0,0,0,0,0,0,0,0,{"$f":"GMD6","v":0},0,0,0,0,0,0,0,0,0,{"$f":"GMN6","v":0},0,0,0,0,0,0,0,0,0,{"$f":"GMX6","v":0},0,0,0,0,0,0,0,0,0,{"$f":"GNH6","v":0},0,0,0,0,0,0,0,0,0,{"$f":"GNR6","v":0},0,0,0,0,0,0,0,0,0,{"$f":"GOB6","v":0},0,0,0,0,0,0,0,0,0,{"$f":"GOL6","v":0},0,0,0,0,0,0,0,0,0,{"$f":"GOV6","v":0},0,0,0,0,0,0,0,0,0,{"$f":"GPF6","v":0},0,0,0,0,0,0,0,0,0,{"$f":"GPP6","v":0},0,0,0,0,0,0,0,0,0,{"$f":"GPZ6","v":0},0,0,0,0,0,0,0,0,0,{"$f":"GQJ6","v":0},0,0,0,0,0,0,0,0,0,{"$f":"GQT6","v":0},0,0,0,0,0,0,0,0,0,{"$f":"GRD6","v":0},0,0,0,0,0,0,0,0,0,{"$f":"GRN6","v":0},0,0,0,0,0,0,0,0,0,{"$f":"GRX6","v":0},0,0,0,0,0,0,0,0,0,{"$f":"GSH6","v":0},0,0,0,0,0,0,0,0,0,{"$f":"GSR6","v":0},0,0,0,0,0,0,0,0,0,{"$f":"GTB6","v":0},0,0,0,0,0,0,0,0,0,{"$f":"GTL6","v":0},0,0,0,0,0,0,0,0,0,{"$f":"GTV6","v":0},0,0,0,0,0,0,0,0,0,{"$f":"GUF6","v":0},0,0,0,0,0,0,0,0,0,{"$f":"GUP6","v":0},0,0,0,0,0,0,0,0,0,{"$f":"GUZ6","v":0},0,0,0,0,0,0,0,0,0,{"$f":"GVJ6","v":0},0,0,0,0,0,0,0,0,0,{"$f":"GVT6","v":0},0,0,0,0,0,0,0,0,0,{"$f":"GWD6","v":0},0,0,0,0,0,0,0,0,0,{"$f":"GWN6","v":0},0,0,0,0,0,0,0,0,0,{"$f":"GWX6","v":0},0,0,0,0,0,0,0,0,0,{"$f":"GXH6","v":0},0,0,0,0,0,0,0,0,0,{"$f":"GXR6","v":0},0,0,0,0,0,0,0,0,0,{"$f":"GYB6","v":0},0,0,0,0,0,0,0,0,0,{"$f":"GYL6","v":0},0,0,0,0,0,0,0,0,0,{"$f":"GYV6","v":0},0,0,0,0,0,0,0,0,0,{"$f":"GZF6","v":0},0,0,0,0,0,0,0,0,0,{"$f":"GZP6","v":0},0,0,0,0,0,0,0,0,0,{"$f":"GZZ6","v":0},0,0,0,0,0,0,0,0,0,{"$f":"HAJ6","v":0},0,0,0,0,0,0,0,0,0,{"$f":"HAT6","v":0},0,0,0,0,0,0,0,0,0,{"$f":"HBD6","v":0},0,0,0,0,0,0,0,0,0,{"$f":"HBN6","v":0},0,0,0,0,0,0,0,0,0,{"$f":"HBX6","v":0},0,0,0,0,0,0,0,0,0,{"$f":"HCH6","v":0},0,0,0,0,0,0,0,0,0,{"$f":"HCR6","v":0},0,0,0,0,0,0,0,0,0,{"$f":"HDB6","v":0},0,0,0,0,0,0,0,0,0,{"$f":"HDL6","v":0},0,0,0,0,0,0,0,0,0,{"$f":"HDV6","v":0},0,0,0,0,0,0,0,0,0,{"$f":"HEF6","v":0},0,0,0,0,0,0,0,0,0,{"$f":"HEP6","v":0},0,0,0,0,0,0,0,0,0,{"$f":"HEZ6","v":0},0,0,0,0,0,0,0,0,0,{"$f":"HFJ6","v":0},0,0,0,0,0,0,0,0,0,{"$f":"HFT6","v":0},0,0,0,0,0,0,0,0,0,{"$f":"HGD6","v":0},0,0,0,0,0,0,0,0,0,{"$f":"HGN6","v":0},0,0,0,0,0,0,0,0,0,{"$f":"HGX6","v":0},0,0,0,0,0,0,0,0,0,{"$f":"HHH6","v":0},0,0,0,0,0,0,0,0,0,{"$f":"HHR6","v":0},0,0,0,0,0,0,0,0,0,{"$f":"HIB6","v":0},0,0,0,0,0,0,0,0,0,{"$f":"HIL6","v":0},0,0,0,0,0,0,0,0,0,{"$f":"HIV6","v":0},0,0,0,0,0,0,0,0,0,{"$f":"HJF6","v":0},0,0,0,0,0,0,0,0,0,{"$f":"HJP6","v":0},0,0,0,0,0,0,0,0,0,{"$f":"HJZ6","v":0},0,0,0,0,0,0,0,0,0,{"$f":"HKJ6","v":0},0,0,0,0,0,0,0,0,0,{"$f":"HKT6","v":0},0,0,0,0,0,0,0,0,0,{"$f":"HLD6","v":0},0,0,0,0,0,0,0,0,0,{"$f":"HLN6","v":0},0,0,0,0,0,0,0,0,0,{"$f":"HLX6","v":0},0,0,0,0,0,0,0,0,0,{"$f":"HMH6","v":0},0,0,0,0,0,0,0,0,0,{"$f":"HMR6","v":0},0,0,0,0,0,0,0,0,0,{"$f":"HNB6","v":0},0,0,0,0,0,0,0,0,0,{"$f":"HNL6","v":0},0,0,0,0,0,0,0,0,0,{"$f":"HNV6","v":0},0,0,0,0,0,0,0,0,0,{"$f":"HOF6","v":0},0,0,0,0,0,0,0,0,0,{"$f":"HOP6","v":0},0,0,0,0,0,0,0,0,0,{"$f":"HOZ6","v":0},0,0,0,0,0,0,0,0,0,{"$f":"HPJ6","v":0},0,0,0,0,0,0,0,0,0,{"$f":"HPT6","v":0},0,0,0,0,0,0,0,0,0,{"$f":"HQD6","v":0},0,0,0,0,0,0,0,0,0,{"$f":"HQN6","v":0},0,0,0,0,0,0,0,0,0,{"$f":"HQX6","v":0},0,0,0,0,0,0,0,0,0,{"$f":"HRH6","v":0},0,0,0,0,0,0,0,0,0,{"$f":"HRR6","v":0},0,0,0,0,0,0,0,0,0,{"$f":"HSB6","v":0},0,0,0,0,0,0,0,0,0,{"$f":"HSL6","v":0},0,0,0,0,0,0,0,0,0,{"$f":"HSV6","v":0},0,0,0,0,0,0,0,0,0,{"$f":"HTF6","v":0},0,0,0,0,0,0,0,0,0,{"$f":"HTP6","v":0},0,0,0,0,0,0,0,0,0,{"$f":"HTZ6","v":0},0,0,0,0,0,0,0,0,0,{"$f":"HUJ6","v":0},0,0,0,0,0,0,0,0,0,{"$f":"HUT6","v":0},0,0,0,0,0,0,0,0,0,{"$f":"HVD6","v":0},0,0,0,0,0,0,0,0,0,{"$f":"HVN6","v":0},0,0,0,0,0,0,0,0,0,{"$f":"HVX6","v":0},0,0,0,0,0,0,0,0,0,{"$f":"HWH6","v":0},0,0,0,0,0,0,0,0,0,{"$f":"HWR6","v":0},0,0,0,0,0,0,0,0,0,{"$f":"HXB6","v":0},0,0,0,0,0,0,0,0,0,{"$f":"HXL6","v":0},0,0,0,0,0,0,0,0,0,{"$f":"HXV6","v":0},0,0,0,0,0,0,0,0,0,{"$f":"HYF6","v":0},0,0,0,0,0,0,0,0,0,{"$f":"HYP6","v":0},0,0,0,0,0,0,0,0,0,{"$f":"HYZ6","v":0},0,0,0,0,0,0,0,0,0,{"$f":"HZJ6","v":0},0,0,0,0,0,0,0,0,0,{"$f":"HZT6","v":0},0,0,0,0,0,0,0,0,0,{"$f":"IAD6","v":0},0,0,0,0,0,0,0,0,0,{"$f":"IAN6","v":0},0,0,0,0,0,0,0,0,0,{"$f":"IAX6","v":0},0,0,0,0,0,0,0,0,0,{"$f":"IBH6","v":0},0,0,0,0,0,0,0,0,0,{"$f":"IBR6","v":0},0,0,0,0,0,0,0,0,0,{"$f":"ICB6","v":0},0,0,0,0,0,0,0,0,0,{"$f":"ICL6","v":0},0,0,0,0,0,0,0,0,0,{"$f":"ICV6","v":0},0,0,0,0,0,0,0,0,0,{"$f":"IDF6","v":0},0,0,0,0,0,0,0,0,0,{"$f":"IDP6","v":0},0,0,0,0,0,0,0,0,0,{"$f":"IDZ6","v":0},0,0,0,0,0,0,0,0,0,{"$f":"IEJ6","v":0},0,0,0,0,0,0,0,0,0,{"$f":"IET6","v":0},0,0,0,0,0,0,0,0,0,{"$f":"IFD6","v":0},0,0,0,0,0,0,0,0,0,{"$f":"IFN6","v":0},0,0,0,0,0,0,0,0,0,{"$f":"IFX6","v":0},0,0,0,0,0,0,0,0,0,{"$f":"IGH6","v":0},0,0,0,0,0,0,0,0,0,{"$f":"IGR6","v":0},0,0,0,0,0,0,0,0,0,{"$f":"IHB6","v":0},0,0,0,0,0,0,0,0,0,{"$f":"IHL6","v":0},0,0,0,0,0,0,0,0,0,{"$f":"IHV6","v":0},0,0,0,0,0,0,0,0,0,{"$f":"IIF6","v":0},0,0,0,0,0,0,0,0,0,{"$f":"IIP6","v":0},0,0,0,0,0,0,0,0,0,{"$f":"IIZ6","v":0},0,0,0,0,0,0,0,0,0,{"$f":"IJJ6","v":0},0,0,0,0,0,0,0,0,0,{"$f":"IJT6","v":0},0,0,0,0,0,0,0,0,0,{"$f":"IKD6","v":0},0,0,0,0,0,0,0,0,0,{"$f":"IKN6","v":0},0,0,0,0,0,0,0,0,0,{"$f":"IKX6","v":0},0,0,0,0,0,0,0,0,0,{"$f":"ILH6","v":0},0,0,0,0,0,0,0,0,0,{"$f":"ILR6","v":0},0,0,0,0,0,0,0,0,0,{"$f":"IMB6","v":0},0,0,0,0,0,0,0,0,0,{"$f":"IML6","v":0},0,0,0,0,0,0,0,0,0,{"$f":"IMV6","v":0},0,0,0,0,0,0,0,0,0,{"$f":"INF6","v":0},0,0,0,0,0,0,0,0,0,{"$f":"INP6","v":0},0,0,0,0,0,0,0,0,0,{"$f":"INZ6","v":0},0,0,0,0,0,0,0,0,0,{"$f":"IOJ6","v":0},0,0,0,0,0,0,0,0,0,{"$f":"IOT6","v":0},0,0,0,0,0,0,0,0,0,{"$f":"IPD6","v":0},0,0,0,0,0,0,0,0,0,{"$f":"IPN6","v":0},0,0,0,0,0,0,0,0,0,{"$f":"IPX6","v":0},0,0,0,0,0,0,0,0,0,{"$f":"IQH6","v":0},0,0,0,0,0,0,0,0,0,{"$f":"IQR6","v":0},0,0,0,0,0,0,0,0,0,{"$f":"IRB6","v":0},0,0,0,0,0,0,0,0,0,{"$f":"IRL6","v":0},0,0,0,0,0,0,0,0,0,{"$f":"IRV6","v":0},0,0,0,0,0,0,0,0,0,{"$f":"ISF6","v":0},0,0,0,0,0,0,0,0,0,{"$f":"ISP6","v":0},0,0,0,0,0,0,0,0,0,{"$f":"ISZ6","v":0},0,0,0,0,0,0,0,0,0,{"$f":"ITJ6","v":0},0,0,0,0,0,0,0,0,0,{"$f":"ITT6","v":0},0,0,0,0,0,0,0,0,0,{"$f":"IUD6","v":0},0,0,0,0,0,0,0,0,0,{"$f":"IUN6","v":0},0,0,0,0,0,0,0,0,0,{"$f":"IUX6","v":0},0,0,0,0,0,0,0,0,0,{"$f":"IVH6","v":0},0,0,0,0,0,0,0,0,0,{"$f":"IVR6","v":0},0,0,0,0,0,0,0,0,0,{"$f":"IWB6","v":0},0,0,0,0,0,0,0,0,0,{"$f":"IWL6","v":0},0,0,0,0,0,0,0,0,0,{"$f":"IWV6","v":0},0,0,0,0,0,0,0,0,0,{"$f":"IXF6","v":0},0,0,0,0,0,0,0,0,0,{"$f":"IXP6","v":0},0,0,0,0,0,0,0,0,0,{"$f":"IXZ6","v":0},0,0,0,0,0,0,0,0,0,{"$f":"IYJ6","v":0},0,0,0,0,0,0,0,0,0,{"$f":"IYT6","v":0},0,0,0,0,0,0,0,0,0,{"$f":"IZD6","v":0},0,0,0,0,0,0,0,0,0,{"$f":"IZN6","v":0},0,0,0,0,0,0,0,0,0,{"$f":"IZX6","v":0},0,0,0,0,0,0,0,0,0,{"$f":"JAH6","v":0},0,0,0,0,0,0,0,0,0,{"$f":"JAR6","v":0},0,0,0,0,0,0,0,0,0,{"$f":"JBB6","v":0},0,0,0,0,0,0,0,0,0,{"$f":"JBL6","v":0},0,0,0,0,0,0,0,0,0,{"$f":"JBV6","v":0},0,0,0,0,0,0,0,0,0,{"$f":"JCF6","v":0},0,0,0,0,0,0,0,0,0,{"$f":"JCP6","v":0},0,0,0,0,0,0,0,0,0,{"$f":"JCZ6","v":0},0,0,0,0,0,0,0,0,0,{"$f":"JDJ6","v":0},0,0,0,0,0,0,0,0,0,{"$f":"JDT6","v":0},0,0,0,0,0,0,0,0,0,{"$f":"JED6","v":0},0,0,0,0,0,0,0,0,0,{"$f":"JEN6","v":0},0,0,0,0,0,0,0,0,0,{"$f":"JEX6","v":0},0,0,0,0,0,0,0,0,0,{"$f":"JFH6","v":0},0,0,0,0,0,0,0,0,0,{"$f":"JFR6","v":0},0,0,0,0,0,0,0,0,0,{"$f":"JGB6","v":0},0,0,0,0,0,0,0,0,0,{"$f":"JGL6","v":0},0,0,0,0,0,0,0,0,0,{"$f":"JGV6","v":0},0,0,0,0,0,0,0,0,0,{"$f":"JHF6","v":0},0,0,0,0,0,0,0,0,0,{"$f":"JHP6","v":0},0,0,0,0,0,0,0,0,0,{"$f":"JHZ6","v":0},0,0,0,0,0,0,0,0,0,{"$f":"JIJ6","v":0},0,0,0,0,0,0,0,0,0,{"$f":"JIT6","v":0},0,0,0,0,0,0,0,0,0,{"$f":"JJD6","v":0},0,0,0,0,0,0,0,0,0,{"$f":"JJN6","v":0},0,0,0,0,0,0,0,0,0,{"$f":"JJX6","v":0},0,0,0,0,0,0,0,0,0,{"$f":"JKH6","v":0},0,0,0,0,0,0,0,0,0,{"$f":"JKR6","v":0},0,0,0,0,0,0,0,0,0,{"$f":"JLB6","v":0},0,0,0,0,0,0,0,0,0,{"$f":"JLL6","v":0},0,0,0,0,0,0,0,0,0,{"$f":"JLV6","v":0},0,0,0,0,0,0,0,0,0,{"$f":"JMF6","v":0},0,0,0,0,0,0,0,0,0,{"$f":"JMP6","v":0},0,0,0,0,0,0,0,0,0,{"$f":"JMZ6","v":0},0,0,0,0,0,0,0,0,0,{"$f":"JNJ6","v":0},0,0,0,0,0,0,0,0,0,{"$f":"JNT6","v":0},0,0,0,0,0,0,0,0,0,{"$f":"JOD6","v":0},0,0,0,0,0,0,0,0,0,{"$f":"JON6","v":0},0,0,0,0,0,0,0,0,0,{"$f":"JOX6","v":0},0,0,0,0,0,0,0,0,0,{"$f":"JPH6","v":0},0,0,0,0,0,0,0,0,0,{"$f":"JPR6","v":0},0,0,0,0,0,0,0,0,0,{"$f":"JQB6","v":0},0,0,0,0,0,0,0,0,0,{"$f":"JQL6","v":0},0,0,0,0,0,0,0,0,0,{"$f":"JQV6","v":0},0,0,0,0,0,0,0,0,0,{"$f":"JRF6","v":0},0,0,0,0,0,0,0,0,0,{"$f":"JRP6","v":0},0,0,0,0,0,0,0,0,0,{"$f":"JRZ6","v":0},0,0,0,0,0,0,0,0,0,{"$f":"JSJ6","v":0},0,0,0,0,0,0,0,0,0,{"$f":"JST6","v":0},0,0,0,0,0,0,0,0,0,{"$f":"JTD6","v":0},0,0,0,0,0,0,0,0,0,{"$f":"JTN6","v":0},0,0,0,0,0,0,0,0,0,{"$f":"JTX6","v":0},0,0,0,0,0,0,0,0,0,{"$f":"JUH6","v":0},0,0,0,0,0,0,0,0,0,{"$f":"JUR6","v":0},0,0,0,0,0,0,0,0,0,{"$f":"JVB6","v":0},0,0,0,0,0,0,0,0,0,{"$f":"JVL6","v":0},0,0,0,0,0,0,0,0,0,{"$f":"JVV6","v":0},0,0,0,0,0,0,0,0,0,{"$f":"JWF6","v":0},0,0,0,0,0,0,0,0,0,{"$f":"JWP6","v":0},0,0,0,0,0,0,0,0,0,{"$f":"JWZ6","v":0},0,0,0,0,0,0,0,0,0,{"$f":"JXJ6","v":0},0,0,0,0,0,0,0,0,0,{"$f":"JXT6","v":0},0,0,0,0,0,0,0,0,0,{"$f":"JYD6","v":0},0,0,0,0,0,0,0,0,0,{"$f":"JYN6","v":0},0,0,0,0,0,0,0,0,0,{"$f":"JYX6","v":0},0,0,0,0,0,0,0,0,0,{"$f":"JZH6","v":0},0,0,0,0,0,0,0,0,0,{"$f":"JZR6","v":0},0,0,0,0,0,0,0,0,0,{"$f":"KAB6","v":0},0,0,0,0,0,0,0,0,0,{"$f":"KAL6","v":0},0,0,0,0,0,0,0,0,0,{"$f":"KAV6","v":0},0,0,0,0,0,0,0,0,0,{"$f":"KBF6","v":0},0,0,0,0,0,0,0,0,0,{"$f":"KBP6","v":0},0,0,0,0,0,0,0,0,0,{"$f":"KBZ6","v":0},0,0,0,0,0,0,0,0,0,{"$f":"KCJ6","v":0},0,0,0,0,0,0,0,0,0,{"$f":"KCT6","v":0},0,0,0,0,0,0,0,0,0,{"$f":"KDD6","v":0},0,0,0,0,0,0,0,0,0,{"$f":"KDN6","v":0},0,0,0,0,0,0,0,0,0,{"$f":"KDX6","v":0},0,0,0,0,0,0,0,0,0,{"$f":"KEH6","v":0},0,0,0,0,0,0,0,0,0,{"$f":"KER6","v":0},0,0,0,0,0,0,0,0,0,{"$f":"KFB6","v":0},0,0,0,0,0,0,0,0,0,{"$f":"KFL6","v":0},0,0,0,0,0,0,0,0,0,{"$f":"KFV6","v":0},0,0,0,0,0,0,0,0,0,{"$f":"KGF6","v":0},0,0,0,0,0,0,0,0,0,{"$f":"KGP6","v":0},0,0,0,0,0,0,0,0,0,{"$f":"KGZ6","v":0},0,0,0,0,0,0,0,0,0,{"$f":"KHJ6","v":0},0,0,0,0,0,0,0,0,0,{"$f":"KHT6","v":0},0,0,0,0,0,0,0,0,0,{"$f":"KID6","v":0},0,0,0,0,0,0,0,0,0,{"$f":"KIN6","v":0},0,0,0,0,0,0,0,0,0,{"$f":"KIX6","v":0},0,0,0,0,0,0,0,0,0,{"$f":"KJH6","v":0},0,0,0,0,0,0,0,0,0,{"$f":"KJR6","v":0},0,0,0,0,0,0,0,0,0,{"$f":"KKB6","v":0},0,0,0,0,0,0,0,0,0,{"$f":"KKL6","v":0},0,0,0,0,0,0,0,0,0,{"$f":"KKV6","v":0},0,0,0,0,0,0,0,0,0,{"$f":"KLF6","v":0},0,0,0,0,0,0,0,0,0,{"$f":"KLP6","v":0},0,0,0,0,0,0,0,0,0,{"$f":"KLZ6","v":0},0,0,0,0,0,0,0,0,0,{"$f":"KMJ6","v":0},0,0,0,0,0,0,0,0,0,{"$f":"KMT6","v":0},0,0,0,0,0,0,0,0,0,{"$f":"KND6","v":0},0,0,0,0,0,0,0,0,0,{"$f":"KNN6","v":0},0,0,0,0,0,0,0,0,0,{"$f":"KNX6","v":0},0,0,0,0,0,0,0,0,0,{"$f":"KOH6","v":0},0,0,0,0,0,0,0,0,0,{"$f":"KOR6","v":0},0,0,0,0,0,0,0,0,0,{"$f":"KPB6","v":0},0,0,0,0,0,0,0,0,0,{"$f":"KPL6","v":0},0,0,0,0,0,0,0,0,0,{"$f":"KPV6","v":0},0,0,0,0,0,0,0,0,0,{"$f":"KQF6","v":0},0,0,0,0,0,0,0,0,0,{"$f":"KQP6","v":0},0,0,0,0,0,0,0,0,0,{"$f":"KQZ6","v":0},0,0,0,0,0,0,0,0,0,{"$f":"KRJ6","v":0},0,0,0,0,0,0,0,0,0,{"$f":"KRT6","v":0},0,0,0,0,0,0,0,0,0,{"$f":"KSD6","v":0},0,0,0,0,0,0,0,0,0,{"$f":"KSN6","v":0},0,0,0,0,0,0,0,0,0,{"$f":"KSX6","v":0},0,0,0,0,0,0,0,0,0,{"$f":"KTH6","v":0},0,0,0,0,0,0,0,0,0,{"$f":"KTR6","v":0},0,0,0,0,0,0,0,0,0,{"$f":"KUB6","v":0},0,0,0,0,0,0,0,0,0,{"$f":"KUL6","v":0},0,0,0,0,0,0,0,0,0,{"$f":"KUV6","v":0},0,0,0,0,0,0,0,0,0,{"$f":"KVF6","v":0},0,0,0,0,0,0,0,0,0,{"$f":"KVP6","v":0},0,0,0,0,0,0,0,0,0,{"$f":"KVZ6","v":0},0,0,0,0,0,0,0,0,0,{"$f":"KWJ6","v":0},0,0,0,0,0,0,0,0,0,{"$f":"KWT6","v":0},0,0,0,0,0,0,0,0,0,{"$f":"KXD6","v":0},0,0,0,0,0,0,0,0,0,{"$f":"KXN6","v":0},0,0,0,0,0,0,0,0,0,{"$f":"KXX6","v":0},0,0,0,0,0,0,0,0,0,{"$f":"KYH6","v":0},0,0,0,0,0,0,0,0,0,{"$f":"KYR6","v":0},0,0,0,0,0,0,0,0,0,{"$f":"KZB6","v":0},0,0,0,0,0,0,0,0,0,{"$f":"KZL6","v":0},0,0,0,0,0,0,0,0,0,{"$f":"KZV6","v":0},0,0,0,0,0,0,0,0,0,{"$f":"LAF6","v":0},0,0,0,0,0,0,0,0,0,{"$f":"LAP6","v":0},0,0,0,0,0,0,0,0,0,{"$f":"LAZ6","v":0},0,0,0,0,0,0,0,0,0,{"$f":"LBJ6","v":0},0,0,0,0,0,0,0,0,0,{"$f":"LBT6","v":0},0,0,0,0,0,0,0,0,0,{"$f":"LCD6","v":0},0,0,0,0,0,0,0,0,0,{"$f":"LCN6","v":0},0,0,0,0,0,0,0,0,0,{"$f":"LCX6","v":0},0,0,0,0,0,0,0,0,0,{"$f":"LDH6","v":0},0,0,0,0,0,0,0,0,0,{"$f":"LDR6","v":0},0,0,0,0,0,0,0,0,0,{"$f":"LEB6","v":0},0,0,0,0,0,0,0,0,0,{"$f":"LEL6","v":0},0,0,0,0,0,0,0,0,0,{"$f":"LEV6","v":0},0,0,0,0,0,0,0,0,0,{"$f":"LFF6","v":0},0,0,0,0,0,0,0,0,0,{"$f":"LFP6","v":0},0,0,0,0,0,0,0,0,0,{"$f":"LFZ6","v":0},0,0,0,0,0,0,0,0,0,{"$f":"LGJ6","v":0},0,0,0,0,0,0,0,0,0,{"$f":"LGT6","v":0},0,0,0,0,0,0,0,0,0,{"$f":"LHD6","v":0},0,0,0,0,0,0,0,0,0,{"$f":"LHN6","v":0},0,0,0,0,0,0,0,0,0,{"$f":"LHX6","v":0},0,0,0,0,0,0,0,0,0,{"$f":"LIH6","v":0},0,0,0,0,0,0,0,0,0,{"$f":"LIR6","v":0},0,0,0,0,0,0,0,0,0,{"$f":"LJB6","v":0},0,0,0,0,0,0,0,0,0,{"$f":"LJL6","v":0},0,0,0,0,0,0,0,0,0,{"$f":"LJV6","v":0},0,0,0,0,0,0,0,0,0,{"$f":"LKF6","v":0},0,0,0,0,0,0,0,0,0,{"$f":"LKP6","v":0},0,0,0,0,0,0,0,0,0,{"$f":"LKZ6","v":0},0,0,0,0,0,0,0,0,0,{"$f":"LLJ6","v":0},0,0,0,0,0,0,0,0,0,{"$f":"LLT6","v":0},0,0,0,0,0,0,0,0,0,{"$f":"LMD6","v":0},0,0,0,0,0,0,0,0,0,{"$f":"LMN6","v":0},0,0,0,0,0,0,0,0,0,{"$f":"LMX6","v":0},0,0,0,0,0,0,0,0,0,{"$f":"LNH6","v":0},0,0,0,0,0,0,0,0,0,{"$f":"LNR6","v":0},0,0,0,0,0,0,0,0,0,{"$f":"LOB6","v":0},0,0,0,0,0,0,0,0,0,{"$f":"LOL6","v":0},0,0,0,0,0,0,0,0,0,{"$f":"LOV6","v":0},0,0,0,0,0,0,0,0,0,{"$f":"LPF6","v":0},0,0,0,0,0,0,0,0,0,{"$f":"LPP6","v":0},0,0,0,0,0,0,0,0,0,{"$f":"LPZ6","v":0},0,0,0,0,0,0,0,0,0,{"$f":"LQJ6","v":0},0,0,0,0,0,0,0,0,0,{"$f":"LQT6","v":0},0,0,0,0,0,0,0,0,0,{"$f":"LRD6","v":0},0,0,0,0,0,0,0,0,0,{"$f":"LRN6","v":0},0,0,0,0,0,0,0,0,0,{"$f":"LRX6","v":0},0,0,0,0,0,0,0,0,0,{"$f":"LSH6","v":0},0,0,0,0,0,0,0,0,0,{"$f":"LSR6","v":0},0,0,0,0,0,0,0,0,0,{"$f":"LTB6","v":0},0,0,0,0,0,0,0,0,0,{"$f":"LTL6","v":0},0,0,0,0,0,0,0,0,0,{"$f":"LTV6","v":0},0,0,0,0,0,0,0,0,0,{"$f":"LUF6","v":0},0,0,0,0,0,0,0,0,0,{"$f":"LUP6","v":0},0,0,0,0,0,0,0,0,0,{"$f":"LUZ6","v":0},0,0,0,0,0,0,0,0,0,{"$f":"LVJ6","v":0},0,0,0,0,0,0,0,0,0,{"$f":"LVT6","v":0},0,0,0,0,0,0,0,0,0,{"$f":"LWD6","v":0},0,0,0,0,0,0,0,0,0,{"$f":"LWN6","v":0},0,0,0,0,0,0,0,0,0,{"$f":"LWX6","v":0},0,0,0,0,0,0,0,0,0,{"$f":"LXH6","v":0},0,0,0,0,0,0,0,0,0,{"$f":"LXR6","v":0},0,0,0,0,0,0,0,0,0,{"$f":"LYB6","v":0},0,0,0,0,0,0,0,0,0,{"$f":"LYL6","v":0},0,0,0,0,0,0,0,0,0,{"$f":"LYV6","v":0},0,0,0,0,0,0,0,0,0,{"$f":"LZF6","v":0},0,0,0,0,0,0,0,0,0,{"$f":"LZP6","v":0},0,0,0,0,0,0,0,0,0,{"$f":"LZZ6","v":0},0,0,0,0,0,0,0,0,0,{"$f":"MAJ6","v":0},0,0,0,0,0,0,0,0,0,{"$f":"MAT6","v":0},0,0,0,0,0,0,0,0,0,{"$f":"MBD6","v":0},0,0,0,0,0,0,0,0,0,{"$f":"MBN6","v":0},0,0,0,0,0,0,0,0,0,{"$f":"MBX6","v":0},0,0,0,0,0,0,0,0,0,{"$f":"MCH6","v":0},0,0,0,0,0,0,0,0,0,{"$f":"MCR6","v":0},0,0,0,0,0,0,0,0,0,{"$f":"MDB6","v":0},0,0,0,0,0,0,0,0,0,{"$f":"MDL6","v":0},0,0,0,0,0,0,0,0,0,{"$f":"MDV6","v":0},0,0,0,0,0,0,0,0,0,{"$f":"MEF6","v":0},0,0,0,0,0,0,0,0,0,{"$f":"MEP6","v":0},0,0,0,0,0,0,0,0,0,{"$f":"MEZ6","v":0},0,0,0,0,0,0,0,0,0,{"$f":"MFJ6","v":0},0,0,0,0,0,0,0,0,0,{"$f":"MFT6","v":0},0,0,0,0,0,0,0,0,0,{"$f":"MGD6","v":0},0,0,0,0,0,0,0,0,0,{"$f":"MGN6","v":0},0,0,0,0,0,0,0,0,0,{"$f":"MGX6","v":0},0,0,0,0,0,0,0,0,0,{"$f":"MHH6","v":0},0,0,0,0,0,0,0,0,0,{"$f":"MHR6","v":0},0,0,0,0,0,0,0,0,0,{"$f":"MIB6","v":0},0,0,0,0,0,0,0,0,0,{"$f":"MIL6","v":0},0,0,0,0,0,0,0,0,0,{"$f":"MIV6","v":0},0,0,0,0,0,0,0,0,0,{"$f":"MJF6","v":0},0,0,0,0,0,0,0,0,0,{"$f":"MJP6","v":0},0,0,0,0,0,0,0,0,0,{"$f":"MJZ6","v":0},0,0,0,0,0,0,0,0,0,{"$f":"MKJ6","v":0},0,0,0,0,0,0,0,0,0,{"$f":"MKT6","v":0},0,0,0,0,0,0,0,0,0,{"$f":"MLD6","v":0},0,0,0,0,0,0,0,0,0,{"$f":"MLN6","v":0},0,0,0,0,0,0,0,0,0,{"$f":"MLX6","v":0},0,0,0,0,0,0,0,0,0,{"$f":"MMH6","v":0},0,0,0,0,0,0,0,0,0,{"$f":"MMR6","v":0},0,0,0,0,0,0,0,0,0,{"$f":"MNB6","v":0},0,0,0,0,0,0,0,0,0,{"$f":"MNL6","v":0},0,0,0,0,0,0,0,0,0,{"$f":"MNV6","v":0},0,0,0,0,0,0,0,0,0,{"$f":"MOF6","v":0},0,0,0,0,0,0,0,0,0,{"$f":"MOP6","v":0},0,0,0,0,0,0,0,0,0,{"$f":"MOZ6","v":0},0,0,0,0,0,0,0,0,0,{"$f":"MPJ6","v":0},0,0,0,0,0,0,0,0,0,{"$f":"MPT6","v":0},0,0,0,0,0,0,0,0,0,{"$f":"MQD6","v":0},0,0,0,0,0,0,0,0,0,{"$f":"MQN6","v":0},0,0,0,0,0,0,0,0,0,{"$f":"MQX6","v":0},0,0,0,0,0,0,0,0,0,{"$f":"MRH6","v":0},0,0,0,0,0,0,0,0,0,{"$f":"MRR6","v":0},0,0,0,0,0,0,0,0,0,{"$f":"MSB6","v":0},0,0,0,0,0,0,0,0,0,{"$f":"MSL6","v":0},0,0,0,0,0,0,0,0,0,{"$f":"MSV6","v":0},0,0,0,0,0,0,0,0,0,{"$f":"MTF6","v":0},0,0,0,0,0,0,0,0,0,{"$f":"MTP6","v":0},0,0,0,0,0,0,0,0,0,{"$f":"MTZ6","v":0},0,0,0,0,0,0,0,0,0,{"$f":"MUJ6","v":0},0,0,0,0,0,0,0,0,0,{"$f":"MUT6","v":0},0,0,0,0,0,0,0,0,0,{"$f":"MVD6","v":0},0,0,0,0,0,0,0,0,0,{"$f":"MVN6","v":0},0,0,0,0,0,0,0,0,0,{"$f":"MVX6","v":0},0,0,0,0,0,0,0,0,0,{"$f":"MWH6","v":0},0,0,0,0,0,0,0,0,0,{"$f":"MWR6","v":0},0,0,0,0,0,0,0,0,0,{"$f":"MXB6","v":0},0,0,0,0,0,0,0,0,0,{"$f":"MXL6","v":0},0,0,0,0,0,0,0,0,0,{"$f":"MXV6","v":0},0,0,0,0,0,0,0,0,0,{"$f":"MYF6","v":0},0,0,0,0,0,0,0,0,0,{"$f":"MYP6","v":0},0,0,0,0,0,0,0,0,0,{"$f":"MYZ6","v":0},0,0,0,0,0,0,0,0,0,{"$f":"MZJ6","v":0},0,0,0,0,0,0,0,0,0,{"$f":"MZT6","v":0},0,0,0,0,0,0,0,0,0,{"$f":"NAD6","v":0},0,0,0,0,0,0,0,0,0,{"$f":"NAN6","v":0},0,0,0,0,0,0,0,0,0,{"$f":"NAX6","v":0},0,0,0,0,0,0,0,0,0,{"$f":"NBH6","v":0},0,0,0,0,0,0,0,0,0,{"$f":"NBR6","v":0},0,0,0,0,0,0,0,0,0,{"$f":"NCB6","v":0},0,0,0,0,0,0,0,0,0,{"$f":"NCL6","v":0},0,0,0,0,0,0,0,0,0,{"$f":"NCV6","v":0},0,0,0,0,0,0,0,0,0,{"$f":"NDF6","v":0},0,0,0,0,0,0,0,0,0,{"$f":"NDP6","v":0},0,0,0,0,0,0,0,0,0,{"$f":"NDZ6","v":0},0,0,0,0,0,0,0,0,0,{"$f":"NEJ6","v":0},0,0,0,0,0,0,0,0,0,{"$f":"NET6","v":0},0,0,0,0,0,0,0,0,0,{"$f":"NFD6","v":0},0,0,0,0,0,0,0,0,0,{"$f":"NFN6","v":0},0,0,0,0,0,0,0,0,0,{"$f":"NFX6","v":0},0,0,0,0,0,0,0,0,0,{"$f":"NGH6","v":0},0,0,0,0,0,0,0,0,0,{"$f":"NGR6","v":0},0,0,0,0,0,0,0,0,0,{"$f":"NHB6","v":0},0,0,0,0,0,0,0,0,0,{"$f":"NHL6","v":0},0,0,0,0,0,0,0,0,0,{"$f":"NHV6","v":0},0,0,0,0,0,0,0,0,0,{"$f":"NIF6","v":0},0,0,0,0,0,0,0,0,0,{"$f":"NIP6","v":0},0,0,0,0,0,0,0,0,0,{"$f":"NIZ6","v":0},0,0,0,0,0,0,0,0,0,{"$f":"NJJ6","v":0},0,0,0,0,0,0,0,0,0,{"$f":"NJT6","v":0},0,0,0,0,0,0,0,0,0,{"$f":"NKD6","v":0},0,0,0,0,0,0,0,0,0,{"$f":"NKN6","v":0},0,0,0,0,0,0,0,0,0,{"$f":"NKX6","v":0},0,0,0,0,0,0,0,0,0,{"$f":"NLH6","v":0},0,0,0,0,0,0,0,0,0,{"$f":"NLR6","v":0},0,0,0,0,0,0,0,0,0,{"$f":"NMB6","v":0},0,0,0,0,0,0,0,0,0,{"$f":"NML6","v":0},0,0,0,0,0,0,0,0,0,{"$f":"NMV6","v":0},0,0,0,0,0,0,0,0,0,{"$f":"NNF6","v":0},0,0,0,0,0,0,0,0,0,{"$f":"NNP6","v":0},0,0,0,0,0,0,0,0,0,{"$f":"NNZ6","v":0},0,0,0,0,0,0,0,0,0,{"$f":"NOJ6","v":0},0,0,0,0,0,0,0,0,0,{"$f":"NOT6","v":0},0,0,0,0,0,0,0,0,0,{"$f":"NPD6","v":0},0,0,0,0,0,0,0,0,0,{"$f":"NPN6","v":0},0,0,0,0,0,0,0,0,0,{"$f":"NPX6","v":0},0,0,0,0,0,0,0,0,0,{"$f":"NQH6","v":0},0,0,0,0,0,0,0,0,0,{"$f":"NQR6","v":0},0,0,0,0,0,0,0,0,0,{"$f":"NRB6","v":0},0,0,0,0,0,0,0,0,0,{"$f":"NRL6","v":0},0,0,0,0,0,0,0,0,0,{"$f":"NRV6","v":0},0,0,0,0,0,0,0,0,0,{"$f":"NSF6","v":0},0,0,0,0,0,0,0,0,0,{"$f":"NSP6","v":0},0,0,0,0,0,0,0,0,0,{"$f":"NSZ6","v":0},0,0,0,0,0,0,0,0,0,{"$f":"NTJ6","v":0},0,0,0,0,0,0,0,0,0,{"$f":"NTT6","v":0},0,0,0,0,0,0,0,0,0,{"$f":"NUD6","v":0},0,0,0,0,0,0,0,0,0,{"$f":"NUN6","v":0},0,0,0,0,0,0,0,0,0,{"$f":"NUX6","v":0},0,0,0,0,0,0,0,0,0,{"$f":"NVH6","v":0},0,0,0,0,0,0,0,0,0,{"$f":"NVR6","v":0},0,0,0,0,0,0,0,0,0,{"$f":"NWB6","v":0},0,0,0,0,0,0,0,0,0,{"$f":"NWL6","v":0},0,0,0,0,0,0,0,0,0,{"$f":"NWV6","v":0},0,0,0,0,0,0,0,0,0,{"$f":"NXF6","v":0},0,0,0,0,0,0,0,0,0,{"$f":"NXP6","v":0},0,0,0,0,0,0,0,0,0,{"$f":"NXZ6","v":0},0,0,0,0,0,0,0,0,0,{"$f":"NYJ6","v":0},0,0,0,0,0,0,0,0,0,{"$f":"NYT6","v":0},0,0,0,0,0,0,0,0,0,{"$f":"NZD6","v":0},0,0,0,0,0,0,0,0,0,{"$f":"NZN6","v":0},0,0,0,0,0,0,0,0,0,{"$f":"NZX6","v":0},0,0,0,0,0,0,0,0,0,{"$f":"OAH6","v":0},0,0,0,0,0,0,0,0,0,{"$f":"OAR6","v":0},0,0,0,0,0,0,0,0,0,{"$f":"OBB6","v":0},0,0,0,0,0,0,0,0,0,{"$f":"OBL6","v":0},0,0,0,0,0,0,0,0,0,{"$f":"OBV6","v":0},0,0,0,0,0,0,0,0,0,{"$f":"OCF6","v":0},0,0,0,0,0,0,0,0,0,{"$f":"OCP6","v":0},0,0,0,0,0,0,0,0,0,{"$f":"OCZ6","v":0},0,0,0,0,0,0,0,0,0,{"$f":"ODJ6","v":0},0,0,0,0,0,0,0,0,0,{"$f":"ODT6","v":0},0,0,0,0,0,0,0,0,0,{"$f":"OED6","v":0},0,0,0,0,0,0,0,0,0,{"$f":"OEN6","v":0},0,0,0,0,0,0,0,0,0,{"$f":"OEX6","v":0},0,0,0,0,0,0,0,0,0,{"$f":"OFH6","v":0},0,0,0,0,0,0,0,0,0,{"$f":"OFR6","v":0},0,0,0,0,0,0,0,0,0,{"$f":"OGB6","v":0},0,0,0,0,0,0,0,0,0,{"$f":"OGL6","v":0},0,0,0,0,0,0,0,0,0,{"$f":"OGV6","v":0},0,0,0,0,0,0,0,0,0,{"$f":"OHF6","v":0},0,0,0,0,0,0,0,0,0,{"$f":"OHP6","v":0},0,0,0,0,0,0,0,0,0,{"$f":"OHZ6","v":0},0,0,0,0,0,0,0,0,0,{"$f":"OIJ6","v":0},0,0,0,0,0,0,0,0,0,{"$f":"OIT6","v":0},0,0,0,0,0,0,0,0,0,{"$f":"OJD6","v":0},0,0,0,0,0,0,0,0,0,{"$f":"OJN6","v":0},0,0,0,0,0,0,0,0,0,{"$f":"OJX6","v":0},0,0,0,0,0,0,0,0,0,{"$f":"OKH6","v":0},0,0,0,0,0,0,0,0,0,{"$f":"OKR6","v":0},0,0,0,0,0,0,0,0,0,{"$f":"OLB6","v":0},0,0,0,0,0,0,0,0,0,{"$f":"OLL6","v":0},0,0,0,0,0,0,0,0,0,{"$f":"OLV6","v":0},0,0,0,0,0,0,0,0,0,{"$f":"OMF6","v":0},0,0,0,0,0,0,0,0,0,{"$f":"OMP6","v":0},0,0,0,0,0,0,0,0,0,{"$f":"OMZ6","v":0},0,0,0,0,0,0,0,0,0,{"$f":"ONJ6","v":0},0,0,0,0,0,0,0,0,0,{"$f":"ONT6","v":0},0,0,0,0,0,0,0,0,0,{"$f":"OOD6","v":0},0,0,0,0,0,0,0,0,0,{"$f":"OON6","v":0},0,0,0,0,0,0,0,0,0,{"$f":"OOX6","v":0},0,0,0,0,0,0,0,0,0,{"$f":"OPH6","v":0},0,0,0,0,0,0,0,0,0,{"$f":"OPR6","v":0},0,0,0,0,0,0,0,0,0,{"$f":"OQB6","v":0},0,0,0,0,0,0,0,0,0,{"$f":"OQL6","v":0},0,0,0,0,0,0,0,0,0,{"$f":"OQV6","v":0},0,0,0,0,0,0,0,0,0,{"$f":"ORF6","v":0},0,0,0,0,0,0,0,0,0,{"$f":"ORP6","v":0},0,0,0,0,0,0,0,0,0,{"$f":"ORZ6","v":0},0,0,0,0,0,0,0,0,0,{"$f":"OSJ6","v":0},0,0,0,0,0,0,0,0,0,{"$f":"OST6","v":0},0,0,0,0,0,0,0,0,0,{"$f":"OTD6","v":0},0,0,0,0,0,0,0,0,0,{"$f":"OTN6","v":0},0,0,0,0,0,0,0,0,0,{"$f":"OTX6","v":0},0,0,0,0,0,0,0,0,0,{"$f":"OUH6","v":0},0,0,0,0,0,0,0,0,0,{"$f":"OUR6","v":0},0,0,0,0,0,0,0,0,0,{"$f":"OVB6","v":0},0,0,0,0,0,0,0,0,0,{"$f":"OVL6","v":0},0,0,0,0,0,0,0,0,0,{"$f":"OVV6","v":0},0,0,0,0,0,0,0,0,0,{"$f":"OWF6","v":0},0,0,0,0,0,0,0,0,0,{"$f":"OWP6","v":0},0,0,0,0,0,0,0,0,0,{"$f":"OWZ6","v":0},0,0,0,0,0,0,0,0,0,{"$f":"OXJ6","v":0},0,0,0,0,0,0,0,0,0,{"$f":"OXT6","v":0},0,0,0,0,0,0,0,0,0,{"$f":"OYD6","v":0},0,0,0,0,0,0,0,0,0,{"$f":"OYN6","v":0},0,0,0,0,0,0,0,0,0,{"$f":"OYX6","v":0},0,0,0,0,0,0,0,0,0,{"$f":"OZH6","v":0},0,0,0,0,0,0,0,0,0,{"$f":"OZR6","v":0},0,0,0,0,0,0,0,0,0,{"$f":"PAB6","v":0},0,0,0,0,0,0,0,0,0,{"$f":"PAL6","v":0},0,0,0,0,0,0,0,0,0,{"$f":"PAV6","v":0},0,0,0,0,0,0,0,0,0,{"$f":"PBF6","v":0},0,0,0,0,0,0,0,0,0,{"$f":"PBP6","v":0},0,0,0,0,0,0,0,0,0,{"$f":"PBZ6","v":0},0,0,0,0,0,0,0,0,0,{"$f":"PCJ6","v":0},0,0,0,0,0,0,0,0,0,{"$f":"PCT6","v":0},0,0,0,0,0,0,0,0,0,{"$f":"PDD6","v":0},0,0,0,0,0,0,0,0,0,{"$f":"PDN6","v":0},0,0,0,0,0,0,0,0,0,{"$f":"PDX6","v":0},0,0,0,0,0,0,0,0,0,{"$f":"PEH6","v":0},0,0,0,0,0,0,0,0,0,{"$f":"PER6","v":0},0,0,0,0,0,0,0,0,0,{"$f":"PFB6","v":0},0,0,0,0,0,0,0,0,0,{"$f":"PFL6","v":0},0,0,0,0,0,0,0,0,0,{"$f":"PFV6","v":0},0,0,0,0,0,0,0,0,0,{"$f":"PGF6","v":0},0,0,0,0,0,0,0,0,0,{"$f":"PGP6","v":0},0,0,0,0,0,0,0,0,0,{"$f":"PGZ6","v":0},0,0,0,0,0,0,0,0,0,{"$f":"PHJ6","v":0},0,0,0,0,0,0,0,0,0,{"$f":"PHT6","v":0},0,0,0,0,0,0,0,0,0,{"$f":"PID6","v":0},0,0,0,0,0,0,0,0,0,{"$f":"PIN6","v":0},0,0,0,0,0,0,0,0,0,{"$f":"PIX6","v":0},0,0,0,0,0,0,0,0,0,{"$f":"PJH6","v":0},0,0,0,0,0,0,0,0,0,{"$f":"PJR6","v":0},0,0,0,0,0,0,0,0,0,{"$f":"PKB6","v":0},0,0,0,0,0,0,0,0,0,{"$f":"PKL6","v":0},0,0,0,0,0,0,0,0,0,{"$f":"PKV6","v":0},0,0,0,0,0,0,0,0,0,{"$f":"PLF6","v":0},0,0,0,0,0,0,0,0,0,{"$f":"PLP6","v":0},0,0,0,0,0,0,0,0,0,{"$f":"PLZ6","v":0},0,0,0,0,0,0,0,0,0,{"$f":"PMJ6","v":0},0,0,0,0,0,0,0,0,0,{"$f":"PMT6","v":0},0,0,0,0,0,0,0,0,0,{"$f":"PND6","v":0},0,0,0,0,0,0,0,0,0,{"$f":"PNN6","v":0},0,0,0,0,0,0,0,0,0,{"$f":"PNX6","v":0},0,0,0,0,0,0,0,0,0,{"$f":"POH6","v":0},0,0,0,0,0,0,0,0,0,{"$f":"POR6","v":0},0,0,0,0,0,0,0,0,0,{"$f":"PPB6","v":0},0,0,0,0,0,0,0,0,0,{"$f":"PPL6","v":0},0,0,0,0,0,0,0,0,0,{"$f":"PPV6","v":0},0,0,0,0,0,0,0,0,0,{"$f":"PQF6","v":0},0,0,0,0,0,0,0,0,0,{"$f":"PQP6","v":0},0,0,0,0,0,0,0,0,0,{"$f":"PQZ6","v":0},0,0,0,0,0,0,0,0,0,{"$f":"PRJ6","v":0},0,0,0,0,0,0,0,0,0,{"$f":"PRT6","v":0},0,0,0,0,0,0,0,0,0,{"$f":"PSD6","v":0},0,0,0,0,0,0,0,0,0,{"$f":"PSN6","v":0},0,0,0,0,0,0,0,0,0,{"$f":"PSX6","v":0},0,0,0,0,0,0,0,0,0,{"$f":"PTH6","v":0},0,0,0,0,0,0,0,0,0,{"$f":"PTR6","v":0},0,0,0,0,0,0,0,0,0,{"$f":"PUB6","v":0},0,0,0,0,0,0,0,0,0,{"$f":"PUL6","v":0},0,0,0,0,0,0,0,0,0,{"$f":"PUV6","v":0},0,0,0,0,0,0,0,0,0,{"$f":"PVF6","v":0},0,0,0,0,0,0,0,0,0,{"$f":"PVP6","v":0},0,0,0,0,0,0,0,0,0,{"$f":"PVZ6","v":0},0,0,0,0,0,0,0,0,0,{"$f":"PWJ6","v":0},0,0,0,0,0,0,0,0,0,{"$f":"PWT6","v":0},0,0,0,0,0,0,0,0,0,{"$f":"PXD6","v":0},0,0,0,0,0,0,0,0,0,{"$f":"PXN6","v":0},0,0,0,0,0,0,0,0,0,{"$f":"PXX6","v":0},0,0,0,0,0,0,0,0,0,{"$f":"PYH6","v":0},0,0,0,0,0,0,0,0,0,{"$f":"PYR6","v":0},0,0,0,0,0,0,0,0,0,{"$f":"PZB6","v":0},0,0,0,0,0,0,0,0,0,{"$f":"PZL6","v":0},0,0,0,0,0,0,0,0,0,{"$f":"PZV6","v":0},0,0,0,0,0,0,0,0,0,{"$f":"QAF6","v":0},0,0,0,0,0,0,0,0,0,{"$f":"QAP6","v":0},0,0,0,0,0,0,0,0,0,{"$f":"QAZ6","v":0},0,0,0,0,0,0,0,0,0,{"$f":"QBJ6","v":0},0,0,0,0,0,0,0,0,0,{"$f":"QBT6","v":0},0,0,0,0,0,0,0,0,0,{"$f":"QCD6","v":0},0,0,0,0,0,0,0,0,0,{"$f":"QCN6","v":0},0,0,0,0,0,0,0,0,0,{"$f":"QCX6","v":0},0,0,0,0,0,0,0,0,0,{"$f":"QDH6","v":0},0,0,0,0,0,0,0,0,0,{"$f":"QDR6","v":0},0,0,0,0,0,0,0,0,0,{"$f":"QEB6","v":0},0,0,0,0,0,0,0,0,0,{"$f":"QEL6","v":0},0,0,0,0,0,0,0,0,0,{"$f":"QEV6","v":0},0,0,0,0,0,0,0,0,0,{"$f":"QFF6","v":0},0,0,0,0,0,0,0,0,0,{"$f":"QFP6","v":0},0,0,0,0,0,0,0,0,0,{"$f":"QFZ6","v":0},0,0,0,0,0,0,0,0,0,{"$f":"QGJ6","v":0},0,0,0,0,0,0,0,0,0,{"$f":"QGT6","v":0},0,0,0,0,0,0,0,0,0,{"$f":"QHD6","v":0},0,0,0,0,0,0,0,0,0,{"$f":"QHN6","v":0},0,0,0,0,0,0,0,0,0,{"$f":"QHX6","v":0},0,0,0,0,0,0,0,0,0,{"$f":"QIH6","v":0},0,0,0,0,0,0,0,0,0,{"$f":"QIR6","v":0},0,0,0,0,0,0,0,0,0,{"$f":"QJB6","v":0},0,0,0,0,0,0,0,0,0,{"$f":"QJL6","v":0},0,0,0,0,0,0,0,0,0,{"$f":"QJV6","v":0},0,0,0,0,0,0,0,0,0,{"$f":"QKF6","v":0},0,0,0,0,0,0,0,0,0,{"$f":"QKP6","v":0},0,0,0,0,0,0,0,0,0,{"$f":"QKZ6","v":0},0,0,0,0,0,0,0,0,0,{"$f":"QLJ6","v":0},0,0,0,0,0,0,0,0,0,{"$f":"QLT6","v":0},0,0,0,0,0,0,0,0,0,{"$f":"QMD6","v":0},0,0,0,0,0,0,0,0,0,{"$f":"QMN6","v":0},0,0,0,0,0,0,0,0,0,{"$f":"QMX6","v":0},0,0,0,0,0,0,0,0,0,{"$f":"QNH6","v":0},0,0,0,0,0,0,0,0,0,{"$f":"QNR6","v":0},0,0,0,0,0,0,0,0,0,{"$f":"QOB6","v":0},0,0,0,0,0,0,0,0,0,{"$f":"QOL6","v":0},0,0,0,0,0,0,0,0,0,{"$f":"QOV6","v":0},0,0,0,0,0,0,0,0,0,{"$f":"QPF6","v":0},0,0,0,0,0,0,0,0,0,{"$f":"QPP6","v":0},0,0,0,0,0,0,0,0,0,{"$f":"QPZ6","v":0},0,0,0,0,0,0,0,0,0,{"$f":"QQJ6","v":0},0,0,0,0,0,0,0,0,0,{"$f":"QQT6","v":0},0,0,0,0,0,0,0,0,0,{"$f":"QRD6","v":0},0,0,0,0,0,0,0,0,0,{"$f":"QRN6","v":0},0,0,0,0,0,0,0,0,0,{"$f":"QRX6","v":0},0,0,0,0,0,0,0,0,0,{"$f":"QSH6","v":0},0,0,0,0,0,0,0,0,0,{"$f":"QSR6","v":0},0,0,0,0,0,0,0,0,0,{"$f":"QTB6","v":0},0,0,0,0,0,0,0,0,0,{"$f":"QTL6","v":0},0,0,0,0,0,0,0,0,0,{"$f":"QTV6","v":0},0,0,0,0,0,0,0,0,0,{"$f":"QUF6","v":0},0,0,0,0,0,0,0,0,0,{"$f":"QUP6","v":0},0,0,0,0,0,0,0,0,0,{"$f":"QUZ6","v":0},0,0,0,0,0,0,0,0,0,{"$f":"QVJ6","v":0},0,0,0,0,0,0,0,0,0,{"$f":"QVT6","v":0},0,0,0,0,0,0,0,0,0,{"$f":"QWD6","v":0},0,0,0,0,0,0,0,0,0,{"$f":"QWN6","v":0},0,0,0,0,0,0,0,0,0,{"$f":"QWX6","v":0},0,0,0,0,0,0,0,0,0,{"$f":"QXH6","v":0},0,0,0,0,0,0,0,0,0,{"$f":"QXR6","v":0},0,0,0,0,0,0,0,0,0,{"$f":"QYB6","v":0},0,0,0,0,0,0,0,0,0,{"$f":"QYL6","v":0},0,0,0,0,0,0,0,0,0,{"$f":"QYV6","v":0},0,0,0,0,0,0,0,0,0,{"$f":"QZF6","v":0},0,0,0,0,0,0,0,0,0,{"$f":"QZP6","v":0},0,0,0,0,0,0,0,0,0,{"$f":"QZZ6","v":0},0,0,0,0,0,0,0,0,0,{"$f":"RAJ6","v":0},0,0,0,0,0,0,0,0,0,{"$f":"RAT6","v":0},0,0,0,0,0,0,0,0,0,{"$f":"RBD6","v":0},0,0,0,0,0,0,0,0,0,{"$f":"RBN6","v":0},0,0,0,0,0,0,0,0,0,{"$f":"RBX6","v":0},0,0,0,0,0,0,0,0,0,{"$f":"RCH6","v":0},0,0,0,0,0,0,0,0,0,{"$f":"RCR6","v":0},0,0,0,0,0,0,0,0,0,{"$f":"RDB6","v":0},0,0,0,0,0,0,0,0,0,{"$f":"RDL6","v":0},0,0,0,0,0,0,0,0,0,{"$f":"RDV6","v":0},0,0,0,0,0,0,0,0,0,{"$f":"REF6","v":0},0,0,0,0,0,0,0,0,0,{"$f":"REP6","v":0},0,0,0,0,0,0,0,0,0,{"$f":"REZ6","v":0},0,0,0,0,0,0,0,0,0,{"$f":"RFJ6","v":0},0,0,0,0,0,0,0,0,0,{"$f":"RFT6","v":0},0,0,0,0,0,0,0,0,0,{"$f":"RGD6","v":0},0,0,0,0,0,0,0,0,0,{"$f":"RGN6","v":0},0,0,0,0,0,0,0,0,0,{"$f":"RGX6","v":0},0,0,0,0,0,0,0,0,0,{"$f":"RHH6","v":0},0,0,0,0,0,0,0,0,0,{"$f":"RHR6","v":0},0,0,0,0,0,0,0,0,0,{"$f":"RIB6","v":0},0,0,0,0,0,0,0,0,0,{"$f":"RIL6","v":0},0,0,0,0,0,0,0,0,0,{"$f":"RIV6","v":0},0,0,0,0,0,0,0,0,0,{"$f":"RJF6","v":0},0,0,0,0,0,0,0,0,0,{"$f":"RJP6","v":0},0,0,0,0,0,0,0,0,0,{"$f":"RJZ6","v":0},0,0,0,0,0,0,0,0,0,{"$f":"RKJ6","v":0},0,0,0,0,0,0,0,0,0,{"$f":"RKT6","v":0},0,0,0,0,0,0,0,0,0,{"$f":"RLD6","v":0},0,0,0,0,0,0,0,0,0,{"$f":"RLN6","v":0},0,0,0,0,0,0,0,0,0,{"$f":"RLX6","v":0},0,0,0,0,0,0,0,0,0,{"$f":"RMH6","v":0},0,0,0,0,0,0,0,0,0,{"$f":"RMR6","v":0},0,0,0,0,0,0,0,0,0,{"$f":"RNB6","v":0},0,0,0,0,0,0,0,0,0,{"$f":"RNL6","v":0},0,0,0,0,0,0,0,0,0,{"$f":"RNV6","v":0},0,0,0,0,0,0,0,0,0,{"$f":"ROF6","v":0},0,0,0,0,0,0,0,0,0,{"$f":"ROP6","v":0},0,0,0,0,0,0,0,0,0,{"$f":"ROZ6","v":0},0,0,0,0,0,0,0,0,0,{"$f":"RPJ6","v":0},0,0,0,0,0,0,0,0,0,{"$f":"RPT6","v":0},0,0,0,0,0,0,0,0,0,{"$f":"RQD6","v":0},0,0,0,0,0,0,0,0,0,{"$f":"RQN6","v":0},0,0,0,0,0,0,0,0,0,{"$f":"RQX6","v":0},0,0,0,0,0,0,0,0,0,{"$f":"RRH6","v":0},0,0,0,0,0,0,0,0,0,{"$f":"RRR6","v":0},0,0,0,0,0,0,0,0,0,{"$f":"RSB6","v":0},0,0,0,0,0,0,0,0,0,{"$f":"RSL6","v":0},0,0,0,0,0,0,0,0,0,{"$f":"RSV6","v":0},0,0,0,0,0,0,0,0,0,{"$f":"RTF6","v":0},0,0,0,0,0,0,0,0,0,{"$f":"RTP6","v":0},0,0,0,0,0,0,0,0,0,{"$f":"RTZ6","v":0},0,0,0,0,0,0,0,0,0,{"$f":"RUJ6","v":0},0,0,0,0,0,0,0,0,0,{"$f":"RUT6","v":0},0,0,0,0,0,0,0,0,0,{"$f":"RVD6","v":0},0,0,0,0,0,0,0,0,0,{"$f":"RVN6","v":0},0,0,0,0,0,0,0,0,0,{"$f":"RVX6","v":0},0,0,0,0,0,0,0,0,0,{"$f":"RWH6","v":0},0,0,0,0,0,0,0,0,0,{"$f":"RWR6","v":0},0,0,0,0,0,0,0,0,0,{"$f":"RXB6","v":0},0,0,0,0,0,0,0,0,0,{"$f":"RXL6","v":0},0,0,0,0,0,0,0,0,0,{"$f":"RXV6","v":0},0,0,0,0,0,0,0,0,0,{"$f":"RYF6","v":0},0,0,0,0,0,0,0,0,0,{"$f":"RYP6","v":0},0,0,0,0,0,0,0,0,0,{"$f":"RYZ6","v":0},0,0,0,0,0,0,0,0,0,{"$f":"RZJ6","v":0},0,0,0,0,0,0,0,0,0,{"$f":"RZT6","v":0},0,0,0,0,0,0,0,0,0,{"$f":"SAD6","v":0},0,0,0,0,0,0,0,0,0,{"$f":"SAN6","v":0},0,0,0,0,0,0,0,0,0,{"$f":"SAX6","v":0},0,0,0,0,0,0,0,0,0,{"$f":"SBH6","v":0},0,0,0,0,0,0,0,0,0,{"$f":"SBR6","v":0},0,0,0,0,0,0,0,0,0,{"$f":"SCB6","v":0},0,0,0,0,0,0,0,0,0,{"$f":"SCL6","v":0},0,0,0,0,0,0,0,0,0,{"$f":"SCV6","v":0},0,0,0,0,0,0,0,0,0,{"$f":"SDF6","v":0},0,0,0,0,0,0,0,0,0,{"$f":"SDP6","v":0},0,0,0,0,0,0,0,0,0,{"$f":"SDZ6","v":0},0,0,0,0,0,0,0,0,0,{"$f":"SEJ6","v":0},0,0,0,0,0,0,0,0,0,{"$f":"SET6","v":0},0,0,0,0,0,0,0,0,0,{"$f":"SFD6","v":0},0,0,0,0,0,0,0,0,0,{"$f":"SFN6","v":0},0,0,0,0,0,0,0,0,0,{"$f":"SFX6","v":0},0,0,0,0,0,0,0,0,0,{"$f":"SGH6","v":0},0,0,0,0,0,0,0,0,0,{"$f":"SGR6","v":0},0,0,0,0,0,0,0,0,0,{"$f":"SHB6","v":0},0,0,0,0,0,0,0,0,0,{"$f":"SHL6","v":0},0,0,0,0,0,0,0,0,0,{"$f":"SHV6","v":0},0,0,0,0,0,0,0,0,0,{"$f":"SIF6","v":0},0,0,0,0,0,0,0,0,0,{"$f":"SIP6","v":0},0,0,0,0,0,0,0,0,0,{"$f":"SIZ6","v":0},0,0,0,0,0,0,0,0,0,{"$f":"SJJ6","v":0},0,0,0,0,0,0,0,0,0,{"$f":"SJT6","v":0},0,0,0,0,0,0,0,0,0,{"$f":"SKD6","v":0},0,0,0,0,0,0,0,0,0,{"$f":"SKN6","v":0},0,0,0,0,0,0,0,0,0,{"$f":"SKX6","v":0},0,0,0,0,0,0,0,0,0,{"$f":"SLH6","v":0},0,0,0,0,0,0,0,0,0,{"$f":"SLR6","v":0},0,0,0,0,0,0,0,0,0,{"$f":"SMB6","v":0},0,0,0,0,0,0,0,0,0,{"$f":"SML6","v":0},0,0,0,0,0,0,0,0,0,{"$f":"SMV6","v":0},0,0,0,0,0,0,0,0,0,{"$f":"SNF6","v":0},0,0,0,0,0,0,0,0,0,{"$f":"SNP6","v":0},0,0,0,0,0,0,0,0,0,{"$f":"SNZ6","v":0},0,0,0,0,0,0,0,0,0,{"$f":"SOJ6","v":0},0,0,0,0,0,0,0,0,0,{"$f":"SOT6","v":0},0,0,0,0,0,0,0,0,0,{"$f":"SPD6","v":0},0,0,0,0,0,0,0,0,0,{"$f":"SPN6","v":0},0,0,0,0,0,0,0,0,0,{"$f":"SPX6","v":0},0,0,0,0,0,0,0,0,0,{"$f":"SQH6","v":0},0,0,0,0,0,0,0,0,0,{"$f":"SQR6","v":0},0,0,0,0,0,0,0,0,0,{"$f":"SRB6","v":0},0,0,0,0,0,0,0,0,0,{"$f":"SRL6","v":0},0,0,0,0,0,0,0,0,0,{"$f":"SRV6","v":0},0,0,0,0,0,0,0,0,0,{"$f":"SSF6","v":0},0,0,0,0,0,0,0,0,0,{"$f":"SSP6","v":0},0,0,0,0,0,0,0,0,0,{"$f":"SSZ6","v":0},0,0,0,0,0,0,0,0,0,{"$f":"STJ6","v":0},0,0,0,0,0,0,0,0,0,{"$f":"STT6","v":0},0,0,0,0,0,0,0,0,0,{"$f":"SUD6","v":0},0,0,0,0,0,0,0,0,0,{"$f":"SUN6","v":0},0,0,0,0,0,0,0,0,0,{"$f":"SUX6","v":0},0,0,0,0,0,0,0,0,0,{"$f":"SVH6","v":0},0,0,0,0,0,0,0,0,0,{"$f":"SVR6","v":0},0,0,0,0,0,0,0,0,0,{"$f":"SWB6","v":0},0,0,0,0,0,0,0,0,0,{"$f":"SWL6","v":0},0,0,0,0,0,0,0,0,0,{"$f":"SWV6","v":0},0,0,0,0,0,0,0,0,0,{"$f":"SXF6","v":0},0,0,0,0,0,0,0,0,0,{"$f":"SXP6","v":0},0,0,0,0,0,0,0,0,0,{"$f":"SXZ6","v":0},0,0,0,0,0,0,0,0,0,{"$f":"SYJ6","v":0},0,0,0,0,0,0,0,0,0,{"$f":"SYT6","v":0},0,0,0,0,0,0,0,0,0,{"$f":"SZD6","v":0},0,0,0,0,0,0,0,0,0,{"$f":"SZN6","v":0},0,0,0,0,0,0,0,0,0,{"$f":"SZX6","v":0},0,0,0,0,0,0,0,0,0,{"$f":"TAH6","v":0},0,0,0,0,0,0,0,0,0,{"$f":"TAR6","v":0},0,0,0,0,0,0,0,0,0,{"$f":"TBB6","v":0},0,0,0,0,0,0,0,0,0,{"$f":"TBL6","v":0},0,0,0,0,0,0,0,0,0,{"$f":"TBV6","v":0},0,0,0,0,0,0,0,0,0,{"$f":"TCF6","v":0},0,0,0,0,0,0,0,0,0,{"$f":"TCP6","v":0},0,0,0,0,0,0,0,0,0,{"$f":"TCZ6","v":0},0,0,0,0,0,0,0,0,0,{"$f":"TDJ6","v":0},0,0,0,0,0,0,0,0,0,{"$f":"TDT6","v":0},0,0,0,0,0,0,0,0,0,{"$f":"TED6","v":0},0,0,0,0,0,0,0,0,0,{"$f":"TEN6","v":0},0,0,0,0,0,0,0,0,0,{"$f":"TEX6","v":0},0,0,0,0,0,0,0,0,0,{"$f":"TFH6","v":0},0,0,0,0,0,0,0,0,0,{"$f":"TFR6","v":0},0,0,0,0,0,0,0,0,0,{"$f":"TGB6","v":0},0,0,0,0,0,0,0,0,0,{"$f":"TGL6","v":0},0,0,0,0,0,0,0,0,0,{"$f":"TGV6","v":0},0,0,0,0,0,0,0,0,0,{"$f":"THF6","v":0},0,0,0,0,0,0,0,0,0,{"$f":"THP6","v":0},0,0,0,0,0,0,0,0,0,{"$f":"THZ6","v":0},0,0,0,0,0,0,0,0,0,{"$f":"TIJ6","v":0},0,0,0,0,0,0,0,0,0,{"$f":"TIT6","v":0},0,0,0,0,0,0,0,0,0,{"$f":"TJD6","v":0},0,0,0,0,0,0,0,0,0,{"$f":"TJN6","v":0},0,0,0,0,0,0,0,0,0,{"$f":"TJX6","v":0},0,0,0,0,0,0,0,0,0,{"$f":"TKH6","v":0},0,0,0,0,0,0,0,0,0,{"$f":"TKR6","v":0},0,0,0,0,0,0,0,0,0,{"$f":"TLB6","v":0},0,0,0,0,0,0,0,0,0,{"$f":"TLL6","v":0},0,0,0,0,0,0,0,0,0,{"$f":"TLV6","v":0},0,0,0,0,0,0,0,0,0,{"$f":"TMF6","v":0},0,0,0,0,0,0,0,0,0,{"$f":"TMP6","v":0},0,0,0,0,0,0,0,0,0,{"$f":"TMZ6","v":0},0,0,0,0,0,0,0,0,0,{"$f":"TNJ6","v":0},0,0,0,0,0,0,0,0,0,{"$f":"TNT6","v":0},0,0,0,0,0,0,0,0,0,{"$f":"TOD6","v":0},0,0,0,0,0,0,0,0,0,{"$f":"TON6","v":0},0,0,0,0,0,0,0,0,0,{"$f":"TOX6","v":0},0,0,0,0,0,0,0,0,0,{"$f":"TPH6","v":0},0,0,0,0,0,0,0,0,0,{"$f":"TPR6","v":0},0,0,0,0,0,0,0,0,0,{"$f":"TQB6","v":0},0,0,0,0,0,0,0,0,0,{"$f":"TQL6","v":0},0,0,0,0,0,0,0,0,0,{"$f":"TQV6","v":0},0,0,0,0,0,0,0,0,0,{"$f":"TRF6","v":0},0,0,0,0,0,0,0,0,0,{"$f":"TRP6","v":0},0,0,0,0,0,0,0,0,0,{"$f":"TRZ6","v":0},0,0,0,0,0,0,0,0,0,{"$f":"TSJ6","v":0},0,0,0,0,0,0,0,0,0,{"$f":"TST6","v":0},0,0,0,0,0,0,0,0,0,{"$f":"TTD6","v":0},0,0,0,0,0,0,0,0,0,{"$f":"TTN6","v":0},0,0,0,0,0,0,0,0,0,{"$f":"TTX6","v":0},0,0,0,0,0,0,0,0,0,{"$f":"TUH6","v":0},0,0,0,0,0,0,0,0,0,{"$f":"TUR6","v":0},0,0,0,0,0,0,0,0,0,{"$f":"TVB6","v":0},0,0,0,0,0,0,0,0,0,{"$f":"TVL6","v":0},0,0,0,0,0,0,0,0,0,{"$f":"TVV6","v":0},0,0,0,0,0,0,0,0,0,{"$f":"TWF6","v":0},0,0,0,0,0,0,0,0,0,{"$f":"TWP6","v":0},0,0,0,0,0,0,0,0,0,{"$f":"TWZ6","v":0},0,0,0,0,0,0,0,0,0,{"$f":"TXJ6","v":0},0,0,0,0,0,0,0,0,0,{"$f":"TXT6","v":0},0,0,0,0,0,0,0,0,0,{"$f":"TYD6","v":0},0,0,0,0,0,0,0,0,0,{"$f":"TYN6","v":0},0,0,0,0,0,0,0,0,0,{"$f":"TYX6","v":0},0,0,0,0,0,0,0,0,0,{"$f":"TZH6","v":0},0,0,0,0,0,0,0,0,0,{"$f":"TZR6","v":0},0,0,0,0,0,0,0,0,0,{"$f":"UAB6","v":0},0,0,0,0,0,0,0,0,0,{"$f":"UAL6","v":0},0,0,0,0,0,0,0,0,0,{"$f":"UAV6","v":0},0,0,0,0,0,0,0,0,0,{"$f":"UBF6","v":0},0,0,0,0,0,0,0,0,0,{"$f":"UBP6","v":0},0,0,0,0,0,0,0,0,0,{"$f":"UBZ6","v":0},0,0,0,0,0,0,0,0,0,{"$f":"UCJ6","v":0},0,0,0,0,0,0,0,0,0,{"$f":"UCT6","v":0},0,0,0,0,0,0,0,0,0,{"$f":"UDD6","v":0},0,0,0,0,0,0,0,0,0,{"$f":"UDN6","v":0},0,0,0,0,0,0,0,0,0,{"$f":"UDX6","v":0},0,0,0,0,0,0,0,0,0,{"$f":"UEH6","v":0},0,0,0,0,0,0,0,0,0,{"$f":"UER6","v":0},0,0,0,0,0,0,0,0,0,{"$f":"UFB6","v":0},0,0,0,0,0,0,0,0,0,{"$f":"UFL6","v":0},0,0,0,0,0,0,0,0,0,{"$f":"UFV6","v":0},0,0,0,0,0,0,0,0,0,{"$f":"UGF6","v":0},0,0,0,0,0,0,0,0,0,{"$f":"UGP6","v":0},0,0,0,0,0,0,0,0,0,{"$f":"UGZ6","v":0},0,0,0,0,0,0,0,0,0,{"$f":"UHJ6","v":0},0,0,0,0,0,0,0,0,0,{"$f":"UHT6","v":0},0,0,0,0,0,0,0,0,0,{"$f":"UID6","v":0},0,0,0,0,0,0,0,0,0,{"$f":"UIN6","v":0},0,0,0,0,0,0,0,0,0,{"$f":"UIX6","v":0},0,0,0,0,0,0,0,0,0,{"$f":"UJH6","v":0},0,0,0,0,0,0,0,0,0,{"$f":"UJR6","v":0},0,0,0,0,0,0,0,0,0,{"$f":"UKB6","v":0},0,0,0,0,0,0,0,0,0,{"$f":"UKL6","v":0},0,0,0,0,0,0,0,0,0,{"$f":"UKV6","v":0},0,0,0,0,0,0,0,0,0,{"$f":"ULF6","v":0},0,0,0,0,0,0,0,0,0,{"$f":"ULP6","v":0},0,0,0,0,0,0,0,0,0,{"$f":"ULZ6","v":0},0,0,0,0,0,0,0,0,0,{"$f":"UMJ6","v":0},0,0,0,0,0,0,0,0,0,{"$f":"UMT6","v":0},0,0,0,0,0,0,0,0,0,{"$f":"UND6","v":0},0,0,0,0,0,0,0,0,0,{"$f":"UNN6","v":0},0,0,0,0,0,0,0,0,0,{"$f":"UNX6","v":0},0,0,0,0,0,0,0,0,0,{"$f":"UOH6","v":0},0,0,0,0,0,0,0,0,0,{"$f":"UOR6","v":0},0,0,0,0,0,0,0,0,0,{"$f":"UPB6","v":0},0,0,0,0,0,0,0,0,0,{"$f":"UPL6","v":0},0,0,0,0,0,0,0,0,0,{"$f":"UPV6","v":0},0,0,0,0,0,0,0,0,0,{"$f":"UQF6","v":0},0,0,0,0,0,0,0,0,0,{"$f":"UQP6","v":0},0,0,0,0,0,0,0,0,0,{"$f":"UQZ6","v":0},0,0,0,0,0,0,0,0,0,{"$f":"URJ6","v":0},0,0,0,0,0,0,0,0,0,{"$f":"URT6","v":0},0,0,0,0,0,0,0,0,0,{"$f":"USD6","v":0},0,0,0,0,0,0,0,0,0,{"$f":"USN6","v":0},0,0,0,0,0,0,0,0,0,{"$f":"USX6","v":0},0,0,0,0,0,0,0,0,0,{"$f":"UTH6","v":0},0,0,0,0,0,0,0,0,0,{"$f":"UTR6","v":0},0,0,0,0,0,0,0,0,0,{"$f":"UUB6","v":0},0,0,0,0,0,0,0,0,0,{"$f":"UUL6","v":0},0,0,0,0,0,0,0,0,0,{"$f":"UUV6","v":0},0,0,0,0,0,0,0,0,0,{"$f":"UVF6","v":0},0,0,0,0,0,0,0,0,0,{"$f":"UVP6","v":0},0,0,0,0,0,0,0,0,0,{"$f":"UVZ6","v":0},0,0,0,0,0,0,0,0,0,{"$f":"UWJ6","v":0},0,0,0,0,0,0,0,0,0,{"$f":"UWT6","v":0},0,0,0,0,0,0,0,0,0,{"$f":"UXD6","v":0},0,0,0,0,0,0,0,0,0,{"$f":"UXN6","v":0},0,0,0,0,0,0,0,0,0,{"$f":"UXX6","v":0},0,0,0,0,0,0,0,0,0,{"$f":"UYH6","v":0},0,0,0,0,0,0,0,0,0,{"$f":"UYR6","v":0},0,0,0,0,0,0,0,0,0,{"$f":"UZB6","v":0},0,0,0,0,0,0,0,0,0,{"$f":"UZL6","v":0},0,0,0,0,0,0,0,0,0,{"$f":"UZV6","v":0},0,0,0,0,0,0,0,0,0,{"$f":"VAF6","v":0},0,0,0,0,0,0,0,0,0,{"$f":"VAP6","v":0},0,0,0,0,0,0,0,0,0,{"$f":"VAZ6","v":0},0,0,0,0,0,0,0,0,0,{"$f":"VBJ6","v":0},0,0,0,0,0,0,0,0,0,{"$f":"VBT6","v":0},0,0,0,0,0,0,0,0,0,{"$f":"VCD6","v":0},0,0,0,0,0,0,0,0,0,{"$f":"VCN6","v":0},0,0,0,0,0,0,0,0,0,{"$f":"VCX6","v":0},0,0,0,0,0,0,0,0,0,{"$f":"VDH6","v":0},0,0,0,0,0,0,0,0,0,{"$f":"VDR6","v":0},0,0,0,0,0,0,0,0,0,{"$f":"VEB6","v":0},0,0,0,0,0,0,0,0,0,{"$f":"VEL6","v":0},0,0,0,0,0,0,0,0,0,{"$f":"VEV6","v":0},0,0,0,0,0,0,0,0,0,{"$f":"VFF6","v":0},0,0,0,0,0,0,0,0,0,{"$f":"VFP6","v":0},0,0,0,0,0,0,0,0,0,{"$f":"VFZ6","v":0},0,0,0,0,0,0,0,0,0,{"$f":"VGJ6","v":0},0,0,0,0,0,0,0,0,0,{"$f":"VGT6","v":0},0,0,0,0,0,0,0,0,0,{"$f":"VHD6","v":0},0,0,0,0,0,0,0,0,0,{"$f":"VHN6","v":0},0,0,0,0,0,0,0,0,0,{"$f":"VHX6","v":0},0,0,0,0,0,0,0,0,0,{"$f":"VIH6","v":0},0,0,0,0,0,0,0,0,0,{"$f":"VIR6","v":0},0,0,0,0,0,0,0,0,0,{"$f":"VJB6","v":0},0,0,0,0,0,0,0,0,0,{"$f":"VJL6","v":0},0,0,0,0,0,0,0,0,0,{"$f":"VJV6","v":0},0,0,0,0,0,0,0,0,0,{"$f":"VKF6","v":0},0,0,0,0,0,0,0,0,0,{"$f":"VKP6","v":0},0,0,0,0,0,0,0,0,0,{"$f":"VKZ6","v":0},0,0,0,0,0,0,0,0,0,{"$f":"VLJ6","v":0},0,0,0,0,0,0,0,0,0,{"$f":"VLT6","v":0},0,0,0,0,0,0,0,0,0,{"$f":"VMD6","v":0},0,0,0,0,0,0,0,0,0,{"$f":"VMN6","v":0},0,0,0,0,0,0,0,0,0,{"$f":"VMX6","v":0},0,0,0,0,0,0,0,0,0,{"$f":"VNH6","v":0},0,0,0,0,0,0,0,0,0,{"$f":"VNR6","v":0},0,0,0,0,0,0,0,0,0,{"$f":"VOB6","v":0},0,0,0,0,0,0,0,0,0,{"$f":"VOL6","v":0},0,0,0,0,0,0,0,0,0,{"$f":"VOV6","v":0},0,0,0,0,0,0,0,0,0,{"$f":"VPF6","v":0},0,0,0,0,0,0,0,0,0,{"$f":"VPP6","v":0},0,0,0,0,0,0,0,0,0,{"$f":"VPZ6","v":0},0,0,0,0,0,0,0,0,0,{"$f":"VQJ6","v":0},0,0,0,0,0,0,0,0,0,{"$f":"VQT6","v":0},0,0,0,0,0,0,0,0,0,{"$f":"VRD6","v":0},0,0,0,0,0,0,0,0,0,{"$f":"VRN6","v":0},0,0,0,0,0,0,0,0,0,{"$f":"VRX6","v":0},0,0,0,0,0,0,0,0,0,{"$f":"VSH6","v":0},0,0,0,0,0,0,0,0,0,{"$f":"VSR6","v":0},0,0,0,0,0,0,0,0,0,{"$f":"VTB6","v":0},0,0,0,0,0,0,0,0,0,{"$f":"VTL6","v":0},0,0,0,0,0,0,0,0,0,{"$f":"VTV6","v":0},0,0,0,0,0,0,0,0,0,{"$f":"VUF6","v":0},0,0,0,0,0,0,0,0,0,{"$f":"VUP6","v":0},0,0,0,0,0,0,0,0,0,{"$f":"VUZ6","v":0},0,0,0,0,0,0,0,0,0,{"$f":"VVJ6","v":0},0,0,0,0,0,0,0,0,0,{"$f":"VVT6","v":0},0,0,0,0,0,0,0,0,0,{"$f":"VWD6","v":0},0,0,0,0,0,0,0,0,0,{"$f":"VWN6","v":0},0,0,0,0,0,0,0,0,0,{"$f":"VWX6","v":0},0,0,0,0,0,0,0,0,0,{"$f":"VXH6","v":0},0,0,0,0,0,0,0,0,0,{"$f":"VXR6","v":0},0,0,0,0,0,0,0,0,0,{"$f":"VYB6","v":0},0,0,0,0,0,0,0,0,0,{"$f":"VYL6","v":0},0,0,0,0,0,0,0,0,0,{"$f":"VYV6","v":0},0,0,0,0,0,0,0,0,0,{"$f":"VZF6","v":0},0,0,0,0,0,0,0,0,0,{"$f":"VZP6","v":0},0,0,0,0,0,0,0,0,0,{"$f":"VZZ6","v":0},0,0,0,0,0,0,0,0,0,{"$f":"WAJ6","v":0},0,0,0,0,0,0,0,0,0,{"$f":"WAT6","v":0},0,0,0,0,0,0,0,0,0,{"$f":"WBD6","v":0},0,0,0,0,0,0,0,0,0,{"$f":"WBN6","v":0},0,0,0,0,0,0,0,0,0,{"$f":"WBX6","v":0},0,0,0,0,0,0,0,0,0,{"$f":"WCH6","v":0},0,0,0,0,0,0,0,0,0,{"$f":"WCR6","v":0},0,0,0,0,0,0,0,0,0,{"$f":"WDB6","v":0},0,0,0,0,0,0,0,0,0,{"$f":"WDL6","v":0},0,0,0,0,0,0,0,0,0,{"$f":"WDV6","v":0},0,0,0,0,0,0,0,0,0,{"$f":"WEF6","v":0},0,0,0,0,0,0,0,0,0,{"$f":"WEP6","v":0},0,0,0,0,0,0,0,0,0,{"$f":"WEZ6","v":0},0,0,0,0,0,0,0,0,0,{"$f":"WFJ6","v":0},0,0,0,0,0,0,0,0,0,{"$f":"WFT6","v":0},0,0,0,0,0,0,0,0,0,{"$f":"WGD6","v":0},0,0,0,0,0,0,0,0,0,{"$f":"WGN6","v":0},0,0,0,0,0,0,0,0,0,{"$f":"WGX6","v":0},0,0,0,0,0,0,0,0,0,{"$f":"WHH6","v":0},0,0,0,0,0,0,0,0,0,{"$f":"WHR6","v":0},0,0,0,0,0,0,0,0,0,{"$f":"WIB6","v":0},0,0,0,0,0,0,0,0,0,{"$f":"WIL6","v":0},0,0,0,0,0,0,0,0,0,{"$f":"WIV6","v":0},0,0,0,0,0,0,0,0,0,{"$f":"WJF6","v":0},0,0,0,0,0,0,0,0,0,{"$f":"WJP6","v":0},0,0,0,0,0,0,0,0,0,{"$f":"WJZ6","v":0},0,0,0,0,0,0,0,0,0,{"$f":"WKJ6","v":0},0,0,0,0,0,0,0,0,0,{"$f":"WKT6","v":0},0,0,0,0,0,0,0,0,0,{"$f":"WLD6","v":0},0,0,0,0,0,0,0,0,0,{"$f":"WLN6","v":0},0,0,0,0,0,0,0,0,0,{"$f":"WLX6","v":0},0,0,0,0,0,0,0,0,0,{"$f":"WMH6","v":0},0,0,0,0,0,0,0,0,0,{"$f":"WMR6","v":0},0,0,0,0,0,0,0,0,0,{"$f":"WNB6","v":0},0,0,0,0,0,0,0,0,0,{"$f":"WNL6","v":0},0,0,0,0,0,0,0,0,0,{"$f":"WNV6","v":0},0,0,0,0,0,0,0,0,0,{"$f":"WOF6","v":0},0,0,0,0,0,0,0,0,0,{"$f":"WOP6","v":0},0,0,0,0,0,0,0,0,0,{"$f":"WOZ6","v":0},0,0,0,0,0,0,0,0,0,{"$f":"WPJ6","v":0},0,0,0,0,0,0,0,0,0,{"$f":"WPT6","v":0},0,0,0,0,0,0,0,0,0,{"$f":"WQD6","v":0},0,0,0,0,0,0,0,0,0,{"$f":"WQN6","v":0},0,0,0,0,0,0,0,0,0,{"$f":"WQX6","v":0},0,0,0,0,0,0,0,0,0,{"$f":"WRH6","v":0},0,0,0,0,0,0,0,0,0,{"$f":"WRR6","v":0},0,0,0,0,0,0,0,0,0,{"$f":"WSB6","v":0},0,0,0,0,0,0,0,0,0,{"$f":"WSL6","v":0},0,0,0,0,0,0,0,0,0,{"$f":"WSV6","v":0},0,0,0,0,0,0,0,0,0,{"$f":"WTF6","v":0},0,0,0,0,0,0,0,0,0,{"$f":"WTP6","v":0},0,0,0,0,0,0,0,0,0,{"$f":"WTZ6","v":0},0,0,0,0,0,0,0,0,0,{"$f":"WUJ6","v":0},0,0,0,0,0,0,0,0,0,{"$f":"WUT6","v":0},0,0,0,0,0,0,0,0,0,{"$f":"WVD6","v":0},0,0,0,0,0,0,0,0,0,{"$f":"WVN6","v":0},0,0,0,0,0,0,0,0,0,{"$f":"WVX6","v":0},0,0,0,0,0,0,0,0,0,{"$f":"WWH6","v":0},0,0,0,0,0,0,0,0,0,{"$f":"WWR6","v":0},0,0,0,0,0,0,0,0,0,{"$f":"WXB6","v":0},0,0,0,0,0,0,0,0,0,{"$f":"WXL6","v":0},0,0,0,0,0,0,0,0,0,{"$f":"WXV6","v":0},0,0,0,0,0,0,0,0,0,{"$f":"WYF6","v":0},0,0,0,0,0,0,0,0,0,{"$f":"WYP6","v":0},0,0,0,0,0,0,0,0,0,{"$f":"WYZ6","v":0},0,0,0,0,0,0,0,0,0,{"$f":"WZJ6","v":0},0,0,0,0,0,0,0,0,0,{"$f":"WZT6","v":0},0,0,0,0,0,0,0,0,0,{"$f":"XAD6","v":0},0,0,0,0,0,0,0,0,0,{"$f":"XAN6","v":0},0,0,0,0,0,0,0,0,0,{"$f":"XAX6","v":0},0,0,0,0,0,0,0,0,0,{"$f":"XBH6","v":0},0,0,0,0,0,0,0,0,0,{"$f":"XBR6","v":0},0,0,0,0,0]
[null,null,null,null,{"$f":"E11","v":"小計"},null,null,null,null,null,null,null,null,null,null,null,null,null,{"$f":"SUBTOTAL(9,S58:V62)","v":10000000},null,null,null,0,null,null,null,{"$error":"#REF!"},null,null,{"$f":"SUBTOTAL(9,AD58:AG62)","v":0},null,null,null,1,null,null,{"$f":"SUBTOTAL(9,AK58:AN62)","v":8000000},null,null,null,{"$f":"AO11","v":1},null,null,{"$f":"SUBTOTAL(9,AR58:AU62)","v":5996000},null,null,null,1,null,null,{"$f":"SUBTOTAL(9,AY58:BB62)","v":3992000},null,null,null,1,null,null,{"$f":"SUBTOTAL(9,BF58:BI62)","v":1988000},null,null,null,1,null,null,{"$f":"SUBTOTAL(9,BM58:BP62)","v":0},null,null,null,{"$f":"BQ11","v":"0"},null,null,{"$f":"SUBTOTAL(9,BT58:BW62)","v":0},null,null,null,"0",null,null,{"$f":"SUBTOTAL(9,CA58:CD62)","v":0},null,null,null,"0",null,null,null,{"$f":"IF(S63>0,\"\",\"〇\")","v":""},{"$f":"S63","v":10000000},{"$f":"AD63","v":0},{"$f":"AK63","v":8000000},{"$f":"AR63","v":5996000},{"$f":"AY63","v":3992000},{"$f":"BF63","v":1988000},{"$f":"BM63","v":0},{"$f":"BT63","v":0},{"$f":"CA63","v":0},null,null,null,null,null,null,null,null,null,null,null,null,null,null,null,null,null,null,null,null,null,null,null,null,null,null,null,null,null,null,null,null,null,null,null,null,null,null,null,null,null,null,null,null,null,null,null,null,null,null,null,null,null,null,null,null,null,null,null,null,null,null,null,null,null,null,null,null,null,null,null,null,null,null,null,null,null,null,null,null,null,null,null,null,null,null,null,null,null,null,null,null,null,null,null,null,null,null,null,null,null,null,null,null,null,null,null,null,null,null,null,null,null,null,null,null,null,null,null,null,null,null,null,null,null,null,null,null,null,null,null,null,null,null,null,null,null,null,null,null,null,null,null,null,null,null,null,null,null,null,null,null,null,null,null,null,null,null,null,null,null,null,null,null,null,null,null,null,null,null,null,null,null,null,null,null,null,null,null,null,null,null,null,null,null,null,null,null,null,null,null,null,null,null,null,null,null,null,null,null,null,null,null,null,null,null,null,null,null,null,null,null,null,null,null,null,null,null,null,null,null,null,null,null,null,null,null,null,null,null,null,null,null,null,null,null,null,null,null,null,null,null,null,null,null,null,null,null,null,null,null,null,null,null,null,null,null,null,null,null,null,null,null,null,null,null,null,null,null,null,null,null,null,null,null,null,null,null,null,null,null,null,null,null,null,null,null,null,null,null,null,null,null,null,null,null,null,null,null,null,null,null,null,null,null,null,null,null,null,null,null,null,null,null,null,null,null,null,null,null,null,null,null,null,null,null,null,null,null,null,null,null,null,null,null,null,null,null,null,null,null,null,null,null,null,null,null,null,null,null,null,null,null,null,null,null,null,null,null,null,null,null,null,null,null,null,null,null,null,null,null,null,null,null,null,null,null,null,null,null,null,null,null,null,null,null,null,null,null,null,null,null,null,null,null,null,null,null,null,null,null,null,null,null,null,null,null,null,null,null,null,null,null,null,null,null,null,null,null,null,null,null,null,null,null,null,null,null,null,null,null,null,null,null,null,null,null,null,null,null,null,null,null,null,null,null,null,null,null,null,null,null,null,null,null,null,null,null,null,null,null,null,null,null,null,null,null,null,null,null,null,null,null,null,null,null,null,null,null,null,null,null,null,null,null,null,null,null,null,null,null,null,null,null,null,null,null,null,null,null,null,null,null,null,null,null,null,null,null,null,null,null,null,null,null,null,null,null,null,null,null,null,null,null,null,null,null,null,null,null,null,null,null,null,null,null,null,null,null,null,null,null,null,null,null,null,null,null,null,null,null,null,null,null,null,null,null,null,null,null,null,null,null,null,null,null,null,null,null,null,null,null,null,null,null,null,null,null,null,null,null,null,null,null,null,null,null,null,null,null,null,null,null,null,null,null,null,null,null,null,null,null,null,null,null,null,null,null,null,null,null,null,null,null,null,null,null,null,null,null,null,null,null,null,null,null,null,null,null,null,null,null,0,0,0,0,0,0,0,0,0,0,0,0,0,0,0,0,0,0,0,0,0,0,0,0,0,0,0,0,0,0,0,0,0,0,0,0,0,0,0,0,0,0,0,0,0,0,0,0,0,0,0,0,0,0,0,0,0,0,0,0,0,0,0,0,0,0,0,0,0,0,0,0,0,0,0,0,0,0,0,0,0,0,0,0,0,0,0,0,0,0,0,0,0,0,0,0,0,0,0,0,0,0,0,0,0,0,0,0,0,0,0,0,0,0,0,0,0,0,0,0,0,0,0,0,0,0,0,0,0,0,0,0,0,0,0,0,0,0,0,0,0,0,0,0,0,0,0,0,0,0,0,0,0,0,0,0,0,0,0,0,0,0,0,0,0,0,0,0,0,0,0,0,0,0,0,0,0,0,0,0,0,0,0,0,0,0,0,0,0,0,0,0,0,0,0,0,0,0,0,0,0,0,0,0,0,0,0,0,0,0,0,0,0,0,0,0,0,0,0,0,0,0,0,0,0,0,0,0,0,0,0,0,0,0,0,0,0,0,0,0,0,0,0,0,0,0,0,0,0,0,0,0,0,0,0,0,0,0,0,0,0,0,0,0,0,0,0,0,0,0,0,0,0,0,0,0,0,0,0,0,0,0,0,0,0,0,0,0,0,0,0,0,0,0,0,0,0,0,0,0,0,0,0,0,0,0,0,0,0,0,0,0,0,0,0,0,0,0,0,0,0,0,0,0,0,0,0,0,0,0,0,0,0,0,0,0,0,0,0,0,0,0,0,0,0,0,0,0,0,0,0,0,0,0,0,0,0,0,0,0,0,0,0,0,0,0,0,0,0,0,0,0,0,0,0,0,0,0,0,0,0,0,0,0,0,0,0,0,0,0,0,0,0,0,0,0,0,0,0,0,0,0,0,0,0,0,0,0,0,0,0,0,0,0,0,0,0,0,0,0,0,0,0,0,0,0,0,0,0,0,0,0,0,0,0,0,0,0,0,0,0,0,0,0,0,0,0,0,0,0,0,0,0,0,0,0,0,0,0,0,0,0,0,0,0,0,0,0,0,0,0,0,0,0,0,0,0,0,0,0,0,0,0,0,0,0,0,0,0,0,0,0,0,0,0,0,0,0,0,0,0,0,0,0,0,0,0,0,0,0,0,0,0,0,0,0,0,0,0,0,0,0,0,0,0,0,0,0,0,0,0,0,0,0,0,0,0,0,0,0,0,0,0,0,0,0,0,0,0,0,0,0,0,0,0,0,0,0,0,0,0,0,0,0,0,0,0,0,0,0,0,0,0,0,0,0,0,0,0,0,0,0,0,0,0,0,0,0,0,0,0,0,0,0,0,0,0,0,0,0,0,0,0,0,0,0,0,0,0,0,0,0,0,0,0,0,0,0,0,0,0,0,0,0,0,0,0,0,0,0,0,0,0,0,0,0,0,0,0,0,0,0,0,0,0,0,0,0,0,0,0,0,0,0,0,0,0,0,0,0,0,0,0,0,0,0,0,0,0,0,0,0,0,0,0,0,0,0,0,0,0,0,0,0,0,0,0,0,0,0,0,0,0,0,0,0,0,0,0,0,0,0,0,0,0,0,0,0,0,0,0,0,0,0,0,0,0,0,0,0,0,0,0,0,0,0,0,0,0,0,0,0,0,0,0,0,0,0,0,0,0,0,0,0,0,0,0,0,0,0,0,0,0,0,0,0,0,0,0,0,0,0,0,0,0,0,0,0,0,0,0,0,0,0,0,0,0,0,0,0,0,0,0,0,0,0,0,0,0,0,0,0,0,0,0,0,0,0,0,0,0,0,0,0,0,0,0,0,0,0,0,0,0,0,0,0,0,0,0,0,0,0,0,0,0,0,0,0,0,0,0,0,0,0,0,0,0,0,0,0,0,0,0,0,0,0,0,0,0,0,0,0,0,0,0,0,0,0,0,0,0,0,0,0,0,0,0,0,0,0,0,0,0,0,0,0,0,0,0,0,0,0,0,0,0,0,0,0,0,0,0,0,0,0,0,0,0,0,0,0,0,0,0,0,0,0,0,0,0,0,0,0,0,0,0,0,0,0,0,0,0,0,0,0,0,0,0,0,0,0,0,0,0,0,0,0,0,0,0,0,0,0,0,0,0,0,0,0,0,0,0,0,0,0,0,0,0,0,0,0,0,0,0,0,0,0,0,0,0,0,0,0,0,0,0,0,0,0,0,0,0,0,0,0,0,0,0,0,0,0,0,0,0,0,0,0,0,0,0,0,0,0,0,0,0,0,0,0,0,0,0,0,0,0,0,0,0,0,0,0,0,0,0,0,0,0,0,0,0,0,0,0,0,0,0,0,0,0,0,0,0,0,0,0,0,0,0,0,0,0,0,0,0,0,0,0,0,0,0,0,0,0,0,0,0,0,0,0,0,0,0,0,0,0,0,0,0,0,0,0,0,0,0,0,0,0,0,0,0,0,0,0,0,0,0,0,0,0,0,0,0,0,0,0,0,0,0,0,0,0,0,0,0,0,0,0,0,0,0,0,0,0,0,0,0,0,0,0,0,0,0,0,0,0,0,0,0,0,0,0,0,0,0,0,0,0,0,0,0,0,0,0,0,0,0,0,0,0,0,0,0,0,0,0,0,0,0,0,0,0,0,0,0,0,0,0,0,0,0,0,0,0,0,0,0,0,0,0,0,0,0,0,0,0,0,0,0,0,0,0,0,0,0,0,0,0,0,0,0,0,0,0,0,0,0,0,0,0,0,0,0,0,0,0,0,0,0,0,0,0,0,0,0,0,0,0,0,0,0,0,0,0,0,0,0,0,0,0,0,0,0,0,0,0,0,0,0,0,0,0,0,0,0,0,0,0,0,0,0,0,0,0,0,0,0,0,0,0,0,0,0,0,0,0,0,0,0,0,0,0,0,0,0,0,0,0,0,0,0,0,0,0,0,0,0,0,0,0,0,0,0,0,0,0,0,0,0,0,0,0,0,0,0,0,0,0,0,0,0,0,0,0,0,0,0,0,0,0,0,0,0,0,0,0,0,0,0,0,0,0,0,0,0,0,0,0,0,0,0,0,0,0,0,0,0,0,0,0,0,0,0,0,0,0,0,0,0,0,0,0,0,0,0,0,0,0,0,0,0,0,0,0,0,0,0,0,0,0,0,0,0,0,0,0,0,0,0,0,0,0,0,0,0,0,0,0,0,0,0,0,0,0,0,0,0,0,0,0,0,0,0,0,0,0,0,0,0,0,0,0,0,0,0,0,0,0,0,0,0,0,0,0,0,0,0,0,0,0,0,0,0,0,0,0,0,0,0,0,0,0,0,0,0,0,0,0,0,0,0,0,0,0,0,0,0,0,0,0,0,0,0,0,0,0,0,0,0,0,0,0,0,0,0,0,0,0,0,0,0,0,0,0,0,0,0,0,0,0,0,0,0,0,0,0,0,0,0,0,0,0,0,0,0,0,0,0,0,0,0,0,0,0,0,0,0,0,0,0,0,0,0,0,0,0,0,0,0,0,0,0,0,0,0,0,0,0,0,0,0,0,0,0,0,0,0,0,0,0,0,0,0,0,0,0,0,0,0,0,0,0,0,0,0,0,0,0,0,0,0,0,0,0,0,0,0,0,0,0,0,0,0,0,0,0,0,0,0,0,0,0,0,0,0,0,0,0,0,0,0,0,0,0,0,0,0,0,0,0,0,0,0,0,0,0,0,0,0,0,0,0,0,0,0,0,0,0,0,0,0,0,0,0,0,0,0,0,0,0,0,0,0,0,0,0,0,0,0,0,0,0,0,0,0,0,0,0,0,0,0,0,0,0,0,0,0,0,0,0,0,0,0,0,0,0,0,0,0,0,0,0,0,0,0,0,0,0,0,0,0,0,0,0,0,0,0,0,0,0,0,0,0,0,0,0,0,0,0,0,0,0,0,0,0,0,0,0,0,0,0,0,0,0,0,0,0,0,0,0,0,0,0,0,0,0,0,0,0,0,0,0,0,0,0,0,0,0,0,0,0,0,0,0,0,0,0,0,0,0,0,0,0,0,0,0,0,0,0,0,0,0,0,0,0,0,0,0,0,0,0,0,0,0,0,0,0,0,0,0,0,0,0,0,0,0,0,0,0,0,0,0,0,0,0,0,0,0,0,0,0,0,0,0,0,0,0,0,0,0,0,0,0,0,0,0,0,0,0,0,0,0,0,0,0,0,0,0,0,0,0,0,0,0,0,0,0,0,0,0,0,0,0,0,0,0,0,0,0,0,0,0,0,0,0,0,0,0,0,0,0,0,0,0,0,0,0,0,0,0,0,0,0,0,0,0,0,0,0,0,0,0,0,0,0,0,0,0,0,0,0,0,0,0,0,0,0,0,0,0,0,0,0,0,0,0,0,0,0,0,0,0,0,0,0,0,0,0,0,0,0,0,0,0,0,0,0,0,0,0,0,0,0,0,0,0,0,0,0,0,0,0,0,0,0,0,0,0,0,0,0,0,0,0,0,0,0,0,0,0,0,0,0,0,0,0,0,0,0,0,0,0,0,0,0,0,0,0,0,0,0,0,0,0,0,0,0,0,0,0,0,0,0,0,0,0,0,0,0,0,0,0,0,0,0,0,0,0,0,0,0,0,0,0,0,0,0,0,0,0,0,0,0,0,0,0,0,0,0,0,0,0,0,0,0,0,0,0,0,0,0,0,0,0,0,0,0,0,0,0,0,0,0,0,0,0,0,0,0,0,0,0,0,0,0,0,0,0,0,0,0,0,0,0,0,0,0,0,0,0,0,0,0,0,0,0,0,0,0,0,0,0,0,0,0,0,0,0,0,0,0,0,0,0,0,0,0,0,0,0,0,0,0,0,0,0,0,0,0,0,0,0,0,0,0,0,0,0,0,0,0,0,0,0,0,0,0,0,0,0,0,0,0,0,0,0,0,0,0,0,0,0,0,0,0,0,0,0,0,0,0,0,0,0,0,0,0,0,0,0,0,0,0,0,0,0,0,0,0,0,0,0,0,0,0,0,0,0,0,0,0,0,0,0,0,0,0,0,0,0,0,0,0,0,0,0,0,0,0,0,0,0,0,0,0,0,0,0,0,0,0,0,0,0,0,0,0,0,0,0,0,0,0,0,0,0,0,0,0,0,0,0,0,0,0,0,0,0,0,0,0,0,0,0,0,0,0,0,0,0,0,0,0,0,0,0,0,0,0,0,0,0,0,0,0,0,0,0,0,0,0,0,0,0,0,0,0,0,0,0,0,0,0,0,0,0,0,0,0,0,0,0,0,0,0,0,0,0,0,0,0,0,0,0,0,0,0,0,0,0,0,0,0,0,0,0,0,0,0,0,0,0,0,0,0,0,0,0,0,0,0,0,0,0,0,0,0,0,0,0,0,0,0,0,0,0,0,0,0,0,0,0,0,0,0,0,0,0,0,0,0,0,0,0,0,0,0,0,0,0,0,0,0,0,0,0,0,0,0,0,0,0,0,0,0,0,0,0,0,0,0,0,0,0,0,0,0,0,0,0,0,0,0,0,0,0,0,0,0,0,0,0,0,0,0,0,0,0,0,0,0,0,0,0,0,0,0,0,0,0,0,0,0,0,0,0,0,0,0,0,0,0,0,0,0,0,0,0,0,0,0,0,0,0,0,0,0,0,0,0,0,0,0,0,0,0,0,0,0,0,0,0,0,0,0,0,0,0,0,0,0,0,0,0,0,0,0,0,0,0,0,0,0,0,0,0,0,0,0,0,0,0,0,0,0,0,0,0,0,0,0,0,0,0,0,0,0,0,0,0,0,0,0,0,0,0,0,0,0,0,0,0,0,0,0,0,0,0,0,0,0,0,0,0,0,0,0,0,0,0,0,0,0,0,0,0,0,0,0,0,0,0,0,0,0,0,0,0,0,0,0,0,0,0,0,0,0,0,0,0,0,0,0,0,0,0,0,0,0,0,0,0,0,0,0,0,0,0,0,0,0,0,0,0,0,0,0,0,0,0,0,0,0,0,0,0,0,0,0,0,0,0,0,0,0,0,0,0,0,0,0,0,0,0,0,0,0,0,0,0,0,0,0,0,0,0,0,0,0,0,0,0,0,0,0,0,0,0,0,0,0,0,0,0,0,0,0,0,0,0,0,0,0,0,0,0,0,0,0,0,0,0,0,0,0,0,0,0,0,0,0,0,0,0,0,0,0,0,0,0,0,0,0,0,0,0,0,0,0,0,0,0,0,0,0,0,0,0,0,0,0,0,0,0,0,0,0,0,0,0,0,0,0,0,0,0,0,0,0,0,0,0,0,0,0,0,0,0,0,0,0,0,0,0,0,0,0,0,0,0,0,0,0,0,0,0,0,0,0,0,0,0,0,0,0,0,0,0,0,0,0,0,0,0,0,0,0,0,0,0,0,0,0,0,0,0,0,0,0,0,0,0,0,0,0,0,0,0,0,0,0,0,0,0,0,0,0,0,0,0,0,0,0,0,0,0,0,0,0,0,0,0,0,0,0,0,0,0,0,0,0,0,0,0,0,0,0,0,0,0,0,0,0,0,0,0,0,0,0,0,0,0,0,0,0,0,0,0,0,0,0,0,0,0,0,0,0,0,0,0,0,0,0,0,0,0,0,0,0,0,0,0,0,0,0,0,0,0,0,0,0,0,0,0,0,0,0,0,0,0,0,0,0,0,0,0,0,0,0,0,0,0,0,0,0,0,0,0,0,0,0,0,0,0,0,0,0,0,0,0,0,0,0,0,0,0,0,0,0,0,0,0,0,0,0,0,0,0,0,0,0,0,0,0,0,0,0,0,0,0,0,0,0,0,0,0,0,0,0,0,0,0,0,0,0,0,0,0,0,0,0,0,0,0,0,0,0,0,0,0,0,0,0,0,0,0,0,0,0,0,0,0,0,0,0,0,0,0,0,0,0,0,0,0,0,0,0,0,0,0,0,0,0,0,0,0,0,0,0,0,0,0,0,0,0,0,0,0,0,0,0,0,0,0,0,0,0,0,0,0,0,0,0,0,0,0,0,0,0,0,0,0,0,0,0,0,0,0,0,0,0,0,0,0,0,0,0,0,0,0,0,0,0,0,0,0,0,0,0,0,0,0,0,0,0,0,0,0,0,0,0,0,0,0,0,0,0,0,0,0,0,0,0,0,0,0,0,0,0,0,0,0,0,0,0,0,0,0,0,0,0,0,0,0,0,0,0,0,0,0,0,0,0,0,0,0,0,0,0,0,0,0,0,0,0,0,0,0,0,0,0,0,0,0,0,0,0,0,0,0,0,0,0,0,0,0,0,0,0,0,0,0,0,0,0,0,0,0,0,0,0,0,0,0,0,0,0,0,0,0,0,0,0,0,0,0,0,0,0,0,0,0,0,0,0,0,0,0,0,0,0,0,0,0,0,0,0,0,0,0,0,0,0,0,0,0,0,0,0,0,0,0,0,0,0,0,0,0,0,0,0,0,0,0,0,0,0,0,0,0,0,0,0,0,0,0,0,0,0,0,0,0,0,0,0,0,0,0,0,0,0,0,0,0,0,0,0,0,0,0,0,0,0,0,0,0,0,0,0,0,0,0,0,0,0,0,0,0,0,0,0,0,0,0,0,0,0,0,0,0,0,0,0,0,0,0,0,0,0,0,0,0,0,0,0,0,0,0,0,0,0,0,0,0,0,0,0,0,0,0,0,0,0,0,0,0,0,0,0,0,0,0,0,0,0,0,0,0,0,0,0,0,0,0,0,0,0,0,0,0,0,0,0,0,0,0,0,0,0,0,0,0,0,0,0,0,0,0,0,0,0,0,0,0,0,0,0,0,0,0,0,0,0,0,0,0,0,0,0,0,0,0,0,0,0,0,0,0,0,0,0,0,0,0,0,0,0,0,0,0,0,0,0,0,0,0,0,0,0,0,0,0,0,0,0,0,0,0,0,0,0,0,0,0,0,0,0,0,0,0,0,0,0,0,0,0,0,0,0,0,0,0,0,0,0,0,0,0,0,0,0,0,0,0,0,0,0,0,0,0,0,0,0,0,0,0,0,0,0,0,0,0,0,0,0,0,0,0,0,0,0,0,0,0,0,0,0,0,0,0,0,0,0,0,0,0,0,0,0,0,0,0,0,0,0,0,0,0,0,0,0,0,0,0,0,0,0,0,0,0,0,0,0,0,0,0,0,0,0,0,0,0,0,0,0,0,0,0,0,0,0,0,0,0,0,0,0,0,0,0,0,0,0,0,0,0,0,0,0,0,0,0,0,0,0,0,0,0,0,0,0,0,0,0,0,0,0,0,0,0,0,0,0,0,0,0,0,0,0,0,0,0,0,0,0,0,0,0,0,0,0,0,0,0,0,0,0,0,0,0,0,0,0,0,0,0,0,0,0,0,0,0,0,0,0,0,0,0,0,0,0,0,0,0,0,0,0,0,0,0,0,0,0,0,0,0,0,0,0,0,0,0,0,0,0,0,0,0,0,0,0,0,0,0,0,0,0,0,0,0,0,0,0,0,0,0,0,0,0,0,0,0,0,0,0,0,0,0,0,0,0,0,0,0,0,0,0,0,0,0,0,0,0,0,0,0,0,0,0,0,0,0,0,0,0,0,0,0,0,0,0,0,0,0,0,0,0,0,0,0,0,0,0,0,0,0,0,0,0,0,0,0,0,0,0,0,0,0,0,0,0,0,0,0,0,0,0,0,0,0,0,0,0,0,0,0,0,0,0,0,0,0,0,0,0,0,0,0,0,0,0,0,0,0,0,0,0,0,0,0,0,0,0,0,0,0,0,0,0,0,0,0,0,0,0,0,0,0,0,0,0,0,0,0,0,0,0,0,0,0,0,0,0,0,0,0,0,0,0,0,0,0,0,0,0,0,0,0,0,0,0,0,0,0,0,0,0,0,0,0,0,0,0,0,0,0,0,0,0,0,0,0,0,0,0,0,0,0,0,0,0,0,0,0,0,0,0,0,0,0,0,0,0,0,0,0,0,0,0,0,0,0,0,0,0,0,0,0,0,0,0,0,0,0,0,0,0,0,0,0,0,0,0,0,0,0,0,0,0,0,0,0,0,0,0,0,0,0,0,0,0,0,0,0,0,0,0,0,0,0,0,0,0,0,0,0,0,0,0,0,0,0,0,0,0,0,0,0,0,0,0,0,0,0,0,0,0,0,0,0,0,0,0,0,0,0,0,0,0,0,0,0,0,0,0,0,0,0,0,0,0,0,0,0,0,0,0,0,0,0,0,0,0,0,0,0,0,0,0,0,0,0,0,0,0,0,0,0,0,0,0,0,0,0,0,0,0,0,0,0,0,0,0,0,0,0,0,0,0,0,0,0,0,0,0,0,0,0,0,0,0,0,0,0,0,0,0,0,0,0,0,0,0,0,0,0,0,0,0,0,0,0,0,0,0,0,0,0,0,0,0,0,0,0,0,0,0,0,0,0,0,0,0,0,0,0,0,0,0,0,0,0,0,0,0,0,0,0,0,0,0,0,0,0,0,0,0,0,0,0,0,0,0,0,0,0,0,0,0,0,0,0,0,0,0,0,0,0,0,0,0,0,0,0,0,0,0,0,0,0,0,0,0,0,0,0,0,0,0,0,0,0,0,0,0,0,0,0,0,0,0,0,0,0,0,0,0,0,0,0,0,0,0,0,0,0,0,0,0,0,0,0,0,0,0,0,0,0,0,0,0,0,0,0,0,0,0,0,0,0,0,0,0,0,0,0,0,0,0,0,0,0,0,0,0,0,0,0,0,0,0,0,0,0,0,0,0,0,0,0,0,0,0,0,0,0,0,0,0,0,0,0,0,0,0,0,0,0,0,0,0,0,0,0,0,0,0,0,0,0,0,0,0,0,0,0,0,0,0,0,0,0,0,0,0,0,0,0,0,0,0,0,0,0,0,0,0,0,0,0,0,0,0,0,0,0,0,0,0,0,0,0,0,0,0,0,0,0,0,0,0,0,0,0,0,0,0,0,0,0,0,0,0,0,0,0,0,0,0,0,0,0,0,0,0,0,0,0,0,0,0,0,0,0,0,0,0,0,0,0,0,0,0,0,0,0,0,0,0,0,0,0,0,0,0,0,0,0,0,0,0,0,0,0,0,0,0,0,0,0,0,0,0,0,0,0,0,0,0,0,0,0,0,0,0,0,0,0,0,0,0,0,0,0,0,0,0,0,0,0,0,0,0,0,0,0,0,0,0,0,0,0,0,0,0,0,0,0,0,0,0,0,0,0,0,0,0,0,0,0,0,0,0,0,0,0,0,0,0,0,0,0,0,0,0,0,0,0,0,0,0,0,0,0,0,0,0,0,0,0,0,0,0,0,0,0,0,0,0,0,0,0,0,0,0,0,0,0,0,0,0,0,0,0,0,0,0,0,0,0,0,0,0,0,0,0,0,0,0,0,0,0,0,0,0,0,0,0,0,0,0,0,0,0,0,0,0,0,0,0,0,0,0,0,0,0,0,0,0,0,0,0,0,0,0,0,0,0,0,0,0,0,0,0,0,0,0,0,0,0,0,0,0,0,0,0,0,0,0,0,0,0,0,0,0,0,0,0,0,0,0,0,0,0,0,0,0,0,0,0,0,0,0,0,0,0,0,0,0,0,0,0,0,0,0,0,0,0,0,0,0,0,0,0,0,0,0,0,0,0,0,0,0,0,0,0,0,0,0,0,0,0,0,0,0,0,0,0,0,0,0,0,0,0,0,0,0,0,0,0,0,0,0,0,0,0,0,0,0,0,0,0,0,0,0,0,0,0,0,0,0,0,0,0,0,0,0,0,0,0,0,0,0,0,0,0,0,0,0,0,0,0,0,0,0,0,0,0,0,0,0,0,0,0,0,0,0,0,0,0,0,0,0,0,0,0,0,0,0,0,0,0,0,0,0,0,0,0,0,0,0,0,0,0,0,0,0,0,0,0,0,0,0,0,0,0,0,0,0,0,0,0,0,0,0,0,0,0,0,0,0,0,0,0,0,0,0,0,0,0,0,0,0,0,0,0,0,0,0,0,0,0,0,0,0,0,0,0,0,0,0,0,0,0,0,0,0,0,0,0,0,0,0,0,0,0,0,0,0,0,0,0,0,0,0,0,0,0,0,0,0,0,0,0,0,0,0,0,0,0,0,0,0,0,0,0,0,0,0,0,0,0,0,0,0,0,0,0,0,0,0,0,0,0,0,0,0,0,0,0,0,0,0,0,0,0,0,0,0,0,0,0,0,0,0,0,0,0,0,0,0,0,0,0,0,0,0,0,0,0,0,0,0,0,0,0,0,0,0,0,0,0,0,0,0,0,0,0,0,0,0,0,0,0,0,0,0,0,0,0,0,0,0,0,0,0,0,0,0,0,0,0,0,0,0,0,0,0,0,0,0,0,0,0,0,0,0,0,0,0,0,0,0,0,0,0,0,0,0,0,0,0,0,0,0,0,0,0,0,0,0,0,0,0,0,0,0,0,0,0,0,0,0,0,0,0,0,0,0,0,0,0,0,0,0,0,0,0,0,0,0,0,0,0,0,0,0,0,0,0,0,0,0,0,0,0,0,0,0,0,0,0,0,0,0,0,0,0,0,0,0,0,0,0,0,0,0,0,0,0,0,0,0,0,0,0,0,0,0,0,0,0,0,0,0,0,0,0,0,0,0,0,0,0,0,0,0,0,0,0,0,0,0,0,0,0,0,0,0,0,0,0,0,0,0,0,0,0,0,0,0,0,0,0,0,0,0,0,0,0,0,0,0,0,0,0,0,0,0,0,0,0,0,0,0,0,0,0,0,0,0,0,0,0,0,0,0,0,0,0,0,0,0,0,0,0,0,0,0,0,0,0,0,0,0,0,0,0,0,0,0,0,0,0,0,0,0,0,0,0,0,0,0,0,0,0,0,0,0,0,0,0,0,0,0,0,0,0,0,0,0,0,0,0,0,0,0,0,0,0,0,0,0,0,0,0,0,0,0,0,0,0,0,0,0,0,0,0,0,0,0,0,0,0,0,0,0,0,0,0,0,0,0,0,0,0,0,0,0,0,0,0,0,0,0,0,0,0,0,0,0,0,0,0,0,0,0,0,0,0,0,0,0,0,0,0,0,0,0,0,0,0,0,0,0,0,0,0,0,0,0,0,0,0,0,0,0,0,0,0,0,0,0,0,0,0,0,0,0,0,0,0,0,0,0,0,0,0,0,0,0,0,0,0,0,0,0,0,0,0,0,0,0,0,0,0,0,0,0,0,0,0,0,0,0,0,0,0,0,0,0,0,0,0,0,0,0,0,0,0,0,0,0,0,0,0,0,0,0,0,0,0,0,0,0,0,0,0,0,0,0,0,0,0,0,0,0,0,0,0,0,0,0,0,0,0,0,0,0,0,0,0,0,0,0,0,0,0,0,0,0,0,0,0,0,0,0,0,0,0,0,0,0,0,0,0,0,0,0,0,0,0,0,0,0,0,0,0,0,0,0,0,0,0,0,0,0,0,0,0,0,0,0,0,0,0,0,0,0,0,0,0,0,0,0,0,0,0,0,0,0,0,0,0,0,0,0,0,0,0,0,0,0,0,0,0,0,0,0,0,0,0,0,0,0,0,0,0,0,0,0,0,0,0,0,0,0,0,0,0,0,0,0,0,0,0,0,0,0,0,0,0,0,0,0,0,0,0,0,0,0,0,0,0,0,0,0,0,0,0,0,0,0,0,0,0,0,0,0,0,0,0,0,0,0,0,0,0,0,0,0,0,0,0,0,0,0,0,0,0,0,0,0,0,0,0,0,0,0,0,0,0,0,0,0,0,0,0,0,0,0,0,0,0,0,0,0,0,0,0,0,0,0,0,0,0,0,0,0,0,0,0,0,0,0,0,0,0,0,0,0,0,0,0,0,0,0,0,0,0,0,0,0,0,0,0,0,0,0,0,0,0,0,0,0,0,0,0,0,0,0,0,0,0,0,0,0,0,0,0,0,0,0,0,0,0,0,0,0,0,0,0,0,0,0,0,0,0,0,0,0,0,0,0,0,0,0,0,0,0,0,0,0,0,0,0,0,0,0,0,0,0,0,0,0,0,0,0,0,0,0,0,0,0,0,0,0,0,0,0,0,0,0,0,0,0,0,0,0,0,0,0,0,0,0,0,0,0,0,0,0,0,0,0,0,0,0,0,0,0,0,0,0,0,0,0,0,0,0,0,0,0,0,0,0,0,0,0,0,0,0,0,0,0,0,0,0,0,0,0,0,0,0,0,0,0,0,0,0,0,0,0,0,0,0,0,0,0,0,0,0,0,0,0,0,0,0,0,0,0,0,0,0,0,0,0,0,0,0,0,0,0,0,0,0,0,0,0,0,0,0,0,0,0,0,0,0,0,0,0,0,0,0,0,0,0,0,0,0,0,0,0,0,0,0,0,0,0,0,0,0,0,0,0,0,0,0,0,0,0,0,0,0,0,0,0,0,0,0,0,0,0,0,0,0,0,0,0,0,0,0,0,0,0,0,0,0,0,0,0,0,0,0,0,0,0,0,0,0,0,0,0,0,0,0,0,0,0,0,0,0,0,0,0,0,0,0,0,0,0,0,0,0,0,0,0,0,0,0,0,0,0,0,0,0,0,0,0,0,0,0,0,0,0,0,0,0,0,0,0,0,0,0,0,0,0,0,0,0,0,0,0,0,0,0,0,0,0,0,0,0,0,0,0,0,0,0,0,0,0,0,0,0,0,0,0,0,0,0,0,0,0,0,0,0,0,0,0,0,0,0,0,0,0,0,0,0,0,0,0,0,0,0,0,0,0,0,0,0,0,0,0,0,0,0,0,0,0,0,0,0,0,0,0,0,0,0,0,0,0,0,0,0,0,0,0,0,0,0,0,0,0,0,0,0,0,0,0,0,0,0,0,0,0,0,0,0,0,0,0,0,0,0,0,0,0,0,0,0,0,0,0,0,0,0,0,0,0,0,0,0,0,0,0,0,0,0,0,0,0,0,0,0,0,0,0,0,0,0,0,0,0,0,0,0,0,0,0,0,0,0,0,0,0,0,0,0,0,0,0,0,0,0,0,0,0,0,0,0,0,0,0,0,0,0,0,0,0,0,0,0,0,0,0,0,0,0,0,0,0,0,0,0,0,0,0,0,0,0,0,0,0,0,0,0,0,0,0,0,0,0,0,0,0,0,0,0,0,0,0,0,0,0,0,0,0,0,0,0,0,0,0,0,0,0,0,0,0,0,0,0,0,0,0,0,0,0,0,0,0,0,0,0,0,0,0,0,0,0,0,0,0,0,0,0,0,0,0,0,0,0,0,0,0,0,0,0,0,0,0,0,0,0,0,0,0,0,0,0,0,0,0,0,0,0,0,0,0,0,0,0,0,0,0,0,0,0,0,0,0,0,0,0,0,0,0,0,0,0,0,0,0,0,0,0,0,0,0,0,0,0,0,0,0,0,0,0,0,0,0,0,0,0,0,0,0,0,0,0,0,0,0,0,0,0,0,0,0,0,0,0,0,0,0,0,0,0,0,0,0,0,0,0,0,0,0,0,0,0,0,0,0,0,0,0,0,0,0,0,0,0,0,0,0,0,0,0,0,0,0,0,0,0,0,0,0,0,0,0,0,0,0,0,0,0,0,0,0,0,0,0,0,0,0,0,0,0,0,0,0,0,0,0,0,0,0,0,0,0,0,0,0,0,0,0,0,0,0,0,0,0,0,0,0,0,0,0,0,0,0,0,0,0,0,0,0,0,0,0,0,0,0,0,0,0,0,0,0,0,0,0,0,0,0,0,0,0,0,0,0,0,0,0,0,0,0,0,0,0,0,0,0,0,0,0,0,0,0,0,0,0,0,0,0,0,0,0,0,0,0,0,0,0,0,0,0,0,0,0,0,0,0,0,0,0,0,0,0,0,0,0,0,0,0,0,0,0,0,0,0,0,0,0,0,0,0,0,0,0,0,0,0,0,0,0,0,0,0,0,0,0,0,0,0,0,0,0,0,0,0,0,0,0,0,0,0,0,0,0,0,0,0,0,0,0,0,0,0,0,0,0,0,0,0,0,0,0,0,0,0,0,0,0,0,0,0,0,0,0,0,0,0,0,0,0,0,0,0,0,0,0,0,0,0,0,0,0,0,0,0,0,0,0,0,0,0,0,0,0,0,0,0,0,0,0,0,0,0,0,0,0,0,0,0,0,0,0,0,0,0,0,0,0,0,0,0,0,0,0,0,0,0,0,0,0,0,0,0,0,0,0,0,0,0,0,0,0,0,0,0,0,0,0,0,0,0,0,0,0,0,0,0,0,0,0,0,0,0,0,0,0,0,0,0,0,0,0,0,0,0,0,0,0,0,0,0,0,0,0,0,0,0,0,0,0,0,0,0,0,0,0,0,0,0,0,0,0,0,0,0,0,0,0,0,0,0,0,0,0,0,0,0,0,0,0,0,0,0,0,0,0,0,0,0,0,0,0,0,0,0,0,0,0,0,0,0,0,0,0,0,0,0,0,0,0,0,0,0,0,0,0,0,0,0,0,0,0,0,0,0,0,0,0,0,0,0,0,0,0,0,0,0,0,0,0,0,0,0,0,0,0,0,0,0,0,0,0,0,0,0,0,0,0,0,0,0,0,0,0,0,0,0,0,0,0,0,0,0,0,0,0,0,0,0,0,0,0,0,0,0,0,0,0,0,0,0,0,0,0,0,0,0,0,0,0,0,0,0,0,0,0,0,0,0,0,0,0,0,0,0,0,0,0,0,0,0,0,0,0,0,0,0,0,0,0,0,0,0,0,0,0,0,0,0,0,0,0,0,0,0,0,0,0,0,0,0,0,0,0,0,0,0,0,0,0,0,0,0,0,0,0,0,0,0,0,0,0,0,0,0,0,0,0,0,0,0,0,0,0,0,0,0,0,0,0,0,0,0,0,0,0,0,0,0,0,0,0,0,0,0,0,0,0,0,0,0,0,0,0,0,0,0,0,0,0,0,0,0,0,0,0,0,0,0,0,0,0,0,0,0,0,0,0,0,0,0,0,0,0,0,0,0,0,0,0,0,0,0,0,0,0,0,0,0,0,0,0,0,0,0,0,0,0,0,0,0,0,0,0,0,0,0,0,0,0,0,0,0,0,0,0,0,0,0,0,0,0,0,0,0,0,0,0,0,0,0,0,0,0,0,0,0,0,0,0,0,0,0,0,0,0,0,0,0,0,0,0,0,0,0,0,0,0,0,0,0,0,0,0,0,0,0,0,0,0,0,0,0,0,0,0,0,0,0,0,0,0,0,0,0,0,0,0,0,0,0,0,0,0,0,0,0,0,0,0,0,0,0,0,0,0,0,0,0,0,0,0,0,0,0,0,0,0,0,0,0,0,0,0,0,0,0,0,0,0,0,0,0,0,0,0,0,0,0,0,0,0,0,0,0,0,0,0,0,0,0,0,0,0,0,0,0,0,0,0,0,0,0,0,0,0,0,0,0,0,0,0,0,0,0,0,0,0,0,0,0,0,0,0,0,0,0,0,0,0,0,0,0,0,0,0,0,0,0,0,0,0,0,0,0,0,0,0,0,0,0,0,0,0,0,0,0,0,0,0,0,0,0,0,0,0,0,0,0,0,0,0,0,0,0,0,0,0,0,0,0,0,0,0,0,0,0,0,0,0,0,0,0,0,0,0,0,0,0,0,0,0,0,0,0,0,0,0,0,0,0,0,0,0,0,0,0,0,0,0,0,0,0,0,0,0,0,0,0,0,0,0,0,0,0,0,0,0,0,0,0,0,0,0,0,0,0,0,0,0,0,0,0,0,0,0,0,0,0,0,0,0,0,0,0,0,0,0,0,0,0,0,0,0,0,0,0,0,0,0,0,0,0,0,0,0,0,0,0,0,0,0,0,0,0,0,0,0,0,0,0,0,0,0,0,0,0,0,0,0,0,0,0,0,0,0,0,0,0,0,0,0,0,0,0,0,0,0,0,0,0,0,0,0,0,0,0,0,0,0,0,0,0,0,0,0,0,0,0,0,0,0,0,0,0,0,0,0,0,0,0,0,0,0,0,0,0,0,0,0,0,0,0,0,0,0,0,0,0,0,0,0,0,0,0,0,0,0,0,0,0,0,0,0,0,0,0,0,0,0,0,0,0,0,0,0,0,0,0,0,0,0,0,0,0,0,0,0,0,0,0,0,0,0,0,0,0,0,0,0,0,0,0,0,0,0,0,0,0,0,0,0,0,0,0,0,0,0,0,0,0,0,0,0,0,0,0,0,0,0,0,0,0,0,0,0,0,0,0,0,0,0,0,0,0,0,0,0,0,0,0,0,0,0,0,0,0,0,0,0,0,0,0,0,0,0,0,0,0,0,0,0,0,0,0,0,0,0,0,0,0,0,0,0,0,0,0,0,0,0,0,0,0,0,0,0,0,0,0,0,0,0,0,0,0,0,0,0,0,0,0,0,0,0,0,0,0,0,0,0,0,0,0,0,0,0,0,0,0,0,0,0,0,0,0,0,0,0,0,0,0,0,0,0,0,0,0,0,0,0,0,0,0,0,0,0,0,0,0,0,0,0,0,0,0,0,0,0,0,0,0,0,0,0,0,0,0,0,0,0,0,0,0,0,0,0,0,0,0,0,0,0,0,0,0,0,0,0,0,0,0,0,0,0,0,0,0,0,0,0,0,0,0,0,0,0,0,0,0,0,0,0,0,0,0,0,0,0,0,0,0,0,0,0,0,0,0,0,0,0,0,0,0,0,0,0,0,0,0,0,0,0,0,0,0,0,0,0,0,0,0,0,0,0,0,0,0,0,0,0,0,0,0,0,0,0,0,0,0,0,0,0,0,0,0,0,0,0,0,0,0,0,0,0,0,0,0,0,0,0,0,0,0,0,0,0,0,0,0,0,0,0,0,0,0,0,0,0,0,0,0,0,0,0,0,0,0,0,0,0,0,0,0,0,0,0,0,0,0,0,0,0,0,0,0,0,0,0,0,0,0,0,0,0,0,0,0,0,0,0,0,0,0,0,0,0,0,0,0,0,0,0,0,0,0,0,0,0,0,0,0,0,0,0,0,0,0,0,0,0,0,0,0,0,0,0,0,0,0,0,0,0,0,0,0,0,0,0,0,0,0,0,0,0,0,0,0,0,0,0,0,0,0,0,0,0,0,0,0,0,0,0,0,0,0,0,0,0,0,0,0,0,0,0,0,0,0,0,0,0,0,0,0,0,0,0,0,0,0,0,0,0,0,0,0,0,0,0,0,0,0,0,0,0,0,0,0,0,0,0,0,0,0,0,0,0,0,0,0,0,0,0,0,0,0,0,0,0,0,0,0,0,0,0,0,0,0,0,0,0,0,0,0,0,0,0,0,0,0,0,0,0,0,0,0,0,0,0,0,0,0,0,0,0,0,0,0,0,0,0,0,0,0,0,0,0,0,0,0,0,0,0,0,0,0,0,0,0,0,0,0,0,0,0,0,0,0,0,0,0,0,0,0,0,0,0,0,0,0,0,0,0,0,0,0,0,0,0,0,0,0,0,0,0,0,0,0,0,0,0,0,0,0,0,0,0,0,0,0,0,0,0,0,0,0,0,0,0,0,0,0,0,0,0,0,0,0,0,0,0,0,0,0,0,0,0,0,0,0,0,0,0,0,0,0,0,0,0,0,0,0,0,0,0,0,0,0,0,0,0,0,0,0,0,0,0,0,0,0,0,0,0,0,0,0,0,0,0,0,0,0,0,0,0,0,0,0,0,0,0,0,0,0,0,0,0,0,0,0,0,0,0,0,0,0,0,0,0,0,0,0,0,0,0,0,0,0,0,0,0,0,0,0,0,0,0,0,0,0,0,0,0,0,0,0,0,0,0,0,0,0,0,0,0,0,0,0,0,0,0,0,0,0,0,0,0,0,0,0,0,0,0,0,0,0,0,0,0,0,0,0,0,0,0,0,0,0,0,0,0,0,0,0,0,0,0,0,0,0,0,0,0,0,0,0,0,0,0,0,0,0,0,0,0,0,0,0,0,0,0,0,0,0,0,0,0,0,0,0,0,0,0,0,0,0,0,0,0,0,0,0,0,0,0,0,0,0,0,0,0,0,0,0,0,0,0,0,0,0,0,0,0,0,0,0,0,0,0,0,0,0,0,0,0,0,0,0,0,0,0,0,0,0,0,0,0,0,0,0,0,0,0,0,0,0,0,0,0,0,0,0,0,0,0,0,0,0,0,0,0,0,0,0,0,0,0,0,0,0,0,0,0,0,0,0,0,0,0,0,0,0,0,0,0,0,0,0,0,0,0,0,0,0,0,0,0,0,0,0,0,0,0,0,0,0,0,0,0,0,0,0,0,0,0,0,0,0,0,0,0,0,0,0,0,0,0,0,0,0,0,0,0,0,0,0,0,0,0,0,0,0,0,0,0,0,0,0,0,0,0,0,0,0,0,0,0,0,0,0,0,0,0,0,0,0,0,0,0,0,0,0,0,0,0,0,0,0,0,0,0,0,0,0,0,0,0,0,0,0,0,0,0,0,0,0,0,0,0,0,0,0,0,0,0,0,0,0,0,0,0,0,0,0,0,0,0,0,0,0,0,0,0,0,0,0,0,0,0,0,0,0,0,0,0,0,0,0,0,0,0,0,0,0,0,0,0,0,0,0,0,0,0,0,0,0,0,0,0,0,0,0,0,0,0,0,0,0,0,0,0,0,0,0,0,0,0,0,0,0,0,0,0,0,0,0,0,0,0,0,0,0,0,0,0,0,0,0,0,0,0,0,0,0,0,0,0,0,0,0,0,0,0,0,0,0,0,0,0,0,0,0,0,0,0,0,0,0,0,0,0,0,0,0,0,0,0,0,0,0,0,0,0,0,0,0,0,0,0,0,0,0,0,0,0,0,0,0,0,0,0,0,0,0,0,0,0,0,0,0,0,0,0,0,0,0,0,0,0,0,0,0,0,0,0,0,0,0,0,0,0,0,0,0,0,0,0,0,0,0,0,0,0,0,0,0,0,0,0,0,0,0,0,0,0,0,0,0,0,0,0,0,0,0,0,0,0,0,0,0,0,0,0,0,0,0,0,0,0,0,0,0,0,0,0,0,0,0,0,0,0,0,0,0,0,0,0,0,0,0,0,0,0,0,0,0,0,0,0,0,0,0,0,0,0,0,0,0,0,0,0,0,0,0,0,0,0,0,0,0,0,0,0,0,0,0,0,0,0,0,0,0,0,0,0,0,0,0,0,0,0,0,0,0,0,0,0,0,0,0,0,0,0,0,0,0,0,0,0,0,0,0,0,0,0,0,0,0,0,0,0,0,0,0,0,0,0,0,0,0,0,0,0,0,0,0,0,0,0,0,0,0,0,0,0,0,0,0,0,0,0,0,0,0,0,0,0,0,0,0,0,0,0,0,0,0,0,0,0,0,0,0,0,0,0,0,0,0,0,0,0,0,0,0,0,0,0,0,0,0,0,0,0,0,0,0,0,0,0,0,0,0,0,0,0,0,0,0,0,0,0,0,0,0,0,0,0,0,0,0,0,0,0,0,0,0,0,0,0,0,0,0,0,0,0,0,0,0,0,0,0,0,0,0,0,0,0,0,0,0,0,0,0,0,0,0,0,0,0,0,0,0,0,0,0,0,0,0,0,0,0,0,0,0,0,0,0,0,0,0,0,0,0,0,0,0,0,0,0,0,0,0,0,0,0,0,0,0,0,0,0,0,0,0,0,0,0,0,0,0,0,0,0,0,0,0,0,0,0,0,0,0,0,0,0,0,0,0,0,0,0,0,0,0,0,0,0,0,0,0,0,0,0,0,0,0,0,0,0,0,0,0,0,0,0,0,0,0,0,0,0,0,0,0,0,0,0,0,0,0,0,0,0,0,0,0,0,0,0,0,0,0,0,0,0,0,0,0,0,0,0,0,0,0,0,0,0,0,0,0,0,0,0,0,0,0,0,0,0,0,0,0,0,0,0,0,0,0,0,0,0,0,0,0,0,0,0,0,0,0,0,0,0,0,0,0,0,0,0,0,0,0,0,0,0,0,0,0,0,0,0,0,0,0,0,0,0,0,0,0,0,0,0,0,0,0,0,0,0,0,0,0,0,0,0,0,0,0,0,0,0,0,0,0,0,0,0,0,0,0,0,0,0,0,0,0,0,0,0,0,0,0,0,0,0,0,0,0,0,0,0,0,0,0,0,0,0,0,0,0,0,0,0,0,0,0,0,0,0,0,0,0,0,0,0,0,0,0,0,0,0,0,0,0,0,0,0,0,0,0,0,0,0,0,0,0,0,0,0,0,0,0,0,0,0,0,0,0,0,0,0,0,0,0,0,0,0,0,0,0,0,0,0,0,0,0,0,0,0,0,0,0,0,0,0,0,0,0,0,0,0,0,0,0,0,0,0,0,0,0,0,0,0,0,0,0,0,0,0,0,0,0,0,0,0,0,0,0,0,0,0,0,0,0,0,0,0,0,0,0,0,0,0,0,0,0,0,0,0,0,0,0,0,0,0,0,0,0,0,0,0,0,0,0,0,0,0,0,0,0,0,0,0,0,0,0,0,0,0,0,0,0,0,0,0,0,0,0,0,0,0,0,0,0,0,0,0,0,0,0,0,0,0,0,0,0,0,0,0,0,0,0,0,0,0,0,0,0,0,0,0,0,0,0,0,0,0,0,0,0,0,0,0,0,0,0,0,0,0,0,0,0,0,0,0,0,0,0,0,0,0,0,0,0,0,0,0,0,0,0,0,0,0,0,0,0,0,0,0,0,0,0,0,0,0,0,0,0,0,0,0,0,0,0,0,0,0,0,0,0,0,0,0,0,0,0,0,0,0,0,0,0,0,0,0,0,0,0,0,0,0,0,0,0,0,0,0,0,0,0,0,0,0,0,0,0,0,0,0,0,0,0,0,0,0,0,0,0,0,0,0,0,0,0,0,0,0,0,0,0,0,0,0,0,0,0,0,0,0,0,0,0,0,0,0,0,0,0,0,0,0,0,0,0,0,0,0,0,0,0,0,0,0,0,0,0,0,0,0,0,0,0,0,0,0,0,0,0,0,0,0,0,0,0,0,0,0,0,0,0,0,0,0,0,0,0,0,0,0,0,0,0,0,0,0,0,0,0,0,0,0,0,0,0,0,0,0,0,0,0,0,0,0,0,0,0,0,0,0,0,0,0,0,0,0,0,0,0,0,0,0,0,0,0,0,0,0,0,0,0,0,0,0,0,0,0,0,0,0,0,0,0,0,0,0,0,0,0,0,0,0,0,0,0,0,0,0,0,0,0,0,0,0,0,0,0,0,0,0,0,0,0,0,0,0,0,0,0,0,0,0,0,0,0,0,0,0,0,0,0,0,0,0,0,0,0,0,0,0,0,0,0,0,0,0,0,0,0,0,0,0,0,0,0,0,0,0,0,0,0,0,0,0,0,0,0,0,0,0,0,0,0,0,0,0,0,0,0,0,0,0,0,0,0,0,0,0,0,0,0,0,0,0,0,0,0,0,0,0,0,0,0,0,0,0,0,0,0,0,0,0,0,0,0,0,0,0,0,0,0,0,0,0,0,0,0,0,0,0,0,0,0,0,0,0,0,0,0,0,0,0,0,0,0,0,0,0,0,0,0,0,0,0,0,0,0,0,0,0,0,0,0,0,0,0,0,0,0,0,0,0,0,0,0,0,0,0,0,0,0,0,0,0,0,0,0,0,0,0,0,0,0,0,0,0,0,0,0,0,0,0,0,0,0,0,0,0,0,0,0,0,0,0,0,0,0,0,0,0,0,0,0,0,0,0,0,0,0,0,0,0,0,0,0,0,0,0,0,0,0,0,0,0,0,0,0,0,0,0,0,0,0,0,0,0,0,0,0,0,0,0,0,0,0,0,0,0,0,0,0,0,0,0,0,0,0,0,0,0,0,0,0,0,0,0,0,0,0,0,0,0,0,0,0,0,0,0,0,0,0,0,0,0,0,0,0,0,0,0,0,0,0,0,0,0,0,0,0,0,0,0,0,0,0,0,0,0,0,0,0,0,0,0,0,0,0,0,0,0,0,0,0,0,0,0,0,0,0,0,0,0,0,0,0,0,0,0,0,0,0,0,0,0,0,0,0,0,0,0,0,0,0,0,0,0,0,0,0,0,0,0,0,0,0,0,0,0,0,0,0,0,0,0,0,0,0,0,0,0,0,0,0,0,0,0,0,0,0,0,0,0,0,0,0,0,0,0,0,0,0,0,0,0,0,0,0,0,0,0,0,0,0,0,0,0,0,0,0,0,0,0,0,0,0,0,0,0,0,0,0,0,0,0,0,0,0,0,0,0,0,0,0,0,0,0,0,0,0,0,0,0,0,0,0,0,0,0,0,0,0,0,0,0,0,0,0,0,0,0,0,0,0,0,0,0,0,0,0,0,0,0,0,0,0,0,0,0,0,0,0,0,0,0,0,0,0,0,0,0,0,0,0,0,0,0,0,0,0,0,0,0,0,0,0,0,0,0,0,0,0,0,0,0,0,0,0,0,0,0,0,0,0,0,0,0,0,0,0,0,0,0,0,0,0,0,0,0,0,0,0,0,0,0,0,0,0,0,0,0,0,0,0,0,0,0,0,0,0,0,0,0,0,0,0,0,0,0,0,0,0,0,0,0,0,0,0,0,0,0,0,0,0,0,0,0,0,0,0,0,0,0,0,0,0,0,0,0,0,0,0,0,0,0,0,0,0,0,0,0,0,0,0,0,0,0,0,0,0,0,0,0,0,0,0,0,0,0,0,0,0,0,0,0,0,0,0,0,0,0,0,0,0,0,0,0,0,0,0,0,0,0,0,0,0,0,0,0,0,0,0,0,0,0,0,0,0,0,0,0,0,0,0,0,0,0,0,0,0,0,0,0,0,0,0,0,0,0,0,0,0,0,0,0,0,0,0,0,0,0,0,0,0,0,0,0,0,0,0,0,0,0,0,0,0,0,0,0,0,0,0,0,0,0,0,0,0,0,0,0,0,0,0,0,0,0,0,0,0,0,0,0,0,0,0,0,0,0,0,0,0,0,0,0,0,0,0,0,0,0,0,0,0,0,0,0,0,0,0,0,0,0,0,0,0,0,0,0,0,0,0,0,0,0,0,0,0,0,0,0,0,0,0,0,0,0,0,0,0,0,0,0,0,0,0,0,0,0,0,0,0,0,0,0,0,0,0,0,0,0,0,0,0,0,0,0,0,0,0,0,0,0,0,0,0,0,0,0,0,0,0,0,0,0,0,0,0,0,0,0,0,0,0,0,0,0,0,0,0,0,0,0,0,0,0,0,0,0,0,0,0,0,0,0,0,0,0,0,0,0,0,0,0,0,0,0,0,0,0,0,0,0,0,0,0,0,0,0,0,0,0,0,0,0,0,0,0,0,0,0,0,0,0,0,0,0,0,0,0,0,0,0,0,0,0,0,0,0,0,0,0,0,0,0,0,0,0,0,0,0,0,0,0,0,0,0,0,0,0,0,0,0,0,0,0,0,0,0,0,0,0,0,0,0,0,0,0,0,0,0,0,0,0,0,0,0,0,0,0,0,0,0,0,0,0,0,0,0,0,0,0,0,0,0,0,0,0,0,0,0,0,0,0,0,0,0,0,0,0,0,0,0,0,0,0,0,0,0,0,0,0,0,0,0,0,0,0,0,0,0,0,0,0,0,0,0,0,0,0,0,0,0,0,0,0,0,0,0,0,0,0,0,0,0,0,0,0,0,0,0,0,0,0,0,0,0,0,0,0,0,0,0,0,0,0,0,0,0,0,0,0,0,0,0,0,0,0,0,0,0,0,0,0,0,0,0,0,0,0,0,0,0,0,0,0,0,0,0,0,0,0,0,0,0,0,0,0,0,0,0,0,0,0,0,0,0,0,0,0,0,0,0,0,0,0,0,0,0,0,0,0,0,0,0,0,0,0,0,0,0,0,0,0,0,0,0,0,0,0,0,0,0,0,0,0,0,0,0,0,0,0,0,0,0,0,0,0,0,0,0,0,0,0,0,0,0,0,0,0,0,0,0,0,0,0,0,0,0,0,0,0,0,0,0,0,0,0,0,0,0,0,0,0,0,0,0,0,0,0,0,0,0,0,0,0,0,0,0,0,0,0,0,0,0,0,0,0,0,0,0,0,0,0,0,0,0,0,0,0,0,0,0,0,0,0,0,0,0,0,0,0,0,0,0,0,0,0,0,0,0,0,0,0,0,0,0,0,0,0,0,0,0,0,0,0,0,0,0,0,0,0,0,0,0,0,0,0,0,0,0,0,0,0,0,0,0,0,0,0,0,0,0,0,0,0,0,0,0,0,0,0,0,0,0,0,0,0,0,0,0,0,0,0,0,0,0,0,0,0,0,0,0,0,0,0,0,0,0,0,0,0,0,0,0,0,0,0,0,0,0,0,0,0,0,0,0,0,0,0,0,0,0,0,0,0,0,0,0,0,0,0,0,0,0,0,0,0,0,0,0,0,0,0,0,0,0,0,0,0,0,0,0,0,0,0,0,0,0,0,0,0,0,0,0,0,0,0,0,0,0,0,0,0,0,0,0,0,0,0,0,0,0,0,0,0,0,0,0,0,0,0,0,0,0,0,0,0,0,0,0,0,0,0,0,0,0,0,0,0,0,0,0,0,0,0,0,0,0,0,0,0,0,0,0,0,0,0,0,0,0,0,0,0,0,0,0,0,0,0,0,0,0,0,0,0,0,0,0,0,0,0,0,0,0,0,0,0,0,0,0,0,0,0,0,0,0,0,0,0,0,0,0,0,0,0,0,0,0,0,0,0,0,0,0,0,0,0,0,0,0,0,0,0,0,0,0,0,0,0,0,0,0,0,0,0,0,0,0,0,0,0,0,0,0,0,0,0,0,0,0,0,0,0,0,0,0,0,0,0,0,0,0,0,0,0,0,0,0,0,0,0,0,0,0,0,0,0,0,0,0,0,0,0,0,0,0,0,0,0,0,0,0,0,0,0,0,0,0,0,0,0,0,0,0,0,0,0,0,0,0,0,0,0,0,0,0,0,0,0,0,0,0,0,0,0,0,0,0,0,0,0,0,0,0,0,0,0,0,0,0,0,0,0,0,0,0,0,0,0,0,0,0,0,0,0,0,0,0,0,0,0,0,0,0,0,0,0,0,0,0,0,0,0,0,0,0,0,0,0,0,0,0,0,0,0,0,0,0,0,0,0,0,0,0,0,0,0,0,0,0,0,0,0,0,0,0,0,0,0,0,0,0,0,0,0,0,0,0,0,0,0,0,0,0,0,0,0,0,0,0,0,0,0,0,0,0,0,0,0,0,0,0,0,0,0,0,0,0,0,0,0,0,0,0,0,0,0,0,0,0,0,0,0,0,0,0,0,0,0,0,0,0,0,0,0,0,0,0,0,0,0,0,0,0,0,0,0,0,0,0,0,0,0,0,0,0,0,0,0,0,0,0,0,0,0,0,0,0,0,0,0,0,0,0,0,0,0,0,0,0,0,0,0,0,0,0,0,0,0,0,0,0,0,0,0,0,0,0,0,0,0,0,0,0,0,0,0,0,0,0,0,0,0,0,0,0,0,0,0,0,0,0,0,0,0,0,0,0,0,0,0,0,0,0,0,0,0,0,0,0,0,0,0,0,0,0,0,0,0,0,0,0,0,0,0,0,0,0,0,0,0,0,0,0,0,0,0,0,0,0,0,0,0,0,0,0,0,0,0,0,0,0,0,0,0,0,0,0,0,0,0,0,0,0,0,0,0,0,0,0,0,0,0,0,0,0,0,0,0,0,0,0,0,0,0,0,0,0,0,0,0,0,0,0,0,0,0,0,0,0,0,0,0,0,0,0,0,0,0,0,0,0,0,0,0,0,0,0,0,0,0,0,0,0,0,0,0,0,0,0,0,0,0,0,0,0,0,0,0,0,0,0,0,0,0,0,0,0,0,0,0,0,0,0,0,0,0,0,0,0,0,0,0,0,0,0,0,0,0,0,0,0,0,0,0,0,0,0,0,0,0,0,0,0,0,0,0,0,0,0,0,0,0,0,0,0,0,0,0,0,0,0,0,0,0,0,0,0,0,0,0,0,0,0,0,0,0,0,0,0,0,0,0,0,0,0,0,0,0,0,0,0,0,0,0,0,0,0,0,0,0,0,0,0,0,0,0,0,0,0,0,0,0,0,0,0,0,0,0,0,0,0,0,0,0,0,0,0,0,0,0,0,0,0,0,0,0,0,0,0,0,0,0,0,0,0,0,0,0,0,0,0,0,0,0,0,0,0,0,0,0,0,0,0,0,0,0,0,0,0,0,0,0,0,0,0,0,0,0,0,0,0,0,0,0,0,0,0,0,0,0,0,0,0,0,0,0,0,0,0,0,0,0,0,0,0,0,0,0,0,0,0,0,0,0,0,0,0,0,0,0,0,0,0,0,0,0,0,0,0,0,0,0,0,0,0,0,0,0,0,0,0,0,0,0,0,0,0,0,0,0,0,0,0,0,0,0,0,0,0,0,0,0,0,0,0,0,0,0,0,0,0,0,0,0,0,0,0,0,0,0,0,0,0,0,0,0,0,0,0,0,0,0,0,0,0,0,0,0,0,0,0,0,0,0,0,0,0,0,0,0,0,0,0,0,0,0,0,0,0,0,0,0,0,0,0,0,0,0,0,0,0,0,0,0,0,0,0,0,0,0,0,0,0,0,0,0,0,0,0,0,0,0,0,0,0,0,0,0,0,0,0,0,0,0,0,0,0,0,0,0,0,0,0,0,0,0,0,0,0,0,0,0,0,0,0,0,0,0,0,0,0,0,0,0,0,0,0,0,0,0,0,0,0,0,0,0,0,0,0,0,0,0,0,0,0,0,0,0,0,0,0,0,0,0,0,0,0,0,0,0,0,0,0,0,0,0,0,0,0,0,0,0,0,0,0,0,0,0,0,0,0,0,0,0,0,0,0,0,0,0,0,0,0,0,0,0,0,0,0,0,0,0,0,0,0,0,0,0,0,0,0,0,0,0,0,0,0,0,0,0,0,0,0,0,0,0,0,0,0,0,0,0,0,0,0,0,0,0,0,0,0,0,0,0,0,0,0,0,0,0,0,0,0,0,0,0,0,0,0,0,0,0,0,0,0,0,0,0,0,0,0,0,0,0,0,0,0,0,0,0,0,0,0,0,0,0,0,0,0,0,0,0,0,0,0,0,0,0,0,0,0,0,0,0,0,0,0,0,0,0,0,0,0,0,0,0,0,0,0,0,0,0,0,0,0,0,0,0,0,0,0,0,0,0,0,0,0,0,0,0,0,0,0,0,0,0,0,0,0,0,0,0,0,0,0,0,0,0,0,0,0,0,0,0,0,0,0,0,0,0,0,0,0,0,0,0,0,0,0,0,0,0,0,0,0,0,0,0,0,0,0,0,0,0,0,0,0,0,0,0,0,0,0,0,0,0,0,0,0,0,0,0,0,0,0,0,0,0,0,0,0,0,0,0,0,0,0,0,0,0,0,0,0,0,0,0,0,0,0,0,0,0,0,0,0,0,0,0,0,0,0,0,0,0,0,0,0,0,0,0,0,0,0,0,0,0,0,0,0,0,0,0,0,0,0,0,0,0,0,0,0,0,0,0,0,0,0,0,0,0,0,0,0,0,0,0,0,0,0,0,0,0,0,0,0,0,0,0,0,0,0,0,0,0,0,0,0,0,0,0,0,0,0,0,0,0,0,0,0,0,0,0,0,0,0,0,0,0,0,0,0,0,0,0,0,0,0,0,0,0,0,0,0,0,0,0,0,0,0,0,0,0,0,0,0,0,0,0,0,0,0,0,0,0,0,0,0,0,0,0,0,0,0,0,0,0,0,0,0,0,0,0,0,0,0,0,0,0,0,0,0,0,0,0,0,0,0,0,0,0,0,0,0,0,0,0,0,0,0,0,0,0,0,0,0,0,0,0,0,0,0,0,0,0,0,0,0,0,0,0,0,0,0,0,0,0,0,0,0,0,0,0,0,0,0,0,0,0,0,0,0,0,0,0,0,0,0,0,0,0,0,0,0,0,0,0,0,0,0,0,0,0,0,0,0,0,0,0,0,0,0,0,0,0,0,0,0,0,0,0,0,0,0,0,0,0,0,0,0,0,0,0,0,0,0,0,0,0,0,0,0,0,0,0,0,0,0,0,0,0,0,0,0,0,0,0,0,0,0,0,0,0,0,0,0,0,0,0,0,0,0,0,0,0,0,0,0,0,0,0,0,0,0,0,0,0,0,0,0,0,0,0,0,0,0,0,0,0,0,0,0,0,0,0,0,0,0,0,0,0,0,0,0,0,0,0,0,0,0,0,0,0,0,0,0,0,0,0,0,0,0,0,0,0,0,0,0,0,0,0,0,0,0,0,0,0,0,0,0,0,0,0,0,0,0,0,0,0,0,0,0,0,0,0,0,0,0,0,0,0,0,0,0,0,0,0,0,0,0,0,0,0,0,0,0,0,0,0,0,0,0,0,0,0,0,0,0,0,0,0,0,0,0,0,0,0,0,0,0,0,0,0,0,0,0,0,0,0,0,0,0,0,0,0,0,0,0,0,0,0,0,0,0,0,0,0,0,0,0,0,0,0,0,0,0,0,0,0,0,0,0,0,0,0,0,0,0,0,0,0,0,0,0,0,0,0,0,0,0,0,0,0,0,0,0,0,0,0,0,0,0,0,0,0,0,0,0,0,0,0,0,0,0,0,0,0,0,0,0,0,0,0,0,0,0,0,0,0,0,0,0,0,0,0,0,0,0,0,0,0,0,0,0,0,0,0,0,0,0,0,0,0,0,0,0,0,0,0,0,0,0,0,0,0,0,0,0,0,0,0,0,0,0,0,0,0,0,0,0,0,0,0,0,0,0,0,0,0,0,0,0,0,0,0,0,0,0,0,0,0,0,0,0,0,0,0,0,0,0,0,0,0,0,0,0,0,0,0,0,0,0,0,0,0,0,0,0,0,0,0,0,0,0,0,0,0,0,0,0,0,0,0,0,0,0,0,0,0,0,0,0,0,0,0,0,0,0,0,0,0,0,0,0,0,0,0,0,0,0,0,0,0,0,0,0,0,0,0,0,0,0,0,0,0,0,0,0,0,0,0,0,0,0,0,0,0,0,0,0,0,0,0,0,0,0,0,0,0,0,0,0,0,0,0,0,0,0,0,0,0,0,0,0,0,0,0,0,0,0,0,0,0,0,0,0,0,0,0,0,0,0,0,0,0,0,0,0,0,0,0,0,0,0,0,0,0,0,0,0,0,0,0,0,0,0,0,0,0,0,0,0,0,0,0,0,0,0,0,0,0,0,0,0,0,0,0,0,0,0,0,0,0,0,0,0,0,0,0,0,0,0,0,0,0,0,0,0,0,0,0,0,0,0,0,0,0,0,0,0,0,0,0,0,0,0,0,0,0,0,0,0,0,0,0,0,0,0,0,0,0,0,0,0,0,0,0,0,0,0,0,0,0,0,0,0,0,0,0,0,0,0,0,0,0,0,0,0,0,0,0,0,0,0,0,0,0,0,0,0,0,0,0,0,0,0,0,0,0,0,0,0,0,0,0,0,0,0,0,0,0,0,0,0,0,0,0,0,0,0,0,0,0,0,0,0,0,0,0,0,0,0,0,0,0,0,0,0,0,0,0,0,0,0,0,0,0,0,0,0,0,0,0,0,0,0,0,0,0,0,0,0,0,0,0,0,0,0,0,0,0,0,0,0,0,0,0,0,0,0,0,0,0,0,0,0,0,0,0,0,0,0,0,0,0,0,0,0,0,0,0,0,0,0,0,0,0,0,0,0,0,0,0,0,0,0,0,0,0,0,0,0,0,0,0,0,0,0,0,0,0,0,0,0,0,0,0,0,0,0,0,0,0,0,0,0,0,0,0,0,0,0,0,0,0,0,0,0,0,0,0,0,0,0,0,0,0,0,0,0,0,0,0,0,0,0,0,0,0,0,0,0,0,0,0,0,0,0,0,0,0,0,0,0,0,0,0,0,0,0,0,0,0,0,0,0,0,0,0,0,0,0,0,0,0,0,0,0,0,0,0,0,0,0,0,0,0,0,0,0,0,0,0,0,0,0,0,0,0,0,0,0,0,0,0,0,0,0,0,0,0,0,0,0,0,0,0,0,0,0,0,0,0,0,0,0,0,0,0,0,0,0,0,0,0,0,0,0,0,0,0,0,0,0,0,0,0,0,0,0,0,0,0,0,0,0,0,0,0,0,0,0,0,0,0,0,0,0,0,0,0,0,0,0,0,0,0,0,0,0,0,0,0,0,0,0,0,0,0,0,0,0,0,0,0,0,0,0,0,0,0,0,0,0,0,0,0,0,0,0,0,0,0,0,0,0,0,0,0,0,0,0,0,0,0,0,0,0,0,0,0,0,0,0,0,0,0,0,0,0,0,0,0,0,0,0,0,0,0,0,0,0,0,0,0,0,0,0,0,0,0,0,0,0,0,0,0,0,0,0,0,0,0,0,0,0,0,0,0,0,0,0,0,0,0,0,0,0,0,0,0,0,0,0,0,0,0,0,0,0,0,0,0,0,0,0,0,0,0,0,0,0,0,0,0,0,0,0,0,0,0,0,0,0,0,0,0,0,0,0,0,0,0,0,0,0,0,0,0,0,0,0,0,0,0,0,0,0,0,0,0,0,0,0,0,0,0,0,0,0,0,0,0,0,0,0,0,0,0,0,0,0,0,0,0,0,0,0,0,0,0,0,0,0,0,0,0,0,0,0,0,0,0,0,0,0,0,0,0,0,0,0,0,0,0,0,0,0,0,0,0,0,0,0,0,0,0,0,0,0,0,0,0,0,0,0,0,0,0,0,0,0,0,0,0,0,0,0,0,0,0,0,0,0,0,0,0,0,0,0,0,0,0,0,0,0,0,0,0,0,0,0,0,0,0,0,0,0,0,0,0,0,0,0,0,0,0,0,0,0,0,0,0,0,0,0,0,0,0,0,0,0,0,0,0,0,0,0,0,0,0,0,0,0,0,0,0,0,0,0,0,0,0,0,0,0,0,0,0,0,0,0,0,0,0,0,0,0,0,0,0,0,0,0,0,0,0,0,0,0,0,0,0,0,0,0,0,0,0,0,0,0,0,0,0,0,0,0,0,0,0,0,0,0,0,0,0,0,0,0,0,0,0,0,0,0,0,0,0,0,0,0,0,0,0,0,0,0,0,0,0,0,0,0,0,0,0,0,0,0,0,0,0,0,0,0,0,0,0,0,0,0,0,0,0,0,0,0,0,0,0,0,0,0,0,0,0,0,0,0,0,0,0,0,0,0,0,0,0,0,0,0,0,0,0,0,0,0,0,0,0,0,0,0,0,0,0,0,0,0,0,0,0,0,0,0,0,0,0,0,0,0,0,0,0,0,0,0,0,0,0,0,0,0,0,0,0,0,0,0,0,0,0,0,0,0,0,0,0,0,0,0,0,0,0,0,0,0,0,0,0,0,0,0,0,0,0,0,0,0,0,0,0,0,0,0,0,0,0,0,0,0,0,0,0,0,0,0,0,0,0,0,0,0,0,0,0,0,0,0,0,0,0,0,0,0,0,0,0,0,0,0,0,0,0,0,0,0,0,0,0,0,0,0,0,0,0,0,0,0,0,0,0,0,0,0,0,0,0,0,0,0,0,0,0,0,0,0,0,0,0,0,0,0,0,0,0,0,0,0,0,0,0,0,0,0,0,0,0,0,0,0,0,0,0,0,0,0,0,0,0,0,0,0,0,0,0,0,0,0,0,0,0,0,0,0,0,0,0,0,0,0,0,0,0,0,0,0,0,0,0,0,0,0,0,0,0,0,0,0,0,0,0,0,0,0,0,0,0,0,0,0,0,0,0,0,0,0,0,0,0,0,0,0,0,0,0,0,0,0,0,0,0,0,0,0,0,0,0,0,0,0,0,0,0,0,0,0,0,0,0,0,0,0,0,0,0,0,0,0,0,0,0,0,0,0,0,0,0,0,0,0,0,0,0,0,0,0,0,0,0,0,0,0,0,0,0,0,0,0,0,0,0,0,0,0,0,0,0,0,0,0,0,0,0,0,0,0,0,0,0,0,0,0,0,0,0,0,0,0,0,0,0,0,0,0,0,0,0,0,0,0,0,0,0,0,0,0,0,0,0,0,0,0,0,0,0,0,0,0,0,0,0,0,0,0,0,0,0,0,0,0,0,0,0,0,0,0,0,0,0,0,0,0,0,0,0,0,0,0,0,0,0,0,0,0,0,0,0,0,0,0,0,0,0,0,0,0,0,0,0,0,0,0,0,0,0,0,0,0,0,0,0,0,0,0,0,0,0,0,0,0,0,0,0,0,0,0,0,0,0,0,0,0,0,0,0,0,0,0,0,0,0,0,0,0,0,0,0,0,0,0,0,0,0,0,0,0,0,0,0,0,0,0,0,0,0,0,0,0,0,0,0,0,0,0,0,0,0,0,0,0,0,0,0,0,0,0,0,0,0,0,0,0,0,0,0,0,0,0,0,0,0,0,0,0,0,0,0,0,0,0,0,0,0,0,0,0,0,0,0,0,0,0,0,0,0,0,0,0,0,0,0,0,0,0,0,0,0,0,0,0,0,0,0,0,0,0,0,0,0,0,0,0,0,0,0,0,0,0,0,0,0,0,0,0,0,0,0,0,0,0,0,0,0,0,0,0,0,0,0,0,0,0,0,0,0,0,0,0,0,0,0,0,0,0,0,0,0,0,0,0,0,0,0,0,0,0,0,0,0,0,0,0,0,0,0,0,0,0,0,0,0,0,0,0,0,0,0,0,0,0,0,0,0,0,0,0,0,0,0,0,0,0,0,0,0,0,0,0,0,0,0,0,0,0,0,0,0,0,0,0,0,0,0,0,0,0,0,0,0,0,0,0,0,0,0,0,0,0,0,0,0,0,0,0,0,0,0,0,0,0,0,0,0,0,0,0,0,0,0,0,0,0,0,0,0,0,0,0,0,0,0,0,0,0,0,0,0,0,0,0,0,0,0,0,0,0,0,0,0,0,0,0,0,0,0,0,0,0,0,0,0,0,0,0,0,0,0,0,0,0,0,0,0,0,0,0,0,0,0,0,0,0,0,0,0,0,0,0,0,0,0,0,0,0,0,0,0,0,0,0,0,0,0,0,0,0,0,0,0,0,0,0,0,0,0,0,0,0,0,0,0,0,0,0,0,0,0,0,0,0,0,0,0,0,0,0,0,0,0,0,0,0,0,0,0,0,0,0,0,0,0,0,0,0,0,0,0,0,0,0,0,0,0,0,0,0,0,0,0,0,0,0,0,0,0,0,0,0,0,0,0,0,0,0,0,0,0,0,0,0,0,0,0,0,0,0,0,0,0,0,0,0,0,0,0,0,0,0,0,0,0,0,0,0,0,0,0,0,0,0,0,0,0,0,0,0,0,0,0,0,0,0,0,0,0,0,0,0,0,0,0,0,0,0,0,0,0,0,0,0,0,0,0,0,0,0,0,0,0,0,0,0,0,0,0,0,0,0,0,0,0,0,0,0,0,0,0,0,0,0,0,0,0,0,0,0,0,0,0,0,0,0,0,0,0,0,0,0,0,0,0,0,0,0,0,0,0,0,0,0,0,0,0,0,0,0,0,0,0,0,0,0,0,0,0,0,0,0,0,0,0,0,0,0,0,0,0,0,0,0,0,0,0,0,0,0,0,0,0,0,0,0,0,0,0,0,0,0,0,0,0,0,0,0,0,0,0,0,0,0,0,0,0,0,0,0,0,0,0,0,0,0,0,0,0,0,0,0,0,0,0,0,0,0,0,0,0,0,0,0,0,0,0,0,0,0,0,0,0,0,0,0,0,0,0,0,0,0,0,0,0,0,0,0,0,0,0,0,0,0,0,0,0,0,0,0,0,0,0,0,0,0,0,0,0,0,0,0,0,0,0,0,0,0,0,0,0,0,0,0,0,0,0,0,0,0,0,0,0,0,0,0,0,0,0,0,0,0,0,0,0,0,0,0,0,0,0,0,0,0,0,0,0,0,0,0,0,0,0,0,0,0,0,0,0,0,0,0,0,0,0,0,0,0,0,0,0,0,0,0,0,0,0,0,0,0,0,0,0,0,0,0,0,0,0,0,0,0,0,0,0,0,0,0,0,0,0,0,0,0,0,0,0,0,0,0,0,0,0,0,0,0,0,0,0,0,0,0,0,0,0,0,0,0,0,0,0,0,0,0,0,0,0,0,0,0,0,0,0,0,0,0,0,0,0,0,0,0,0,0,0,0,0]
[null,null,null,null,{"$f":"E15","v":"データなし"},null,null,null,{"$f":"I15","v":0},null,null,null,null,{"$f":"N15","v":0},null,{"$f":"P15","v":0},null,null,{"$f":"S15","v":0},null,null,null,{"$f":"W15","v":0},null,null,null,{"$f":"AA15","v":{"$error":"#REF!"}},null,null,{"$f":"AD15","v":0},null,null,null,{"$f":"AH15","v":"0"},null,null,{"$f":"AK15","v":0},null,null,null,{"$f":"AO15","v":"0"},null,null,{"$f":"AR15","v":0},null,null,null,{"$f":"AV15","v":"0"},null,null,{"$f":"AY15","v":0},null,null,null,{"$f":"BC15","v":"0"},null,null,0,null,null,null,{"$f":"BJ15","v":"0"},null,null,0,null,null,null,{"$f":"BQ15","v":"0"},null,null,0,null,null,null,{"$f":"BX15","v":"0"},null,null,0,null,null,null,{"$f":"CE15","v":"0"},null,null,null,"〇"]
[null,null,null,null,{"$f":"E20","v":"データなし"},null,null,null,{"$f":"I20","v":0},null,null,null,null,{"$f":"N20","v":0},null,{"$f":"P20","v":0},null,null,{"$f":"S20","v":0},null,null,null,{"$f":"W20","v":0},null,null,null,{"$f":"AA20","v":{"$error":"#REF!"}},null,null,{"$f":"AD20","v":0},null,null,null,{"$f":"AH20","v":"0"},null,null,{"$f":"AK20","v":0},null,null,null,{"$f":"AO20","v":"0"},null,null,{"$f":"AR20","v":0},null,null,null,{"$f":"AV20","v":"0"},null,null,{"$f":"AY20","v":0},null,null,null,{"$f":"BC20","v":"0"},null,null,0,null,null,null,{"$f":"BJ20","v":"0"},null,null,0,null,null,null,{"$f":"BQ20","v":"0"},null,null,0,null,null,null,{"$f":"BX20","v":"0"},null,null,0,null,null,null,{"$f":"CE20","v":"0"},null,null,null,"〇"]
[null,null,null,null,{"$f":"E21","v":"データなし"},null,null,null,{"$f":"I21","v":0},null,null,null,null,{"$f":"N21","v":0},null,{"$f":"P21","v":0},null,null,{"$f":"S21","v":0},null,null,null,{"$f":"W21","v":0},null,null,null,{"$f":"AA21","v":{"$error":"#REF!"}},null,null,{"$f":"AD21","v":0},null,null,null,{"$f":"AH21","v":"0"},null,null,{"$f":"AK21","v":0},null,null,null,{"$f":"AO21","v":"0"},null,null,{"$f":"AR21","v":0},null,null,null,{"$f":"AV21","v":"0"},null,null,{"$f":"AY21","v":0},null,null,null,{"$f":"BC21","v":"0"},null,null,0,null,null,null,{"$f":"BJ21","v":"0"},null,null,0,null,null,null,{"$f":"BQ21","v":"0"},null,null,0,null,null,null,{"$f":"BX21","v":"0"},null,null,0,null,null,null,{"$f":"CE21","v":"0"},null,null,null,"〇"]
[null,null,null,null,{"$f":"E26","v":"データなし"},null,null,null,{"$f":"I26","v":0},null,null,null,null,{"$f":"N26","v":0},null,{"$f":"P26","v":0},null,null,{"$f":"S26","v":0},null,null,null,{"$f":"W26","v":0},null,null,null,{"$f":"AA26","v":{"$error":"#REF!"}},null,null,{"$f":"AD26","v":0},null,null,null,{"$f":"AH26","v":"0"},null,null,{"$f":"AK26","v":0},null,null,null,{"$f":"AO26","v":"0"},null,null,{"$f":"AR26","v":0},null,null,null,{"$f":"AV26","v":"0"},null,null,{"$f":"AY26","v":0},null,null,null,{"$f":"BC26","v":"0"},null,null,0,null,null,null,{"$f":"BJ26","v":"0"},null,null,0,null,null,null,{"$f":"BQ26","v":"0"},null,null,0,null,null,null,{"$f":"BX26","v":"0"},null,null,0,null,null,null,{"$f":"CE26","v":"0"},null,null,null,"〇"]
[null,null,null,null,{"$f":"E31","v":"データなし"},null,null,null,{"$f":"I31","v":0},null,null,null,null,{"$f":"N31","v":0},null,{"$f":"P31","v":0},null,null,{"$f":"S31","v":0},null,null,null,{"$f":"W31","v":0},null,null,null,{"$f":"AA31","v":{"$error":"#REF!"}},null,null,{"$f":"AD31","v":0},null,null,null,{"$f":"AH31","v":"0"},null,null,{"$f":"AK31","v":0},null,null,null,{"$f":"AO31","v":"0"},null,null,{"$f":"AR31","v":0},null,null,null,{"$f":"AV31","v":"0"},null,null,{"$f":"AY31","v":0},null,null,null,{"$f":"BC31","v":"0"},null,null,{"$f":"IF(AY83-(AR83-AY83)>0,AY83-(AR83-AY83),0)","v":0},null,null,null,{"$f":"BJ31","v":"0"},null,null,{"$f":"IF(BF83-(AY83-BF83)>0,BF83-(AY83-BF83),0)","v":0},null,null,null,{"$f":"BQ31","v":"0"},null,null,{"$f":"IF(BM83-(BF83-BM83)>0,BM83-(BF83-BM83),0)","v":0},null,null,null,{"$f":"BX31","v":"0"},null,null,{"$f":"IF(BT83-(BM83-BT83)>0,BT83-(BM83-BT83),0)","v":0},null,null,null,{"$f":"CE31","v":"0"},null,null,null,{"$f":"IF(E83=\"プロパー\",\"\",\"〇\")","v":"〇"}]
[null,null,null,null,"小計",null,null,null,null,null,null,null,null,null,null,null,null,null,{"$f":"SUBTOTAL(9,S82:V86)","v":0},null,null,null,{"$f":"SUM(W82:Z86)","v":0},null,null,null,{"$error":"#REF!"},null,null,{"$f":"SUBTOTAL(9,AD82:AG86)","v":0},null,null,null,"0",null,null,{"$f":"SUBTOTAL(9,AK82:AN86)","v":0},null,null,null,"0",null,null,{"$f":"SUBTOTAL(9,AR82:AU86)","v":0},null,null,null,"0",null,null,{"$f":"SUBTOTAL(9,AY82:BB86)","v":0},null,null,null,"0",null,null,{"$f":"SUBTOTAL(9,BF82:BI86)","v":0},null,null,null,"0",null,null,{"$f":"SUBTOTAL(9,BM82:BP86)","v":0},null,null,null,"0",null,null,{"$f":"SUBTOTAL(9,BT82:BW86)","v":0},null,null,null,"0",null,null,{"$f":"SUBTOTAL(9,CA82:CD86)","v":0},null,null,null,"0",null,null,null,{"$f":"IF(S87>0,\"\",\"〇\")","v":"〇"},{"$f":"S87","v":0},{"$f":"AD87","v":0},{"$f":"AK87","v":0},{"$f":"AR87","v":0},{"$f":"AY87","v":0},{"$f":"BF87","v":0},{"$f":"BM87","v":0},{"$f":"BT87","v":0},{"$f":"CA87","v":0}]
[{"$f":"①借入条件表!E86","v":0},null,null,null,{"$f":"E36","v":"データなし"},null,null,null,{"$f":"I36","v":0},null,null,null,null,{"$f":"N36","v":0},null,{"$f":"P36","v":0},null,null,{"$f":"S36","v":0},null,null,null,{"$f":"W36","v":0},null,null,null,{"$f":"AA36","v":{"$error":"#REF!"}},null,null,{"$f":"AD36","v":0},null,null,null,{"$f":"AH36","v":"0"},null,null,{"$f":"AK36","v":0},null,null,null,{"$f":"AO36","v":"0"},null,null,{"$f":"AR36","v":0},null,null,null,{"$f":"AV36","v":"0"},null,null,{"$f":"AY36","v":0},null,null,null,{"$f":"BC36","v":"0"},null,null,{"$f":"IF(AY88-(AR88-AY88)>0,AY88-(AR88-AY88),0)","v":0},null,null,null,{"$f":"BJ36","v":"0"},null,null,{"$f":"IF(BF88-(AY88-BF88)>0,BF88-(AY88-BF88),0)","v":0},null,null,null,{"$f":"BQ36","v":"0"},null,null,{"$f":"IF(BM88-(BF88-BM88)>0,BM88-(BF88-BM88),0)","v":0},null,null,null,{"$f":"BX36","v":"0"},null,null,{"$f":"IF(BT88-(BM88-BT88)>0,BT88-(BM88-BT88),0)","v":0},null,null,null,{"$f":"CE36","v":"0"},null,null,null,"〇"]
[null,null,null,null,"小計",null,null,null,null,null,null,null,null,null,null,null,null,null,{"$f":"SUBTOTAL(9,S88:V92)","v":0},null,null,null,{"$f":"SUM(W88:Z92)","v":0},null,null,null,{"$f":"W93/$W$53","v":{"$error":"#REF!"}},null,null,{"$f":"SUBTOTAL(9,AD88:AG92)","v":0},null,null,null,"0",null,null,{"$f":"SUBTOTAL(9,AK88:AN92)","v":0},null,null,null,"0",null,null,{"$f":"SUBTOTAL(9,AR88:AU92)","v":0},null,null,null,"0",null,null,{"$f":"SUBTOTAL(9,AY88:BB92)","v":0},null,null,null,"0",null,null,{"$f":"SUBTOTAL(9,BF88:BI92)","v":0},null,null,null,"0",null,null,{"$f":"SUBTOTAL(9,BM88:BP92)","v":0},null,null,null,"0",null,null,{"$f":"SUBTOTAL(9,BT88:BW92)","v":0},null,null,null,"0",null,null,{"$f":"SUBTOTAL(9,CA88:CD92)","v":0},null,null,null,"0",null,null,null,{"$f":"IF(S93>0,\"\",\"〇\")","v":"〇"},{"$f":"S93","v":0},{"$f":"AD93","v":0},{"$f":"AK93","v":0},{"$f":"AR93","v":0},{"$f":"AY93","v":0},{"$f":"BF93","v":0},{"$f":"BM93","v":0},{"$f":"BT93","v":0},{"$f":"CA93","v":0}]
[null,null,null,null,{"$f":"E45","v":"データなし"},null,null,null,{"$f":"I45","v":0},null,null,null,null,{"$f":"N45","v":0},null,{"$f":"P45","v":0},null,null,{"$f":"S45","v":0},null,null,null,{"$f":"W45","v":0},null,null,null,{"$f":"AA45","v":{"$error":"#REF!"}},null,null,{"$f":"AD45","v":0},null,null,null,{"$f":"AH45","v":"0"},null,null,{"$f":"AK45","v":0},null,null,null,{"$f":"AO45","v":"0"},null,null,{"$f":"AR45","v":0},null,null,null,{"$f":"AV45","v":"0"},null,null,{"$f":"AY45","v":0},null,null,null,{"$f":"BC45","v":"0"},null,null,0,null,null,null,{"$f":"BJ45","v":"0"},null,null,0,null,null,null,{"$f":"BQ45","v":"0"},null,null,0,null,null,null,{"$f":"BX45","v":"0"},null,null,0,null,null,null,{"$f":"CE45","v":"0"},null,null,null,"〇"]
[null,null,null,null,"データなし",null,null,null,0,null,null,null,null,0,null,0,null,null,0,null,null,null,0,null,null,null,{"$error":"#REF!"},null,null,0,null,null,null,"0",null,null,0,null,null,null,"0",null,null,0,null,null,null,"0",null,null,0,null,null,null,"0",null,null,0,null,null,null,"0",null,null,0,null,null,null,"0",null,null,0,null,null,null,"0",null,null,0,null,null,null,"0",null,null,null,"〇"]
[null,null,null,null,"データなし",null,null,null,0,null,null,null,null,0,null,0,null,null,0,null,null,null,0,null,null,null,{"$error":"#REF!"},null,null,0,null,null,null,"0",null,null,0,null,null,null,"0",null,null,0,null,null,null,"0",null,null,0,null,null,null,"0",null,null,0,null,null,null,"0",null,null,0,null,null,null,"0",null,null,0,null,null,null,"0",null,null,0,null,null,null,"0",null,null,null,"〇"]
["金融機関",null,null,null,"保全状況",null,null,null,"借入期間",null,null,null,null,"年数",null,"資金\n使途",null,null,"当初借入額",null,null,null,"前期",null,null,null,null,null,null,{"$f":"①借入条件表!$W$5","v":"令和"},{"$f":"$AL$4-1","v":3},{"$f":"①借入条件表!$Y$5","v":"年"},{"$f":"$AN$4","v":5},{"$f":"①借入条件表!$AA$5","v":"月末"},null,null,{"$f":"①借入条件表!$W$5","v":"令和"},{"$f":"①借入条件表!$X$5","v":"4"},{"$f":"①借入条件表!$Y$5","v":"年"},{"$f":"①借入条件表!$Z$5","v":5},{"$f":"①借入条件表!$AA$5","v":"月末"},null,null,{"$f":"①借入条件表!$W$5","v":"令和"},{"$f":"$AL$4+1","v":5},{"$f":"①借入条件表!$Y$5","v":"年"},{"$f":"$AN$4","v":5},{"$f":"①借入条件表!$AA$5","v":"月末"},null,null,{"$f":"①借入条件表!$W$5","v":"令和"},{"$f":"$AS$4+1","v":6},{"$f":"①借入条件表!$Y$5","v":"年"},{"$f":"$AN$4","v":5},{"$f":"①借入条件表!$AA$5","v":"月末"},null,null,{"$f":"①借入条件表!$W$5","v":"令和"},{"$f":"$AZ$4+1","v":7},{"$f":"①借入条件表!$Y$5","v":"年"},{"$f":"$AN$4","v":5},{"$f":"①借入条件表!$AA$5","v":"月末"},null,null,{"$f":"①借入条件表!$W$5","v":"令和"},{"$f":"$BG$4+1","v":8},{"$f":"①借入条件表!$Y$5","v":"年"},{"$f":"$AN$4","v":5},{"$f":"①借入条件表!$AA$5","v":"月末"},null,null,{"$f":"①借入条件表!$W$5","v":"令和"},{"$f":"$BN$4+1","v":9},{"$f":"①借入条件表!$Y$5","v":"年"},{"$f":"$AN$4","v":5},{"$f":"①借入条件表!$AA$5","v":"月末"},null,null,{"$f":"①借入条件表!$W$5","v":"令和"},{"$f":"$BU$4+1","v":10},{"$f":"①借入条件表!$Y$5","v":"年"},{"$f":"$AN$4","v":5},{"$f":"①借入条件表!$AA$5","v":"月末"}]
[null,null,null,null,"データなし",null,null,null,0,null,null,null,null,0,null,0,null,null,0,null,null,null,{"$f":"W61","v":0},null,null,null,{"$f":"AA61","v":{"$error":"#REF!"}},null,null,0,null,null,null,"0",null,null,0,null,null,null,"0",null,null,0,null,null,null,"0",null,null,0,null,null,null,"0",null,null,0,null,null,null,"0",null,null,0,null,null,null,"0",null,null,0,null,null,null,"0",null,null,0,null,null,null,"0",null,null,null,"〇",null,null,null,null,null,null,null,null,null,null,null,null,null,null,null,null,null,null,null,null,null,null,null,null,null,null,null,null,null,null,null,null,null,null,null,null,null,null,null,null,null,null,null,null,null,null,null,null,null,null,null,null,null,null,null,null,null,null,null,null,null,null,null,null,null,null,null,null,null,null,null,null,null,null,null,null,null,null,null,null,null,null,null,null,null,null,null,null,null,null,null,null,null,null,null,null,null,null,null,null,null,null,null,null,null,null,null,null,null,null,null,null,null,null,null,null,null,null,null,null,null,null,null,null,null,null,null,null,null,null,null,null,null,null,null,null,null,null,null,null,null,null,null,null,null,null,null,null,null,null,null,null,null,null,null,null,null,null,null,null,null,null,null,null,null,null,null,null,null,null,null,null,null,null,null,null,null,null,null,null,null,null,null,null,null,null,null,null,null,null,null,null,null,null,null,null,null,null,null,null,null,null,null,null,null,null,null,null,null,null,null,null,null,null,null,null,null,null,null,null,null,null,null,null,null,null,null,null,null,null,null,null,null,null,null,null,null,null,null,null,null,null,null,null,null,null,null,null,null,null,null,null,null,null,null,null,null,null,null,null,null,null,null,null,null,null,null,null,null,null,null,null,null,null,null,null,null,null,null,null,null,null,null,null,null,null,null,null,null,null,null,null,null,null,null,null,null,null,null,null,null,null,null,null,null,null,null,null,null,null,null,null,null,null,null,null,null,null,null,null,null,null,null,null,null,null,null,null,null,null,null,null,null,null,null,null,null,null,null,null,null,null,null,null,null,null,null,null,null,null,null,null,null,null,null,null,null,null,null,null,null,null,null,null,null,null,null,null,null,null,null,null,null,null,null,null,null,null,null,null,null,null,null,null,null,null,null,null,null,null,null,null,null,null,null,null,null,null,null,null,null,null,null,null,null,null,null,null,null,null,null,null,null,null,null,null,null,null,null,null,null,null,null,null,null,null,null,null,null,null,null,null,null,null,null,null,null,null,null,null,null,null,null,null,null,null,null,null,null,null,null,null,null,null,null,null,null,null,null,null,null,null,null,null,null,null,null,null,null,null,null,null,null,null,null,null,null,null,null,null,null,null,null,null,null,null,null,null,null,null,null,null,null,null,null,null,null,null,null,null,null,null,null,null,null,null,null,null,null,null,null,null,null,null,null,null,null,null,null,null,null,null,null,null,null,null,null,null,null,null,null,null,null,null,null,null,null,null,null,null,null,null,null,null,null,null,null,null,null,null,null,null,null,null,null,null,null,null,null,null,null,null,null,null,null,null,null,null,null,null,null,null,null,null,null,null,null,null,null,null,null,null,null,null,null,null,null,null,null,null,null,null,null,null,null,null,null,null,null,null,null,null,null,null,null,null,null,null,null,null,null,null,null,null,null,null,null,null,null,null,null,null,null,null,null,null,null,null,null,null,null,null,null,null,null,null,null,null,null,null,null,0,0,0,0,0,0,0,0,0,0,0,0,0,0,0,0,0,0,0,0,0,0,0,0,0,0,0,0,0,0,0,0,0,0,0,0,0,0,0,0,0,0,0,0,0,0,0,0,0,0,0,0,0,0,0,0,0,0,0,0,0,0,0,0,0,0,0,0,0,0,0,0,0,0,0,0,0,0,0,0,0,0,0,0,0,0,0,0,0,0,0,0,0,0,0,0,0,0,0,0,0,0,0,0,0,0,0,0,0,0,0,0,0,0,0,0,0,0,0,0,0,0,0,0,0,0,0,0,0,0,0,0,0,0,0,0,0,0,0,0,0,0,0,0,0,0,0,0,0,0,0,0,0,0,0,0,0,0,0,0,0,0,0,0,0,0,0,0,0,0,0,0,0,0,0,0,0,0,0,0,0,0,0,0,0,0,0,0,0,0,0,0,0,0,0,0,0,0,0,0,0,0,0,0,0,0,0,0,0,0,0,0,0,0,0,0,0,0,0,0,0,0,0,0,0,0,0,0,0,0,0,0,0,0,0,0,0,0,0,0,0,0,0,0,0,0,0,0,0,0,0,0,0,0,0,0,0,0,0,0,0,0,0,0,0,0,0,0,0,0,0,0,0,0,0,0,0,0,0,0,0,0,0,0,0,0,0,0,0,0,0,0,0,0,0,0,0,0,0,0,0,0,0,0,0,0,0,0,0,0,0,0,0,0,0,0,0,0,0,0,0,0,0,0,0,0,0,0,0,0,0,0,0,0,0,0,0,0,0,0,0,0,0,0,0,0,0,0,0,0,0,0,0,0,0,0,0,0,0,0,0,0,0,0,0,0,0,0,0,0,0,0,0,0,0,0,0,0,0,0,0,0,0,0,0,0,0,0,0,0,0,0,0,0,0,0,0,0,0,0,0,0,0,0,0,0,0,0,0,0,0,0,0,0,0,0,0,0,0,0,0,0,0,0,0,0,0,0,0,0,0,0,0,0,0,0,0,0,0,0,0,0,0,0,0,0,0,0,0,0,0,0,0,0,0,0,0,0,0,0,0,0,0,0,0,0,0,0,0,0,0,0,0,0,0,0,0,0,0,0,0,0,0,0,0,0,0,0,0,0,0,0,0,0,0,0,0,0,0,0,0,0,0,0,0,0,0,0,0,0,0,0,0,0,0,0,0,0,0,0,0,0,0,0,0,0,0,0,0,0,0,0,0,0,0,0,0,0,0,0,0,0,0,0,0,0,0,0,0,0,0,0,0,0,0,0,0,0,0,0,0,0,0,0,0,0,0,0,0,0,0,0,0,0,0,0,0,0,0,0,0,0,0,0,0,0,0,0,0,0,0,0,0,0,0,0,0,0,0,0,0,0,0,0,0,0,0,0,0,0,0,0,0,0,0,0,0,0,0,0,0,0,0,0,0,0,0,0,0,0,0,0,0,0,0,0,0,0,0,0,0,0,0,0,0,0,0,0,0,0,0,0,0,0,0,0,0,0,0,0,0,0,0,0,0,0,0,0,0,0,0,0,0,0,0,0,0,0,0,0,0,0,0,0,0,0,0,0,0,0,0,0,0,0,0,0,0,0,0,0,0,0,0,0,0,0,0,0,0,0,0,0,0,0,0,0,0,0,0,0,0,0,0,0,0,0,0,0,0,0,0,0,0,0,0,0,0,0,0,0,0,0,0,0,0,0,0,0,0,0,0,0,0,0,0,0,0,0,0,0,0,0,0,0,0,0,0,0,0,0,0,0,0,0,0,0,0,0,0,0,0,0,0,0,0,0,0,0,0,0,0,0,0,0,0,0,0,0,0,0,0,0,0,0,0,0,0,0,0,0,0,0,0,0,0,0,0,0,0,0,0,0,0,0,0,0,0,0,0,0,0,0,0,0,0,0,0,0,0,0,0,0,0,0,0,0,0,0,0,0,0,0,0,0,0,0,0,0,0,0,0,0,0,0,0,0,0,0,0,0,0,0,0,0,0,0,0,0,0,0,0,0,0,0,0,0,0,0,0,0,0,0,0,0,0,0,0,0,0,0,0,0,0,0,0,0,0,0,0,0,0,0,0,0,0,0,0,0,0,0,0,0,0,0,0,0,0,0,0,0,0,0,0,0,0,0,0,0,0,0,0,0,0,0,0,0,0,0,0,0,0,0,0,0,0,0,0,0,0,0,0,0,0,0,0,0,0,0,0,0,0,0,0,0,0,0,0,0,0,0,0,0,0,0,0,0,0,0,0,0,0,0,0,0,0,0,0,0,0,0,0,0,0,0,0,0,0,0,0,0,0,0,0,0,0,0,0,0,0,0,0,0,0,0,0,0,0,0,0,0,0,0,0,0,0,0,0,0,0,0,0,0,0,0,0,0,0,0,0,0,0,0,0,0,0,0,0,0,0,0,0,0,0,0,0,0,0,0,0,0,0,0,0,0,0,0,0,0,0,0,0,0,0,0,0,0,0,0,0,0,0,0,0,0,0,0,0,0,0,0,0,0,0,0,0,0,0,0,0,0,0,0,0,0,0,0,0,0,0,0,0,0,0,0,0,0,0,0,0,0,0,0,0,0,0,0,0,0,0,0,0,0,0,0,0,0,0,0,0,0,0,0,0,0,0,0,0,0,0,0,0,0,0,0,0,0,0,0,0,0,0,0,0,0,0,0,0,0,0,0,0,0,0,0,0,0,0,0,0,0,0,0,0,0,0,0,0,0,0,0,0,0,0,0,0,0,0,0,0,0,0,0,0,0,0,0,0,0,0,0,0,0,0,0,0,0,0,0,0,0,0,0,0,0,0,0,0,0,0,0,0,0,0,0,0,0,0,0,0,0,0,0,0,0,0,0,0,0,0,0,0,0,0,0,0,0,0,0,0,0,0,0,0,0,0,0,0,0,0,0,0,0,0,0,0,0,0,0,0,0,0,0,0,0,0,0,0,0,0,0,0,0,0,0,0,0,0,0,0,0,0,0,0,0,0,0,0,0,0,0,0,0,0,0,0,0,0,0,0,0,0,0,0,0,0,0,0,0,0,0,0,0,0,0,0,0,0,0,0,0,0,0,0,0,0,0,0,0,0,0,0,0,0,0,0,0,0,0,0,0,0,0,0,0,0,0,0,0,0,0,0,0,0,0,0,0,0,0,0,0,0,0,0,0,0,0,0,0,0,0,0,0,0,0,0,0,0,0,0,0,0,0,0,0,0,0,0,0,0,0,0,0,0,0,0,0,0,0,0,0,0,0,0,0,0,0,0,0,0,0,0,0,0,0,0,0,0,0,0,0,0,0,0,0,0,0,0,0,0,0,0,0,0,0,0,0,0,0,0,0,0,0,0,0,0,0,0,0,0,0,0,0,0,0,0,0,0,0,0,0,0,0,0,0,0,0,0,0,0,0,0,0,0,0,0,0,0,0,0,0,0,0,0,0,0,0,0,0,0,0,0,0,0,0,0,0,0,0,0,0,0,0,0,0,0,0,0,0,0,0,0,0,0,0,0,0,0,0,0,0,0,0,0,0,0,0,0,0,0,0,0,0,0,0,0,0,0,0,0,0,0,0,0,0,0,0,0,0,0,0,0,0,0,0,0,0,0,0,0,0,0,0,0,0,0,0,0,0,0,0,0,0,0,0,0,0,0,0,0,0,0,0,0,0,0,0,0,0,0,0,0,0,0,0,0,0,0,0,0,0,0,0,0,0,0,0,0,0,0,0,0,0,0,0,0,0,0,0,0,0,0,0,0,0,0,0,0,0,0,0,0,0,0,0,0,0,0,0,0,0,0,0,0,0,0,0,0,0,0,0,0,0,0,0,0,0,0,0,0,0,0,0,0,0,0,0,0,0,0,0,0,0,0,0,0,0,0,0,0,0,0,0,0,0,0,0,0,0,0,0,0,0,0,0,0,0,0,0,0,0,0,0,0,0,0,0,0,0,0,0,0,0,0,0,0,0,0,0,0,0,0,0,0,0,0,0,0,0,0,0,0,0,0,0,0,0,0,0,0,0,0,0,0,0,0,0,0,0,0,0,0,0,0,0,0,0,0,0,0,0,0,0,0,0,0,0,0,0,0,0,0,0,0,0,0,0,0,0,0,0,0,0,0,0,0,0,0,0,0,0,0,0,0,0,0,0,0,0,0,0,0,0,0,0,0,0,0,0,0,0,0,0,0,0,0,0,0,0,0,0,0,0,0,0,0,0,0,0,0,0,0,0,0,0,0,0,0,0,0,0,0,0,0,0,0,0,0,0,0,0,0,0,0,0,0,0,0,0,0,0,0,0,0,0,0,0,0,0,0,0,0,0,0,0,0,0,0,0,0,0,0,0,0,0,0,0,0,0,0,0,0,0,0,0,0,0,0,0,0,0,0,0,0,0,0,0,0,0,0,0,0,0,0,0,0,0,0,0,0,0,0,0,0,0,0,0,0,0,0,0,0,0,0,0,0,0,0,0,0,0,0,0,0,0,0,0,0,0,0,0,0,0,0,0,0,0,0,0,0,0,0,0,0,0,0,0,0,0,0,0,0,0,0,0,0,0,0,0,0,0,0,0,0,0,0,0,0,0,0,0,0,0,0,0,0,0,0,0,0,0,0,0,0,0,0,0,0,0,0,0,0,0,0,0,0,0,0,0,0,0,0,0,0,0,0,0,0,0,0,0,0,0,0,0,0,0,0,0,0,0,0,0,0,0,0,0,0,0,0,0,0,0,0,0,0,0,0,0,0,0,0,0,0,0,0,0,0,0,0,0,0,0,0,0,0,0,0,0,0,0,0,0,0,0,0,0,0,0,0,0,0,0,0,0,0,0,0,0,0,0,0,0,0,0,0,0,0,0,0,0,0,0,0,0,0,0,0,0,0,0,0,0,0,0,0,0,0,0,0,0,0,0,0,0,0,0,0,0,0,0,0,0,0,0,0,0,0,0,0,0,0,0,0,0,0,0,0,0,0,0,0,0,0,0,0,0,0,0,0,0,0,0,0,0,0,0,0,0,0,0,0,0,0,0,0,0,0,0,0,0,0,0,0,0,0,0,0,0,0,0,0,0,0,0,0,0,0,0,0,0,0,0,0,0,0,0,0,0,0,0,0,0,0,0,0,0,0,0,0,0,0,0,0,0,0,0,0,0,0,0,0,0,0,0,0,0,0,0,0,0,0,0,0,0,0,0,0,0,0,0,0,0,0,0,0,0,0,0,0,0,0,0,0,0,0,0,0,0,0,0,0,0,0,0,0,0,0,0,0,0,0,0,0,0,0,0,0,0,0,0,0,0,0,0,0,0,0,0,0,0,0,0,0,0,0,0,0,0,0,0,0,0,0,0,0,0,0,0,0,0,0,0,0,0,0,0,0,0,0,0,0,0,0,0,0,0,0,0,0,0,0,0,0,0,0,0,0,0,0,0,0,0,0,0,0,0,0,0,0,0,0,0,0,0,0,0,0,0,0,0,0,0,0,0,0,0,0,0,0,0,0,0,0,0,0,0,0,0,0,0,0,0,0,0,0,0,0,0,0,0,0,0,0,0,0,0,0,0,0,0,0,0,0,0,0,0,0,0,0,0,0,0,0,0,0,0,0,0,0,0,0,0,0,0,0,0,0,0,0,0,0,0,0,0,0,0,0,0,0,0,0,0,0,0,0,0,0,0,0,0,0,0,0,0,0,0,0,0,0,0,0,0,0,0,0,0,0,0,0,0,0,0,0,0,0,0,0,0,0,0,0,0,0,0,0,0,0,0,0,0,0,0,0,0,0,0,0,0,0,0,0,0,0,0,0,0,0,0,0,0,0,0,0,0,0,0,0,0,0,0,0,0,0,0,0,0,0,0,0,0,0,0,0,0,0,0,0,0,0,0,0,0,0,0,0,0,0,0,0,0,0,0,0,0,0,0,0,0,0,0,0,0,0,0,0,0,0,0,0,0,0,0,0,0,0,0,0,0,0,0,0,0,0,0,0,0,0,0,0,0,0,0,0,0,0,0,0,0,0,0,0,0,0,0,0,0,0,0,0,0,0,0,0,0,0,0,0,0,0,0,0,0,0,0,0,0,0,0,0,0,0,0,0,0,0,0,0,0,0,0,0,0,0,0,0,0,0,0,0,0,0,0,0,0,0,0,0,0,0,0,0,0,0,0,0,0,0,0,0,0,0,0,0,0,0,0,0,0,0,0,0,0,0,0,0,0,0,0,0,0,0,0,0,0,0,0,0,0,0,0,0,0,0,0,0,0,0,0,0,0,0,0,0,0,0,0,0,0,0,0,0,0,0,0,0,0,0,0,0,0,0,0,0,0,0,0,0,0,0,0,0,0,0,0,0,0,0,0,0,0,0,0,0,0,0,0,0,0,0,0,0,0,0,0,0,0,0,0,0,0,0,0,0,0,0,0,0,0,0,0,0,0,0,0,0,0,0,0,0,0,0,0,0,0,0,0,0,0,0,0,0,0,0,0,0,0,0,0,0,0,0,0,0,0,0,0,0,0,0,0,0,0,0,0,0,0,0,0,0,0,0,0,0,0,0,0,0,0,0,0,0,0,0,0,0,0,0,0,0,0,0,0,0,0,0,0,0,0,0,0,0,0,0,0,0,0,0,0,0,0,0,0,0,0,0,0,0,0,0,0,0,0,0,0,0,0,0,0,0,0,0,0,0,0,0,0,0,0,0,0,0,0,0,0,0,0,0,0,0,0,0,0,0,0,0,0,0,0,0,0,0,0,0,0,0,0,0,0,0,0,0,0,0,0,0,0,0,0,0,0,0,0,0,0,0,0,0,0,0,0,0,0,0,0,0,0,0,0,0,0,0,0,0,0,0,0,0,0,0,0,0,0,0,0,0,0,0,0,0,0,0,0,0,0,0,0,0,0,0,0,0,0,0,0,0,0,0,0,0,0,0,0,0,0,0,0,0,0,0,0,0,0,0,0,0,0,0,0,0,0,0,0,0,0,0,0,0,0,0,0,0,0,0,0,0,0,0,0,0,0,0,0,0,0,0,0,0,0,0,0,0,0,0,0,0,0,0,0,0,0,0,0,0,0,0,0,0,0,0,0,0,0,0,0,0,0,0,0,0,0,0,0,0,0,0,0,0,0,0,0,0,0,0,0,0,0,0,0,0,0,0,0,0,0,0,0,0,0,0,0,0,0,0,0,0,0,0,0,0,0,0,0,0,0,0,0,0,0,0,0,0,0,0,0,0,0,0,0,0,0,0,0,0,0,0,0,0,0,0,0,0,0,0,0,0,0,0,0,0,0,0,0,0,0,0,0,0,0,0,0,0,0,0,0,0,0,0,0,0,0,0,0,0,0,0,0,0,0,0,0,0,0,0,0,0,0,0,0,0,0,0,0,0,0,0,0,0,0,0,0,0,0,0,0,0,0,0,0,0,0,0,0,0,0,0,0,0,0,0,0,0,0,0,0,0,0,0,0,0,0,0,0,0,0,0,0,0,0,0,0,0,0,0,0,0,0,0,0,0,0,0,0,0,0,0,0,0,0,0,0,0,0,0,0,0,0,0,0,0,0,0,0,0,0,0,0,0,0,0,0,0,0,0,0,0,0,0,0,0,0,0,0,0,0,0,0,0,0,0,0,0,0,0,0,0,0,0,0,0,0,0,0,0,0,0,0,0,0,0,0,0,0,0,0,0,0,0,0,0,0,0,0,0,0,0,0,0,0,0,0,0,0,0,0,0,0,0,0,0,0,0,0,0,0,0,0,0,0,0,0,0,0,0,0,0,0,0,0,0,0,0,0,0,0,0,0,0,0,0,0,0,0,0,0,0,0,0,0,0,0,0,0,0,0,0,0,0,0,0,0,0,0,0,0,0,0,0,0,0,0,0,0,0,0,0,0,0,0,0,0,0,0,0,0,0,0,0,0,0,0,0,0,0,0,0,0,0,0,0,0,0,0,0,0,0,0,0,0,0,0,0,0,0,0,0,0,0,0,0,0,0,0,0,0,0,0,0,0,0,0,0,0,0,0,0,0,0,0,0,0,0,0,0,0,0,0,0,0,0,0,0,0,0,0,0,0,0,0,0,0,0,0,0,0,0,0,0,0,0,0,0,0,0,0,0,0,0,0,0,0,0,0,0,0,0,0,0,0,0,0,0,0,0,0,0,0,0,0,0,0,0,0,0,0,0,0,0,0,0,0,0,0,0,0,0,0,0,0,0,0,0,0,0,0,0,0,0,0,0,0,0,0,0,0,0,0,0,0,0,0,0,0,0,0,0,0,0,0,0,0,0,0,0,0,0,0,0,0,0,0,0,0,0,0,0,0,0,0,0,0,0,0,0,0,0,0,0,0,0,0,0,0,0,0,0,0,0,0,0,0,0,0,0,0,0,0,0,0,0,0,0,0,0,0,0,0,0,0,0,0,0,0,0,0,0,0,0,0,0,0,0,0,0,0,0,0,0,0,0,0,0,0,0,0,0,0,0,0,0,0,0,0,0,0,0,0,0,0,0,0,0,0,0,0,0,0,0,0,0,0,0,0,0,0,0,0,0,0,0,0,0,0,0,0,0,0,0,0,0,0,0,0,0,0,0,0,0,0,0,0,0,0,0,0,0,0,0,0,0,0,0,0,0,0,0,0,0,0,0,0,0,0,0,0,0,0,0,0,0,0,0,0,0,0,0,0,0,0,0,0,0,0,0,0,0,0,0,0,0,0,0,0,0,0,0,0,0,0,0,0,0,0,0,0,0,0,0,0,0,0,0,0,0,0,0,0,0,0,0,0,0,0,0,0,0,0,0,0,0,0,0,0,0,0,0,0,0,0,0,0,0,0,0,0,0,0,0,0,0,0,0,0,0,0,0,0,0,0,0,0,0,0,0,0,0,0,0,0,0,0,0,0,0,0,0,0,0,0,0,0,0,0,0,0,0,0,0,0,0,0,0,0,0,0,0,0,0,0,0,0,0,0,0,0,0,0,0,0,0,0,0,0,0,0,0,0,0,0,0,0,0,0,0,0,0,0,0,0,0,0,0,0,0,0,0,0,0,0,0,0,0,0,0,0,0,0,0,0,0,0,0,0,0,0,0,0,0,0,0,0,0,0,0,0,0,0,0,0,0,0,0,0,0,0,0,0,0,0,0,0,0,0,0,0,0,0,0,0,0,0,0,0,0,0,0,0,0,0,0,0,0,0,0,0,0,0,0,0,0,0,0,0,0,0,0,0,0,0,0,0,0,0,0,0,0,0,0,0,0,0,0,0,0,0,0,0,0,0,0,0,0,0,0,0,0,0,0,0,0,0,0,0,0,0,0,0,0,0,0,0,0,0,0,0,0,0,0,0,0,0,0,0,0,0,0,0,0,0,0,0,0,0,0,0,0,0,0,0,0,0,0,0,0,0,0,0,0,0,0,0,0,0,0,0,0,0,0,0,0,0,0,0,0,0,0,0,0,0,0,0,0,0,0,0,0,0,0,0,0,0,0,0,0,0,0,0,0,0,0,0,0,0,0,0,0,0,0,0,0,0,0,0,0,0,0,0,0,0,0,0,0,0,0,0,0,0,0,0,0,0,0,0,0,0,0,0,0,0,0,0,0,0,0,0,0,0,0,0,0,0,0,0,0,0,0,0,0,0,0,0,0,0,0,0,0,0,0,0,0,0,0,0,0,0,0,0,0,0,0,0,0,0,0,0,0,0,0,0,0,0,0,0,0,0,0,0,0,0,0,0,0,0,0,0,0,0,0,0,0,0,0,0,0,0,0,0,0,0,0,0,0,0,0,0,0,0,0,0,0,0,0,0,0,0,0,0,0,0,0,0,0,0,0,0,0,0,0,0,0,0,0,0,0,0,0,0,0,0,0,0,0,0,0,0,0,0,0,0,0,0,0,0,0,0,0,0,0,0,0,0,0,0,0,0,0,0,0,0,0,0,0,0,0,0,0,0,0,0,0,0,0,0,0,0,0,0,0,0,0,0,0,0,0,0,0,0,0,0,0,0,0,0,0,0,0,0,0,0,0,0,0,0,0,0,0,0,0,0,0,0,0,0,0,0,0,0,0,0,0,0,0,0,0,0,0,0,0,0,0,0,0,0,0,0,0,0,0,0,0,0,0,0,0,0,0,0,0,0,0,0,0,0,0,0,0,0,0,0,0,0,0,0,0,0,0,0,0,0,0,0,0,0,0,0,0,0,0,0,0,0,0,0,0,0,0,0,0,0,0,0,0,0,0,0,0,0,0,0,0,0,0,0,0,0,0,0,0,0,0,0,0,0,0,0,0,0,0,0,0,0,0,0,0,0,0,0,0,0,0,0,0,0,0,0,0,0,0,0,0,0,0,0,0,0,0,0,0,0,0,0,0,0,0,0,0,0,0,0,0,0,0,0,0,0,0,0,0,0,0,0,0,0,0,0,0,0,0,0,0,0,0,0,0,0,0,0,0,0,0,0,0,0,0,0,0,0,0,0,0,0,0,0,0,0,0,0,0,0,0,0,0,0,0,0,0,0,0,0,0,0,0,0,0,0,0,0,0,0,0,0,0,0,0,0,0,0,0,0,0,0,0,0,0,0,0,0,0,0,0,0,0,0,0,0,0,0,0,0,0,0,0,0,0,0,0,0,0,0,0,0,0,0,0,0,0,0,0,0,0,0,0,0,0,0,0,0,0,0,0,0,0,0,0,0,0,0,0,0,0,0,0,0,0,0,0,0,0,0,0,0,0,0,0,0,0,0,0,0,0,0,0,0,0,0,0,0,0,0,0,0,0,0,0,0,0,0,0,0,0,0,0,0,0,0,0,0,0,0,0,0,0,0,0,0,0,0,0,0,0,0,0,0,0,0,0,0,0,0,0,0,0,0,0,0,0,0,0,0,0,0,0,0,0,0,0,0,0,0,0,0,0,0,0,0,0,0,0,0,0,0,0,0,0,0,0,0,0,0,0,0,0,0,0,0,0,0,0,0,0,0,0,0,0,0,0,0,0,0,0,0,0,0,0,0,0,0,0,0,0,0,0,0,0,0,0,0,0,0,0,0,0,0,0,0,0,0,0,0,0,0,0,0,0,0,0,0,0,0,0,0,0,0,0,0,0,0,0,0,0,0,0,0,0,0,0,0,0,0,0,0,0,0,0,0,0,0,0,0,0,0,0,0,0,0,0,0,0,0,0,0,0,0,0,0,0,0,0,0,0,0,0,0,0,0,0,0,0,0,0,0,0,0,0,0,0,0,0,0,0,0,0,0,0,0,0,0,0,0,0,0,0,0,0,0,0,0,0,0,0,0,0,0,0,0,0,0,0,0,0,0,0,0,0,0,0,0,0,0,0,0,0,0,0,0,0,0,0,0,0,0,0,0,0,0,0,0,0,0,0,0,0,0,0,0,0,0,0,0,0,0,0,0,0,0,0,0,0,0,0,0,0,0,0,0,0,0,0,0,0,0,0,0,0,0,0,0,0,0,0,0,0,0,0,0,0,0,0,0,0,0,0,0,0,0,0,0,0,0,0,0,0,0,0,0,0,0,0,0,0,0,0,0,0,0,0,0,0,0,0,0,0,0,0,0,0,0,0,0,0,0,0,0,0,0,0,0,0,0,0,0,0,0,0,0,0,0,0,0,0,0,0,0,0,0,0,0,0,0,0,0,0,0,0,0,0,0,0,0,0,0,0,0,0,0,0,0,0,0,0,0,0,0,0,0,0,0,0,0,0,0,0,0,0,0,0,0,0,0,0,0,0,0,0,0,0,0,0,0,0,0,0,0,0,0,0,0,0,0,0,0,0,0,0,0,0,0,0,0,0,0,0,0,0,0,0,0,0,0,0,0,0,0,0,0,0,0,0,0,0,0,0,0,0,0,0,0,0,0,0,0,0,0,0,0,0,0,0,0,0,0,0,0,0,0,0,0,0,0,0,0,0,0,0,0,0,0,0,0,0,0,0,0,0,0,0,0,0,0,0,0,0,0,0,0,0,0,0,0,0,0,0,0,0,0,0,0,0,0,0,0,0,0,0,0,0,0,0,0,0,0,0,0,0,0,0,0,0,0,0,0,0,0,0,0,0,0,0,0,0,0,0,0,0,0,0,0,0,0,0,0,0,0,0,0,0,0,0,0,0,0,0,0,0,0,0,0,0,0,0,0,0,0,0,0,0,0,0,0,0,0,0,0,0,0,0,0,0,0,0,0,0,0,0,0,0,0,0,0,0,0,0,0,0,0,0,0,0,0,0,0,0,0,0,0,0,0,0,0,0,0,0,0,0,0,0,0,0,0,0,0,0,0,0,0,0,0,0,0,0,0,0,0,0,0,0,0,0,0,0,0,0,0,0,0,0,0,0,0,0,0,0,0,0,0,0,0,0,0,0,0,0,0,0,0,0,0,0,0,0,0,0,0,0,0,0,0,0,0,0,0,0,0,0,0,0,0,0,0,0,0,0,0,0,0,0,0,0,0,0,0,0,0,0,0,0,0,0,0,0,0,0,0,0,0,0,0,0,0,0,0,0,0,0,0,0,0,0,0,0,0,0,0,0,0,0,0,0,0,0,0,0,0,0,0,0,0,0,0,0,0,0,0,0,0,0,0,0,0,0,0,0,0,0,0,0,0,0,0,0,0,0,0,0,0,0,0,0,0,0,0,0,0,0,0,0,0,0,0,0,0,0,0,0,0,0,0,0,0,0,0,0,0,0,0,0,0,0,0,0,0,0,0,0,0,0,0,0,0,0,0,0,0,0,0,0,0,0,0,0,0,0,0,0,0,0,0,0,0,0,0,0,0,0,0,0,0,0,0,0,0,0,0,0,0,0,0,0,0,0,0,0,0,0,0,0,0,0,0,0,0,0,0,0,0,0,0,0,0,0,0,0,0,0,0,0,0,0,0,0,0,0,0,0,0,0,0,0,0,0,0,0,0,0,0,0,0,0,0,0,0,0,0,0,0,0,0,0,0,0,0,0,0,0,0,0,0,0,0,0,0,0,0,0,0,0,0,0,0,0,0,0,0,0,0,0,0,0,0,0,0,0,0,0,0,0,0,0,0,0,0,0,0,0,0,0,0,0,0,0,0,0,0,0,0,0,0,0,0,0,0,0,0,0,0,0,0,0,0,0,0,0,0,0,0,0,0,0,0,0,0,0,0,0,0,0,0,0,0,0,0,0,0,0,0,0,0,0,0,0,0,0,0,0,0,0,0,0,0,0,0,0,0,0,0,0,0,0,0,0,0,0,0,0,0,0,0,0,0,0,0,0,0,0,0,0,0,0,0,0,0,0,0,0,0,0,0,0,0,0,0,0,0,0,0,0,0,0,0,0,0,0,0,0,0,0,0,0,0,0,0,0,0,0,0,0,0,0,0,0,0,0,0,0,0,0,0,0,0,0,0,0,0,0,0,0,0,0,0,0,0,0,0,0,0,0,0,0,0,0,0,0,0,0,0,0,0,0,0,0,0,0,0,0,0,0,0,0,0,0,0,0,0,0,0,0,0,0,0,0,0,0,0,0,0,0,0,0,0,0,0,0,0,0,0,0,0,0,0,0,0,0,0,0,0,0,0,0,0,0,0,0,0,0,0,0,0,0,0,0,0,0,0,0,0,0,0,0,0,0,0,0,0,0,0,0,0,0,0,0,0,0,0,0,0,0,0,0,0,0,0,0,0,0,0,0,0,0,0,0,0,0,0,0,0,0,0,0,0,0,0,0,0,0,0,0,0,0,0,0,0,0,0,0,0,0,0,0,0,0,0,0,0,0,0,0,0,0,0,0,0,0,0,0,0,0,0,0,0,0,0,0,0,0,0,0,0,0,0,0,0,0,0,0,0,0,0,0,0,0,0,0,0,0,0,0,0,0,0,0,0,0,0,0,0,0,0,0,0,0,0,0,0,0,0,0,0,0,0,0,0,0,0,0,0,0,0,0,0,0,0,0,0,0,0,0,0,0,0,0,0,0,0,0,0,0,0,0,0,0,0,0,0,0,0,0,0,0,0,0,0,0,0,0,0,0,0,0,0,0,0,0,0,0,0,0,0,0,0,0,0,0,0,0,0,0,0,0,0,0,0,0,0,0,0,0,0,0,0,0,0,0,0,0,0,0,0,0,0,0,0,0,0,0,0,0,0,0,0,0,0,0,0,0,0,0,0,0,0,0,0,0,0,0,0,0,0,0,0,0,0,0,0,0,0,0,0,0,0,0,0,0,0,0,0,0,0,0,0,0,0,0,0,0,0,0,0,0,0,0,0,0,0,0,0,0,0,0,0,0,0,0,0,0,0,0,0,0,0,0,0,0,0,0,0,0,0,0,0,0,0,0,0,0,0,0,0,0,0,0,0,0,0,0,0,0,0,0,0,0,0,0,0,0,0,0,0,0,0,0,0,0,0,0,0,0,0,0,0,0,0,0,0,0,0,0,0,0,0,0,0,0,0,0,0,0,0,0,0,0,0,0,0,0,0,0,0,0,0,0,0,0,0,0,0,0,0,0,0,0,0,0,0,0,0,0,0,0,0,0,0,0,0,0,0,0,0,0,0,0,0,0,0,0,0,0,0,0,0,0,0,0,0,0,0,0,0,0,0,0,0,0,0,0,0,0,0,0,0,0,0,0,0,0,0,0,0,0,0,0,0,0,0,0,0,0,0,0,0,0,0,0,0,0,0,0,0,0,0,0,0,0,0,0,0,0,0,0,0,0,0,0,0,0,0,0,0,0,0,0,0,0,0,0,0,0,0,0,0,0,0,0,0,0,0,0,0,0,0,0,0,0,0,0,0,0,0,0,0,0,0,0,0,0,0,0,0,0,0,0,0,0,0,0,0,0,0,0,0,0,0,0,0,0,0,0,0,0,0,0,0,0,0,0,0,0,0,0,0,0,0,0,0,0,0,0,0,0,0,0,0,0,0,0,0,0,0,0,0,0,0,0,0,0,0,0,0,0,0,0,0,0,0,0,0,0,0,0,0,0,0,0,0,0,0,0,0,0,0,0,0,0,0,0,0,0,0,0,0,0,0,0,0,0,0,0,0,0,0,0,0,0,0,0,0,0,0,0,0,0,0,0,0,0,0,0,0,0,0,0,0,0,0,0,0,0,0,0,0,0,0,0,0,0,0,0,0,0,0,0,0,0,0,0,0,0,0,0,0,0,0,0,0,0,0,0,0,0,0,0,0,0,0,0,0,0,0,0,0,0,0,0,0,0,0,0,0,0,0,0,0,0,0,0,0,0,0,0,0,0,0,0,0,0,0,0,0,0,0,0,0,0,0,0,0,0,0,0,0,0,0,0,0,0,0,0,0,0,0,0,0,0,0,0,0,0,0,0,0,0,0,0,0,0,0,0,0,0,0,0,0,0,0,0,0,0,0,0,0,0,0,0,0,0,0,0,0,0,0,0,0,0,0,0,0,0,0,0,0,0,0,0,0,0,0,0,0,0,0,0,0,0,0,0,0,0,0,0,0,0,0,0,0,0,0,0,0,0,0,0,0,0,0,0,0,0,0,0,0,0,0,0,0,0,0,0,0,0,0,0,0,0,0,0,0,0,0,0,0,0,0,0,0,0,0,0,0,0,0,0,0,0,0,0,0,0,0,0,0,0,0,0,0,0,0,0,0,0,0,0,0,0,0,0,0,0,0,0,0,0,0,0,0,0,0,0,0,0,0,0,0,0,0,0,0,0,0,0,0,0,0,0,0,0,0,0,0,0,0,0,0,0,0,0,0,0,0,0,0,0,0,0,0,0,0,0,0,0,0,0,0,0,0,0,0,0,0,0,0,0,0,0,0,0,0,0,0,0,0,0,0,0,0,0,0,0,0,0,0,0,0,0,0,0,0,0,0,0,0,0,0,0,0,0,0,0,0,0,0,0,0,0,0,0,0,0,0,0,0,0,0,0,0,0,0,0,0,0,0,0,0,0,0,0,0,0,0,0,0,0,0,0,0,0,0,0,0,0,0,0,0,0,0,0,0,0,0,0,0,0,0,0,0,0,0,0,0,0,0,0,0,0,0,0,0,0,0,0,0,0,0,0,0,0,0,0,0,0,0,0,0,0,0,0,0,0,0,0,0,0,0,0,0,0,0,0,0,0,0,0,0,0,0,0,0,0,0,0,0,0,0,0,0,0,0,0,0,0,0,0,0,0,0,0,0,0,0,0,0,0,0,0,0,0,0,0,0,0,0,0,0,0,0,0,0,0,0,0,0,0,0,0,0,0,0,0,0,0,0,0,0,0,0,0,0,0,0,0,0,0,0,0,0,0,0,0,0,0,0,0,0,0,0,0,0,0,0,0,0,0,0,0,0,0,0,0,0,0,0,0,0,0,0,0,0,0,0,0,0,0,0,0,0,0,0,0,0,0,0,0,0,0,0,0,0,0,0,0,0,0,0,0,0,0,0,0,0,0,0,0,0,0,0,0,0,0,0,0,0,0,0,0,0,0,0,0,0,0,0,0,0,0,0,0,0,0,0,0,0,0,0,0,0,0,0,0,0,0,0,0,0,0,0,0,0,0,0,0,0,0,0,0,0,0,0,0,0,0,0,0,0,0,0,0,0,0,0,0,0,0,0,0,0,0,0,0,0,0,0,0,0,0,0,0,0,0,0,0,0,0,0,0,0,0,0,0,0,0,0,0,0,0,0,0,0,0,0,0,0,0,0,0,0,0,0,0,0,0,0,0,0,0,0,0,0,0,0,0,0,0,0,0,0,0,0,0,0,0,0,0,0,0,0,0,0,0,0,0,0,0,0,0,0,0,0,0,0,0,0,0,0,0,0,0,0,0,0,0,0,0,0,0,0,0,0,0,0,0,0,0,0,0,0,0,0,0,0,0,0,0,0,0,0,0,0,0,0,0,0,0,0,0,0,0,0,0,0,0,0,0,0,0,0,0,0,0,0,0,0,0,0,0,0,0,0,0,0,0,0,0,0,0,0,0,0,0,0,0,0,0,0,0,0,0,0,0,0,0,0,0,0,0,0,0,0,0,0,0,0,0,0,0,0,0,0,0,0,0,0,0,0,0,0,0,0,0,0,0,0,0,0,0,0,0,0,0,0,0,0,0,0,0,0,0,0,0,0,0,0,0,0,0,0,0,0,0,0,0,0,0,0,0,0,0,0,0,0,0,0,0,0,0,0,0,0,0,0,0,0,0,0,0,0,0,0,0,0,0,0,0,0,0,0,0,0,0,0,0,0,0,0,0,0,0,0,0,0,0,0,0,0,0,0,0,0,0,0,0,0,0,0,0,0,0,0,0,0,0,0,0,0,0,0,0,0,0,0,0,0,0,0,0,0,0,0,0,0,0,0,0,0,0,0,0,0,0,0,0,0,0,0,0,0,0,0,0,0,0,0,0,0,0,0,0,0,0,0,0,0,0,0,0,0,0,0,0,0,0,0,0,0,0,0,0,0,0,0,0,0,0,0,0,0,0,0,0,0,0,0,0,0,0,0,0,0,0,0,0,0,0,0,0,0,0,0,0,0,0,0,0,0,0,0,0,0,0,0,0,0,0,0,0,0,0,0,0,0,0,0,0,0,0,0,0,0,0,0,0,0,0,0,0,0,0,0,0,0,0,0,0,0,0,0,0,0,0,0,0,0,0,0,0,0,0,0,0,0,0,0,0,0,0,0,0,0,0,0,0,0,0,0,0,0,0,0,0,0,0,0,0,0,0,0,0,0,0,0,0,0,0,0,0,0,0,0,0,0,0,0,0,0,0,0,0,0,0,0,0,0,0,0,0,0,0,0,0,0,0,0,0,0,0,0,0,0,0,0,0,0,0,0,0,0,0,0,0,0,0,0,0,0,0,0,0,0,0,0,0,0,0,0,0,0,0,0,0,0,0,0,0,0,0,0,0,0,0,0,0,0,0,0,0,0,0,0,0,0,0,0,0,0,0,0,0,0,0,0,0,0,0,0,0,0,0,0,0,0,0,0,0,0,0,0,0,0,0,0,0,0,0,0,0,0,0,0,0,0,0,0,0,0,0,0,0,0,0,0,0,0,0,0,0,0,0,0,0,0,0,0,0,0,0,0,0,0,0,0,0,0,0,0,0,0,0,0,0,0,0,0,0,0,0,0,0,0,0,0,0,0,0,0,0,0,0,0,0,0,0,0,0,0,0,0,0,0,0,0,0,0,0,0,0,0,0,0,0,0,0,0,0,0,0,0,0,0,0,0,0,0,0,0,0,0,0,0,0,0,0,0,0,0,0,0,0,0,0,0,0,0,0,0,0,0,0,0,0,0,0,0,0,0,0,0,0,0,0,0,0,0,0,0,0,0,0,0,0,0,0,0,0,0,0,0,0,0,0,0,0,0,0,0,0,0,0,0,0,0,0,0,0,0,0,0,0,0,0,0,0,0,0,0,0,0,0,0,0,0,0,0,0,0,0,0,0,0,0,0,0,0,0,0,0,0,0,0,0,0,0,0,0,0,0,0,0,0,0,0,0,0,0,0,0,0,0,0,0,0,0,0,0,0,0,0,0,0,0,0,0,0,0,0,0,0,0,0,0,0,0,0,0,0,0,0,0,0,0,0,0,0,0,0,0,0,0,0,0,0,0,0,0,0,0,0,0,0,0,0,0,0,0,0,0,0,0,0,0,0,0,0,0,0,0,0,0,0,0,0,0,0,0,0,0,0,0,0,0,0,0,0,0,0,0,0,0,0,0,0,0,0,0,0,0,0,0,0,0,0,0,0,0,0,0,0,0,0,0,0,0,0,0,0,0,0,0,0,0,0,0,0,0,0,0,0,0,0,0,0,0,0,0,0,0,0,0,0,0,0,0,0,0,0,0,0,0,0,0,0,0,0,0,0,0,0,0,0,0,0,0,0,0,0,0,0,0,0,0,0,0,0,0,0,0,0,0,0,0,0,0,0,0,0,0,0,0,0,0,0,0,0,0,0,0,0,0,0,0,0,0,0,0,0,0,0,0,0,0,0,0,0,0,0,0,0,0,0,0,0,0,0,0,0,0,0,0,0,0,0,0,0,0,0,0,0,0,0,0,0,0,0,0,0,0,0,0,0,0,0,0,0,0,0,0,0,0,0,0,0,0,0,0,0,0,0,0,0,0,0,0,0,0,0,0,0,0,0,0,0,0,0,0,0,0,0,0,0,0,0,0,0,0,0,0,0,0,0,0,0,0,0,0,0,0,0,0,0,0,0,0,0,0,0,0,0,0,0,0,0,0,0,0,0,0,0,0,0,0,0,0,0,0,0,0,0,0,0,0,0,0,0,0,0,0,0,0,0,0,0,0,0,0,0,0,0,0,0,0,0,0,0,0,0,0,0,0,0,0,0,0,0,0,0,0,0,0,0,0,0,0,0,0,0,0,0,0,0,0,0,0,0,0,0,0,0,0,0,0,0,0,0,0,0,0,0,0,0,0,0,0,0,0,0,0,0,0,0,0,0,0,0,0,0,0,0,0,0,0,0,0,0,0,0,0,0,0,0,0,0,0,0,0,0,0,0,0,0,0,0,0,0,0,0,0,0,0,0,0,0,0,0,0,0,0,0,0,0,0,0,0,0,0,0,0,0,0,0,0,0,0,0,0,0,0,0,0,0,0,0,0,0,0,0,0,0,0,0,0,0,0,0,0,0,0,0,0,0,0,0,0,0,0,0,0,0,0,0,0,0,0,0,0,0,0,0,0,0,0,0,0,0,0,0,0,0,0,0,0,0,0,0,0,0,0,0,0,0,0,0,0,0,0,0,0,0,0,0,0,0,0,0,0,0,0,0,0,0,0,0,0,0,0,0,0,0,0,0,0,0,0,0,0,0,0,0,0,0,0,0,0,0,0,0,0,0,0,0,0,0,0,0,0,0,0,0,0,0,0,0,0,0,0,0,0,0,0,0,0,0,0,0,0,0,0,0,0,0,0,0,0,0,0,0,0,0,0,0,0,0,0,0,0,0,0,0,0,0,0,0,0,0,0,0,0,0,0,0,0,0,0,0,0,0,0,0,0,0,0,0,0,0,0,0,0,0,0,0,0,0,0,0,0,0,0,0,0,0,0,0,0,0,0,0,0,0,0,0,0,0,0,0,0,0,0,0,0,0,0,0,0,0,0,0,0,0,0,0,0,0,0,0,0,0,0,0,0,0,0,0,0,0,0,0,0,0,0,0,0,0,0,0,0,0,0,0,0,0,0,0,0,0,0,0,0,0,0,0,0,0,0,0,0,0,0,0,0,0,0,0,0,0,0,0,0,0,0,0,0,0,0,0,0,0,0,0,0,0,0,0,0,0,0,0,0,0,0,0,0,0,0,0,0,0,0,0,0,0,0,0,0,0,0,0,0,0,0,0,0,0,0,0,0,0,0,0,0,0,0,0,0,0,0,0,0,0,0,0,0,0,0,0,0,0,0,0,0,0,0,0,0,0,0,0,0,0,0,0,0,0,0,0,0,0,0,0,0,0,0,0,0,0,0,0,0,0,0,0,0,0,0,0,0,0,0,0,0,0,0,0,0,0,0,0,0,0,0,0,0,0,0,0,0,0,0,0,0,0,0,0,0,0,0,0,0,0,0,0,0,0,0,0,0,0,0,0,0,0,0,0,0,0,0,0,0,0,0,0,0,0,0,0,0,0,0,0,0,0,0,0,0,0,0,0,0,0,0,0,0,0,0,0,0,0,0,0,0,0,0,0,0,0,0,0,0,0,0,0,0,0,0,0,0,0,0,0,0,0,0,0,0,0,0,0,0,0,0,0,0,0,0,0,0,0,0,0,0,0,0,0,0,0,0,0,0,0,0,0,0,0,0,0,0,0,0,0,0,0,0,0,0,0,0,0,0,0,0,0,0,0,0,0,0,0,0,0,0,0,0,0,0,0,0,0,0,0,0,0,0,0,0,0,0,0,0,0,0,0,0,0,0,0,0,0,0,0,0,0,0,0,0,0,0,0,0,0,0,0,0,0,0,0,0,0,0,0,0,0,0,0,0,0,0,0,0,0,0,0,0,0,0,0,0,0,0,0,0,0,0,0,0,0,0,0,0,0,0,0,0,0,0,0,0,0,0,0,0,0,0,0,0,0,0,0,0,0,0,0,0,0,0,0,0,0,0,0,0,0,0,0,0,0,0,0,0,0,0,0,0,0,0,0,0,0,0,0,0,0,0,0,0,0,0,0,0,0,0,0,0,0,0,0,0,0,0,0,0,0,0,0,0,0,0,0,0,0,0,0,0,0,0,0,0,0,0,0,0,0,0,0,0,0,0,0,0,0,0,0,0,0,0,0,0,0,0,0,0,0,0,0,0,0,0,0,0,0,0,0,0,0,0,0,0,0,0,0,0,0,0,0,0,0,0,0,0,0,0,0,0,0,0,0,0,0,0,0,0,0,0,0,0,0,0,0,0,0,0,0,0,0,0,0,0,0,0,0,0,0,0,0,0,0,0,0,0,0,0,0,0,0,0,0,0,0,0,0,0,0,0,0,0,0,0,0,0,0,0,0,0,0,0,0,0,0,0,0,0,0,0,0,0,0,0,0,0,0,0,0,0,0,0,0,0,0,0,0,0,0,0,0,0,0,0,0,0,0,0,0,0,0,0,0,0,0,0,0,0,0,0,0,0,0,0,0,0,0,0,0,0,0,0,0,0,0,0,0,0,0,0,0,0,0,0,0,0,0,0,0,0,0,0,0,0,0,0,0,0,0,0,0,0,0,0,0,0,0,0,0,0,0,0,0,0,0,0,0,0,0,0,0,0,0,0,0,0,0,0,0,0,0,0,0,0,0,0,0,0,0,0,0,0,0,0,0,0,0,0,0,0,0,0,0,0,0,0,0,0,0,0,0,0,0,0,0,0,0,0,0,0,0,0,0,0,0,0,0,0,0,0,0,0,0,0,0,0,0,0,0,0,0,0,0,0,0,0,0,0,0,0,0,0,0,0,0,0,0,0,0,0,0,0,0,0,0,0,0,0,0,0,0,0,0,0,0,0,0,0,0,0,0,0,0,0,0,0,0,0,0,0,0,0,0,0,0,0,0,0,0,0,0,0,0,0,0,0,0,0,0,0,0,0,0,0,0,0,0,0,0,0,0,0,0,0,0,0,0,0,0,0,0,0,0,0,0,0,0,0,0,0,0,0,0,0,0,0,0,0,0,0,0,0,0,0,0,0,0,0,0,0,0,0,0,0,0,0,0,0,0,0,0,0,0,0,0,0,0,0,0,0,0,0,0,0,0,0,0,0,0,0,0,0,0,0,0,0,0,0,0,0,0,0,0,0,0,0,0,0,0,0,0,0,0,0,0,0,0,0,0,0,0,0,0,0,0,0,0,0,0,0,0,0,0,0,0,0,0,0,0,0,0,0,0,0,0,0,0,0,0,0,0,0,0,0,0,0,0,0,0,0,0,0,0,0,0,0,0,0,0,0,0,0,0,0,0,0,0,0,0,0,0,0,0,0,0,0,0,0,0,0,0,0,0,0,0,0,0,0,0,0,0,0,0,0,0,0,0,0,0,0,0,0,0,0,0,0,0,0,0,0,0,0,0,0,0,0,0,0,0,0,0,0,0,0,0,0,0,0,0,0,0,0,0,0,0,0,0,0,0,0,0,0,0,0,0,0,0,0,0,0,0,0,0,0,0,0,0,0,0,0,0,0,0,0,0,0,0,0,0,0,0,0,0,0,0,0,0,0,0,0,0,0,0,0,0,0,0,0,0,0,0,0,0,0,0,0,0,0,0,0,0,0,0,0,0,0,0,0,0,0,0,0,0,0,0,0,0,0,0,0,0,0,0,0,0,0,0,0,0,0,0,0,0,0,0,0,0,0,0,0,0,0,0,0,0,0,0,0,0,0,0,0,0,0,0,0,0,0,0,0,0,0,0,0,0,0,0,0,0,0,0,0,0,0,0,0,0,0,0,0,0,0,0,0,0,0,0,0,0,0,0,0,0,0,0,0,0,0,0,0,0,0,0,0,0,0,0,0,0,0,0,0,0,0,0,0,0,0,0,0,0,0,0,0,0,0,0,0,0,0,0,0,0,0,0,0,0,0,0,0,0,0,0,0,0,0,0,0,0,0,0,0,0,0,0,0,0,0,0,0,0,0,0,0,0,0,0,0,0,0,0,0,0,0,0,0,0,0,0,0,0,0,0,0,0,0,0,0,0,0,0,0,0,0,0,0,0,0,0,0,0,0,0,0,0,0,0,0,0,0,0,0,0,0,0,0,0,0,0,0,0,0,0,0,0,0,0,0,0,0,0,0,0,0,0,0,0,0,0,0,0,0,0,0,0,0,0,0,0,0,0,0,0,0,0,0,0,0,0,0,0,0,0,0,0,0,0,0,0,0,0,0,0,0,0,0,0,0,0,0,0,0,0,0,0,0,0,0,0,0,0,0,0,0,0,0,0,0,0,0,0,0,0,0,0,0,0,0,0,0,0,0,0,0,0,0,0,0,0,0,0,0,0,0,0,0,0,0,0,0,0,0,0,0,0,0,0,0,0,0,0,0,0,0,0,0,0,0,0,0,0,0,0,0,0,0,0,0,0,0,0,0,0,0,0,0,0,0,0,0,0,0,0,0,0,0,0,0,0,0,0,0,0,0,0,0,0,0,0,0,0,0,0,0,0,0,0,0,0,0,0,0,0,0,0,0,0,0,0,0,0,0,0,0,0,0,0,0,0,0,0,0,0,0,0,0,0,0,0,0,0,0,0,0,0,0,0,0,0,0,0,0,0,0,0,0,0,0,0,0,0,0,0,0,0,0,0,0,0,0,0,0,0,0,0,0,0,0,0,0,0,0,0,0,0,0,0,0,0,0,0,0,0,0,0,0,0,0,0,0,0,0,0,0,0,0,0,0,0,0,0,0,0,0,0,0,0,0,0,0,0,0,0,0,0,0,0,0,0,0,0,0,0,0,0,0,0,0,0,0,0,0,0,0,0,0,0,0,0,0,0,0,0,0,0,0,0,0,0,0,0,0,0,0,0,0,0,0,0,0,0,0,0,0,0,0,0,0,0,0,0,0,0,0,0,0,0,0,0,0,0,0,0,0,0,0,0,0,0,0,0,0,0,0,0,0,0,0,0,0,0,0,0,0,0,0,0,0,0,0,0,0,0,0,0,0,0,0,0,0,0,0,0,0,0,0,0,0,0,0,0,0,0,0,0,0,0,0,0,0,0,0,0,0,0,0,0,0,0,0,0,0,0,0,0,0,0,0,0,0,0,0,0,0,0,0,0,0,0,0,0,0,0,0,0,0,0,0,0,0,0,0,0,0,0,0,0,0,0,0,0,0,0,0,0,0,0,0,0,0,0,0,0,0,0,0,0,0,0,0,0,0,0,0,0,0,0,0,0,0,0,0,0,0,0,0,0,0,0,0,0,0,0,0,0,0,0,0,0,0,0,0,0,0,0,0,0,0,0,0,0,0,0,0,0,0,0,0,0,0,0,0,0,0,0,0,0,0,0,0,0,0,0,0,0,0,0,0,0,0,0,0,0,0,0,0,0,0,0,0,0,0,0,0,0,0,0,0,0,0,0,0,0,0,0,0,0,0,0,0,0,0,0,0,0,0,0,0,0,0,0,0,0,0,0,0,0,0,0,0,0,0,0,0,0,0,0,0,0,0,0,0,0,0,0,0,0,0,0,0,0,0,0,0,0,0,0,0,0,0,0,0,0,0,0,0,0,0,0,0,0,0,0,0,0,0,0,0,0,0,0,0,0,0,0,0,0,0,0,0,0,0,0,0,0,0,0,0,0,0,0,0,0,0,0,0,0,0,0,0,0,0,0,0,0,0,0,0,0,0,0,0,0,0,0,0,0,0,0,0,0,0,0,0,0,0,0,0,0,0,0,0,0,0,0,0,0,0,0,0,0,0,0,0,0,0,0,0,0,0,0,0,0,0,0,0,0,0,0,0,0,0,0,0,0,0,0,0,0,0,0,0,0,0,0,0,0,0,0,0,0,0,0,0,0,0,0,0,0,0,0,0,0,0,0,0,0,0,0,0,0,0,0,0,0,0,0,0,0,0,0,0,0,0,0,0,0,0,0,0,0,0,0,0,0,0,0,0,0,0,0,0,0,0,0,0,0,0,0,0,0,0,0,0,0,0,0,0,0,0,0,0,0,0,0,0,0,0,0,0,0,0,0,0,0,0,0,0,0,0,0,0,0,0,0,0,0,0,0,0,0,0,0,0,0,0,0,0,0,0,0,0,0,0,0,0,0,0,0,0,0,0,0,0,0,0,0,0,0,0,0,0,0,0,0,0,0,0,0,0,0,0,0,0,0,0,0,0,0,0,0,0,0,0,0,0,0,0,0,0,0,0,0,0,0,0,0,0,0,0,0,0,0,0,0,0,0,0,0,0,0,0,0,0,0,0,0,0,0,0,0,0,0,0,0,0,0,0,0,0,0,0,0,0,0,0,0,0,0,0,0,0,0,0,0,0,0,0,0,0,0,0,0,0,0,0,0,0,0,0,0,0,0,0,0,0,0,0,0,0,0,0,0,0,0,0,0,0,0,0,0,0,0,0,0,0,0,0,0,0,0,0,0,0,0,0,0,0,0,0,0,0,0,0,0,0,0,0,0,0,0,0,0,0,0,0,0,0,0,0,0,0,0,0,0,0,0,0,0,0,0,0,0,0,0,0,0,0,0,0,0,0,0,0,0,0,0,0,0,0,0,0,0,0,0,0,0,0,0,0,0,0,0,0,0,0,0,0,0,0,0,0,0,0,0,0,0,0,0,0,0,0,0,0,0,0,0,0,0,0,0,0,0,0,0,0,0,0,0,0,0,0,0,0,0,0,0,0,0,0,0,0,0,0,0,0,0,0,0,0,0,0,0,0,0,0,0,0,0,0,0,0,0,0,0,0,0,0,0,0,0,0,0,0,0,0,0,0,0,0,0,0,0,0,0,0,0,0,0,0,0,0,0,0,0,0,0,0,0,0,0,0,0,0,0,0,0,0,0,0,0,0,0,0,0,0,0,0,0,0,0,0,0,0,0,0,0,0,0,0,0,0,0,0,0,0,0,0,0,0,0,0,0,0,0,0,0,0,0,0,0,0,0,0,0,0,0,0,0,0,0,0,0,0,0,0,0,0,0,0,0,0,0,0,0,0,0,0,0,0,0,0,0,0,0,0,0,0,0,0,0,0,0,0,0,0,0,0,0,0,0,0,0,0,0,0,0,0,0,0,0,0,0,0,0,0,0,0,0,0,0,0,0,0,0,0,0,0,0,0,0,0,0,0,0,0,0,0,0,0,0,0,0,0,0,0,0,0,0,0,0,0,0,0,0,0,0,0,0,0,0,0,0,0,0,0,0,0,0,0,0,0,0,0,0,0,0,0,0,0,0,0,0,0,0,0,0,0,0,0,0,0,0,0,0,0,0,0,0,0,0,0,0,0,0,0,0,0,0,0,0,0,0,0,0,0,0,0,0,0,0,0,0,0,0,0,0,0,0,0,0,0,0,0,0,0,0,0,0,0,0,0,0,0,0,0,0,0,0,0,0,0,0,0,0,0,0,0,0,0,0,0,0,0,0,0,0,0,0,0,0,0,0,0,0,0,0,0,0,0,0,0,0,0,0,0,0,0,0,0,0,0,0,0,0,0,0,0,0,0,0,0,0,0,0,0,0,0,0,0,0,0,0,0,0,0,0,0,0,0,0,0,0,0,0,0,0,0,0,0,0,0,0,0,0,0,0,0,0,0,0,0,0,0,0,0,0,0,0,0,0,0,0,0,0,0,0,0,0,0,0,0,0,0,0,0,0,0,0,0,0,0,0,0,0,0,0,0,0,0,0,0,0,0,0,0,0,0,0,0,0,0,0,0,0,0,0,0,0,0,0,0,0,0,0,0,0,0,0,0,0,0,0,0,0,0,0,0,0,0,0,0,0,0,0,0,0,0,0,0,0,0,0,0,0,0,0,0,0,0,0,0,0,0,0,0,0,0,0,0,0,0,0,0,0,0,0,0,0,0,0,0,0,0,0,0,0,0,0,0,0,0,0,0,0,0,0,0,0,0,0,0,0,0,0,0,0,0,0,0,0,0,0,0,0,0,0,0,0,0,0,0,0,0,0,0,0,0,0,0,0,0,0,0,0,0,0,0,0,0,0,0,0,0,0,0,0,0,0,0,0,0,0,0,0,0,0,0,0,0,0,0,0,0,0,0,0,0,0,0,0,0,0,0,0,0,0,0,0,0,0,0,0,0,0,0,0,0,0,0,0,0,0,0,0,0,0,0,0,0,0,0,0,0,0,0,0,0,0,0,0,0,0,0,0,0,0,0,0,0,0,0,0,0,0,0,0,0,0,0,0,0,0,0,0,0,0,0,0,0,0,0,0,0,0,0,0,0,0,0,0,0,0,0,0,0,0,0,0,0,0,0,0,0,0,0,0,0,0,0,0,0,0,0,0,0,0,0,0,0,0,0,0,0,0,0,0,0,0,0,0,0,0,0,0,0,0,0,0,0,0,0,0,0,0,0,0,0,0,0,0,0,0,0,0,0,0,0,0,0,0,0,0,0,0,0,0,0,0,0,0,0,0,0,0,0,0,0,0,0,0,0,0,0,0,0,0,0,0,0,0,0,0,0,0,0,0,0,0,0,0,0,0,0,0,0,0,0,0,0,0,0,0,0,0,0,0,0,0,0,0,0,0,0,0,0,0,0,0,0,0,0,0,0,0,0,0,0,0,0,0,0,0,0,0,0,0,0,0,0,0,0,0,0,0,0,0,0,0,0,0,0,0,0,0,0,0,0,0,0,0,0,0,0,0,0,0,0,0,0,0,0,0,0,0,0,0,0,0,0,0,0,0,0,0,0,0,0,0,0,0,0,0,0,0,0,0,0,0,0,0,0,0,0,0,0,0,0,0,0,0,0,0,0,0,0,0,0,0,0,0,0,0,0,0,0,0,0,0,0,0,0,0,0,0,0,0,0,0,0,0,0,0,0,0,0,0,0,0,0,0,0,0,0,0,0,0,0,0,0,0,0,0,0,0,0,0,0,0,0,0,0,0,0,0,0,0,0,0,0,0,0,0,0,0,0,0,0,0,0,0,0,0,0,0,0,0,0,0,0,0,0,0,0,0,0,0,0,0,0,0,0,0,0,0,0,0,0,0,0,0,0,0,0,0,0,0,0,0,0,0,0,0,0,0,0,0,0,0,0,0,0,0,0,0,0,0,0,0,0,0,0,0,0,0,0,0,0,0,0,0,0,0,0,0,0,0,0,0,0,0,0,0,0,0,0,0,0,0,0,0,0,0,0,0,0,0,0,0,0,0,0,0,0,0,0,0,0,0,0,0,0,0,0,0,0,0,0,0,0,0,0,0,0,0,0,0,0,0,0,0,0,0,0,0,0,0,0,0,0,0,0,0,0,0,0,0,0,0,0,0,0,0,0,0,0,0,0,0,0,0,0,0,0,0,0,0,0,0,0,0,0,0,0,0,0,0,0,0,0,0,0,0,0,0,0,0,0,0,0,0,0,0,0,0,0,0,0,0,0,0,0,0,0,0,0,0,0,0,0,0,0,0,0,0,0,0,0,0,0,0,0,0,0,0,0,0,0,0,0,0,0,0,0,0,0,0,0,0,0,0,0,0,0,0,0,0,0,0,0,0,0,0,0,0,0,0,0,0,0,0,0,0,0,0,0,0,0,0,0,0,0,0,0,0,0,0,0,0,0,0,0,0,0,0,0,0,0,0,0,0,0,0,0,0,0,0,0,0,0,0,0,0,0,0,0,0,0,0,0,0,0,0,0,0,0,0,0,0,0,0,0,0,0,0,0,0,0,0,0,0,0,0,0,0,0,0,0,0,0,0,0,0,0,0,0,0,0,0,0,0,0,0,0,0,0,0,0,0,0,0,0,0,0,0,0,0,0,0,0,0,0,0,0,0,0,0,0,0,0,0,0,0,0,0,0,0,0,0,0,0,0,0,0,0,0,0,0,0,0,0,0,0,0,0,0,0,0,0,0,0,0,0,0,0,0,0,0,0,0,0,0,0,0,0,0,0,0,0,0,0,0,0,0,0,0,0,0,0,0,0,0,0,0,0,0,0,0,0,0,0,0,0,0,0,0,0,0,0,0,0,0,0,0,0,0,0,0,0,0,0,0,0,0,0,0,0,0,0,0,0,0,0,0,0,0,0,0,0,0,0,0,0,0,0,0,0,0,0,0,0,0,0,0,0,0,0,0,0,0,0,0,0,0,0,0,0,0,0,0,0,0,0,0,0,0,0,0,0,0,0,0,0,0,0,0,0,0,0,0,0,0,0,0,0,0,0,0,0,0,0,0,0,0,0,0,0,0,0,0,0,0,0,0,0,0,0,0,0,0,0,0,0,0,0,0,0,0,0,0,0,0,0,0,0,0,0,0,0,0,0,0,0,0,0,0,0,0,0,0,0,0,0,0,0,0,0,0,0,0,0,0,0,0,0,0,0,0,0,0,0,0,0,0,0,0,0,0,0,0,0,0,0,0,0,0,0,0,0,0,0,0,0,0,0,0,0,0,0,0,0,0,0,0,0,0,0,0,0,0,0,0,0,0,0,0,0,0,0,0,0,0,0,0,0,0,0,0,0,0,0,0,0,0,0,0,0,0,0,0,0,0,0,0,0,0,0,0,0,0,0,0,0,0,0,0,0,0,0,0,0,0,0,0,0,0,0,0,0,0,0,0,0,0,0,0,0,0,0,0,0,0,0,0,0,0,0,0,0,0,0,0,0,0,0,0,0,0,0,0,0,0,0,0,0,0,0,0,0,0,0,0,0,0,0,0,0,0,0,0,0,0,0,0,0,0,0,0,0,0,0,0,0,0,0,0,0,0,0,0,0,0,0,0,0,0,0,0,0,0,0,0,0,0,0,0,0,0,0,0,0,0,0,0,0,0,0,0,0,0,0,0,0,0,0,0,0,0,0,0,0,0,0,0,0,0,0,0,0,0,0,0,0,0,0,0,0,0,0,0,0,0,0,0,0,0,0,0,0,0,0,0,0,0,0,0,0,0,0,0,0,0,0,0,0,0,0,0,0,0,0,0,0,0,0,0,0,0,0,0,0,0,0,0,0,0,0,0,0,0,0,0,0,0,0,0,0,0,0,0,0,0,0,0,0,0,0,0,0,0,0,0,0,0,0,0,0,0,0,0,0,0,0,0,0,0,0,0,0,0,0,0,0,0,0,0,0,0,0,0,0,0,0,0,0,0,0,0,0,0,0,0,0,0,0,0,0,0,0,0,0,0,0,0,0,0,0,0,0,0,0,0,0,0,0,0,0,0,0,0,0,0,0,0,0,0,0,0,0,0,0,0,0,0,0,0,0,0,0,0,0,0,0,0,0,0,0,0,0,0,0,0,0,0,0,0,0,0,0,0,0,0,0,0,0,0,0,0,0,0,0,0,0,0,0,0,0,0,0,0,0,0,0,0,0,0,0,0,0,0,0,0,0,0,0,0,0,0,0,0,0,0,0,0,0,0,0,0,0,0,0,0,0,0,0,0,0,0,0,0,0,0,0,0,0,0,0,0,0,0,0,0,0,0,0,0,0,0,0,0,0,0,0,0,0,0,0,0,0,0,0,0,0,0,0,0,0,0,0,0,0,0,0,0,0,0,0,0,0,0,0,0,0,0,0,0,0,0,0,0,0,0,0,0,0,0,0,0,0,0,0,0,0,0,0,0,0,0,0,0,0,0,0,0,0,0,0,0,0,0,0,0,0,0,0,0,0,0,0,0,0,0,0,0,0,0,0,0,0,0,0,0,0,0,0,0,0,0,0,0,0,0,0,0,0,0,0,0,0,0,0,0,0,0,0,0,0,0,0,0,0,0,0,0,0,0,0,0,0,0,0,0,0,0,0,0,0,0,0,0,0,0,0,0,0,0,0,0,0,0,0,0,0,0,0,0,0,0,0,0,0,0,0,0,0,0,0,0,0,0,0,0,0,0,0,0,0,0,0,0,0,0,0,0,0,0,0,0,0,0,0,0,0,0,0,0,0,0,0,0,0,0,0,0,0,0,0,0,0,0,0,0,0,0,0,0,0,0,0,0,0,0,0,0,0,0,0,0,0,0,0,0,0,0,0,0,0,0,0,0,0,0,0,0,0,0,0,0,0,0,0,0,0,0,0,0,0,0,0,0,0,0,0,0,0,0,0,0,0,0,0,0,0,0,0,0,0,0,0,0,0,0,0,0,0,0,0,0,0,0,0,0,0,0,0,0,0,0,0,0,0,0,0,0,0,0,0,0,0,0,0,0,0,0,0,0,0,0,0,0,0,0,0,0,0,0,0,0,0,0,0,0,0,0,0,0,0,0,0,0,0,0,0,0,0,0,0,0,0,0,0,0,0,0,0,0,0,0,0,0,0,0,0,0,0,0,0,0,0,0,0,0,0,0,0,0,0,0,0,0,0,0,0,0,0,0,0,0,0,0,0,0,0,0,0,0,0,0,0,0,0,0,0,0,0,0,0,0,0,0,0,0,0,0,0,0,0,0,0,0,0,0,0,0,0,0,0,0,0,0,0,0,0,0,0,0,0,0,0,0,0,0,0,0,0,0,0,0,0,0,0,0,0,0,0,0,0,0,0,0,0,0,0,0,0,0,0,0,0,0,0,0,0,0,0,0,0,0,0,0,0,0,0,0,0,0,0,0,0,0,0,0,0,0,0,0,0,0,0,0,0,0,0,0,0,0,0,0,0,0,0,0,0,0,0,0,0,0,0,0,0,0,0,0,0,0,0,0,0,0,0,0,0,0,0,0,0,0,0,0,0,0,0,0,0,0,0,0,0,0,0,0,0,0,0,0,0,0,0,0,0,0,0,0,0,0,0,0,0,0,0,0,0,0,0,0,0,0,0,0,0,0,0,0,0,0,0,0,0,0,0,0,0,0,0,0,0,0,0,0,0,0,0,0,0,0,0,0,0,0,0,0,0,0,0,0,0,0,0,0,0,0,0,0,0,0,0,0,0,0,0,0,0,0,0,0,0,0,0,0,0,0,0,0,0,0,0,0,0,0,0,0,0,0,0,0,0,0,0,0,0,0,0,0,0,0,0,0,0,0,0,0,0,0,0,0,0,0,0,0,0,0,0,0,0,0,0,0,0,0,0,0,0,0,0,0,0,0,0,0,0,0,0,0,0,0,0,0,0,0,0,0,0,0,0,0,0,0,0,0,0,0,0,0,0,0,0,0,0,0,0,0,0,0,0,0,0,0,0,0,0,0,0,0,0,0,0,0,0,0,0,0,0,0,0,0,0,0,0,0,0,0,0,0,0,0,0,0,0,0,0,0,0,0,0,0,0,0,0,0,0,0,0,0,0,0,0,0,0,0,0,0,0,0,0,0,0,0,0,0,0,0,0,0,0,0,0,0,0,0,0,0,0,0,0,0,0,0,0,0,0,0,0,0,0,0,0,0,0,0,0,0,0,0,0,0,0,0,0,0,0,0,0,0,0,0,0,0,0,0,0,0,0,0,0,0,0,0,0,0,0,0,0,0,0,0,0,0,0,0,0,0,0,0,0,0,0,0,0,0,0,0,0,0,0,0,0,0,0,0,0,0,0,0,0,0,0,0,0,0,0,0,0,0,0,0,0,0,0,0,0,0,0,0,0,0,0,0,0,0,0,0,0,0,0,0,0,0,0,0,0,0,0,0,0,0,0,0,0,0,0,0,0,0,0,0,0,0,0,0,0,0,0,0,0,0,0,0,0,0,0,0,0,0,0,0,0,0,0,0,0,0,0,0,0,0,0,0,0,0,0,0,0,0,0,0,0,0,0,0,0,0,0,0,0,0,0,0,0,0,0,0,0,0,0,0,0,0,0,0,0,0,0,0,0,0,0,0,0,0,0,0,0,0,0,0,0,0,0,0,0,0,0,0,0,0,0,0,0,0,0,0,0,0,0,0,0,0,0,0,0,0,0,0,0,0,0,0,0,0,0,0,0,0,0,0,0,0,0,0,0,0,0,0,0,0,0,0,0,0,0,0,0,0,0,0,0,0,0,0,0,0,0,0,0,0,0,0,0,0,0,0,0,0,0,0,0,0,0,0,0,0,0,0,0,0,0,0,0,0,0,0,0,0,0,0,0,0,0,0,0,0,0,0,0,0,0,0,0,0,0,0,0,0,0,0,0,0,0,0,0,0,0,0,0,0,0,0,0,0,0,0,0,0,0,0,0,0,0,0,0,0,0,0,0,0,0,0,0,0,0,0,0,0,0,0,0,0,0,0,0,0,0,0,0,0,0,0,0,0,0,0,0,0,0,0,0,0,0,0,0,0,0,0,0,0,0,0,0,0,0,0,0,0,0,0,0,0,0,0,0,0,0,0,0,0,0,0,0,0,0,0,0,0,0,0,0,0,0,0,0,0,0,0,0,0,0,0,0,0,0,0,0,0,0,0,0,0,0,0,0,0,0,0,0,0,0,0,0,0,0,0,0,0,0,0,0,0,0,0,0,0,0,0,0,0,0,0,0,0,0,0,0,0,0,0,0,0,0,0,0,0,0,0,0,0,0,0,0,0,0,0,0,0,0,0,0,0,0,0,0,0,0,0,0,0,0,0,0,0,0,0,0,0,0,0,0,0,0,0,0,0,0,0,0,0,0,0,0,0,0,0,0,0,0,0,0,0,0,0,0,0,0,0,0,0,0,0,0,0,0,0,0,0,0,0,0,0,0,0,0,0,0,0,0,0,0,0,0,0,0,0,0,0,0,0,0,0,0,0,0,0,0,0,0,0,0,0,0,0,0,0,0,0,0,0,0,0,0,0,0,0,0,0,0,0,0,0,0,0,0,0,0,0,0,0,0,0,0,0,0,0,0,0,0,0,0,0,0,0,0,0,0,0,0,0,0,0,0,0,0,0,0,0,0,0,0,0,0,0,0,0,0,0,0,0,0,0,0,0,0,0,0,0,0,0,0,0,0,0,0,0,0,0,0,0,0,0,0,0,0,0,0,0,0,0,0,0,0,0,0,0,0,0,0,0,0,0,0,0,0,0,0,0,0,0,0,0,0,0,0,0,0,0,0,0,0,0,0,0,0,0,0,0,0,0,0,0,0,0,0,0,0,0,0,0,0,0,0,0,0,0,0,0,0,0,0,0,0,0,0,0,0,0,0,0,0,0,0,0,0,0,0,0,0,0,0,0,0,0,0,0,0,0,0,0,0,0,0,0,0,0,0,0,0,0,0,0,0,0,0,0,0,0,0,0,0,0,0,0,0,0,0,0,0,0,0,0,0,0,0,0,0,0,0,0,0,0,0,0,0,0,0,0,0,0,0,0,0,0,0,0,0,0,0,0,0,0,0,0,0,0,0,0,0,0,0,0,0,0,0,0,0,0,0,0,0,0,0,0,0,0,0,0,0,0,0,0,0,0,0,0,0,0,0,0,0,0,0,0,0,0,0,0,0,0,0,0,0,0,0,0,0,0,0,0,0,0,0,0,0,0,0,0,0,0,0,0,0,0,0,0,0,0,0,0,0,0,0,0,0,0,0,0,0,0,0,0,0,0,0,0,0,0,0,0,0,0,0,0,0,0,0,0,0,0,0,0,0,0,0,0,0,0,0,0,0,0,0,0,0,0,0,0,0,0,0,0,0,0,0,0,0,0,0,0,0,0,0,0,0,0,0,0,0,0,0,0,0,0,0,0,0,0,0,0,0,0,0,0,0,0,0,0,0,0,0,0,0,0,0,0,0,0,0,0,0,0,0,0,0,0,0,0,0,0,0,0,0,0,0,0,0,0,0,0,0,0,0,0,0,0,0,0,0,0,0,0,0,0,0,0,0,0,0,0,0,0,0,0,0,0,0,0,0,0,0,0,0,0,0,0,0,0,0,0,0,0,0,0,0,0,0,0,0,0,0,0,0,0,0,0,0,0,0,0,0,0,0,0,0,0,0,0,0,0,0,0,0,0,0,0,0,0,0,0,0,0,0,0,0,0,0,0,0,0,0,0,0,0,0,0,0,0,0,0,0,0,0,0,0,0,0,0,0,0,0,0,0,0,0,0,0,0,0,0,0,0,0,0,0,0,0,0,0,0,0,0,0,0,0,0,0,0,0,0,0,0,0,0,0,0,0,0,0,0,0,0,0,0,0,0,0,0,0,0,0,0,0,0,0,0,0,0,0,0,0,0,0,0,0,0,0,0,0,0,0,0,0,0,0,0,0,0,0,0,0,0,0,0,0,0,0,0,0,0,0,0,0,0,0,0,0,0,0,0,0,0,0,0,0,0,0,0,0,0,0,0,0,0,0,0,0,0,0,0,0,0,0,0,0,0,0,0,0,0,0,0,0,0,0,0,0,0,0,0,0,0,0,0,0,0,0,0,0,0,0,0,0,0,0]
[null,null,null,null,{"$f":"E63","v":"小計"},null,null,null,null,null,null,null,null,null,null,null,null,null,{"$f":"SUBTOTAL(9,S110:V114)","v":30000000},null,null,null,{"$f":"W63","v":0},null,null,null,{"$f":"AA63","v":{"$error":"#REF!"}},null,null,{"$f":"SUBTOTAL(9,AD110:AG114)","v":21000000},null,null,null,{"$f":"AH63","v":1},null,null,{"$f":"SUBTOTAL(9,AK110:AN114)","v":15000000},null,null,null,{"$f":"AO63","v":1},null,null,{"$f":"SUBTOTAL(9,AR110:AU114)","v":9000000},null,null,null,{"$f":"AV63","v":1},null,null,{"$f":"SUBTOTAL(9,AY110:BB114)","v":3000000},null,null,null,{"$f":"BC63","v":1},null,null,{"$f":"SUBTOTAL(9,BF110:BI114)","v":0},null,null,null,{"$f":"BJ63","v":1},null,null,{"$f":"SUBTOTAL(9,BM110:BP114)","v":0},null,null,null,{"$f":"BQ63","v":"0"},null,null,{"$f":"SUBTOTAL(9,BT110:BW114)","v":0},null,null,null,{"$f":"BX63","v":"0"},null,null,{"$f":"SUBTOTAL(9,CA110:CD114)","v":0},null,null,null,{"$f":"CE63","v":"0"},null,null,null,{"$f":"IF(S115>0,\"\",\"〇\")","v":""},{"$f":"S115","v":30000000},{"$f":"AD115","v":21000000},{"$f":"AK115","v":15000000},{"$f":"AR115","v":9000000},{"$f":"AY115","v":3000000},{"$f":"BF115","v":0},{"$f":"BM115","v":0},{"$f":"BT115","v":0},{"$f":"CA115","v":0},null,null,null,null,null,null,null,null,null,null,null,null,null,null,null,null,null,null,null,null,null,null,null,null,null,null,null,null,null,null,null,null,null,null,null,null,null,null,null,null,null,null,null,null,null,null,null,null,null,null,null,null,null,null,null,null,null,null,null,null,null,null,null,null,null,null,null,null,null,null,null,null,null,null,null,null,null,null,null,null,null,null,null,null,null,null,null,null,null,null,null,null,null,null,null,null,null,null,null,null,null,null,null,null,null,null,null,null,null,null,null,null,null,null,null,null,null,null,null,null,null,null,null,null,null,null,null,null,null,null,null,null,null,null,null,null,null,null,null,null,null,null,null,null,null,null,null,null,null,null,null,null,null,null,null,null,null,null,null,null,null,null,null,null,null,null,null,null,null,null,null,null,null,null,null,null,null,null,null,null,null,null,null,null,null,null,null,null,null,null,null,null,null,null,null,null,null,null,null,null,null,null,null,null,null,null,null,null,null,null,null,null,null,null,null,null,null,null,null,null,null,null,null,null,null,null,null,null,null,null,null,null,null,null,null,null,null,null,null,null,null,null,null,null,null,null,null,null,null,null,null,null,null,null,null,null,null,null,null,null,null,null,null,null,null,null,null,null,null,null,null,null,null,null,null,null,null,null,null,null,null,null,null,null,null,null,null,null,null,null,null,null,null,null,null,null,null,null,null,null,null,null,null,null,null,null,null,null,null,null,null,null,null,null,null,null,null,null,null,null,null,null,null,null,null,null,null,null,null,null,null,null,null,null,null,null,null,null,null,null,null,null,null,null,null,null,null,null,null,null,null,null,null,null,null,null,null,null,null,null,null,null,null,null,null,null,null,null,null,null,null,null,null,null,null,null,null,null,null,null,null,null,null,null,null,null,null,null,null,null,null,null,null,null,null,null,null,null,null,null,null,null,null,null,null,null,null,null,null,null,null,null,null,null,null,null,null,null,null,null,null,null,null,null,null,null,null,null,null,null,null,null,null,null,null,null,null,null,null,null,null,null,null,null,null,null,null,null,null,null,null,null,null,null,null,null,null,null,null,null,null,null,null,null,null,null,null,null,null,null,null,null,null,null,null,null,null,null,null,null,null,null,null,null,null,null,null,null,null,null,null,null,null,null,null,null,null,null,null,null,null,null,null,null,null,null,null,null,null,null,null,null,null,null,null,null,null,null,null,null,null,null,null,null,null,null,null,null,null,null,null,null,null,null,null,null,null,null,null,null,null,null,null,null,null,null,null,null,null,null,null,null,null,null,null,null,null,null,null,null,null,null,null,null,null,null,null,null,null,null,null,null,null,null,null,null,null,null,null,null,null,null,null,null,null,null,null,null,null,null,null,null,null,null,null,null,null,null,null,null,null,null,null,null,null,null,null,null,null,null,null,null,null,null,null,null,null,null,null,null,null,null,null,null,null,null,null,null,null,null,null,null,0,0,0,0,0,0,0,0,0,0,0,0,0,0,0,0,0,0,0,0,0,0,0,0,0,0,0,0,0,0,0,0,0,0,0,0,0,0,0,0,0,0,0,0,0,0,0,0,0,0,0,0,0,0,0,0,0,0,0,0,0,0,0,0,0,0,0,0,0,0,0,0,0,0,0,0,0,0,0,0,0,0,0,0,0,0,0,0,0,0,0,0,0,0,0,0,0,0,0,0,0,0,0,0,0,0,0,0,0,0,0,0,0,0,0,0,0,0,0,0,0,0,0,0,0,0,0,0,0,0,0,0,0,0,0,0,0,0,0,0,0,0,0,0,0,0,0,0,0,0,0,0,0,0,0,0,0,0,0,0,0,0,0,0,0,0,0,0,0,0,0,0,0,0,0,0,0,0,0,0,0,0,0,0,0,0,0,0,0,0,0,0,0,0,0,0,0,0,0,0,0,0,0,0,0,0,0,0,0,0,0,0,0,0,0,0,0,0,0,0,0,0,0,0,0,0,0,0,0,0,0,0,0,0,0,0,0,0,0,0,0,0,0,0,0,0,0,0,0,0,0,0,0,0,0,0,0,0,0,0,0,0,0,0,0,0,0,0,0,0,0,0,0,0,0,0,0,0,0,0,0,0,0,0,0,0,0,0,0,0,0,0,0,0,0,0,0,0,0,0,0,0,0,0,0,0,0,0,0,0,0,0,0,0,0,0,0,0,0,0,0,0,0,0,0,0,0,0,0,0,0,0,0,0,0,0,0,0,0,0,0,0,0,0,0,0,0,0,0,0,0,0,0,0,0,0,0,0,0,0,0,0,0,0,0,0,0,0,0,0,0,0,0,0,0,0,0,0,0,0,0,0,0,0,0,0,0,0,0,0,0,0,0,0,0,0,0,0,0,0,0,0,0,0,0,0,0,0,0,0,0,0,0,0,0,0,0,0,0,0,0,0,0,0,0,0,0,0,0,0,0,0,0,0,0,0,0,0,0,0,0,0,0,0,0,0,0,0,0,0,0,0,0,0,0,0,0,0,0,0,0,0,0,0,0,0,0,0,0,0,0,0,0,0,0,0,0,0,0,0,0,0,0,0,0,0,0,0,0,0,0,0,0,0,0,0,0,0,0,0,0,0,0,0,0,0,0,0,0,0,0,0,0,0,0,0,0,0,0,0,0,0,0,0,0,0,0,0,0,0,0,0,0,0,0,0,0,0,0,0,0,0,0,0,0,0,0,0,0,0,0,0,0,0,0,0,0,0,0,0,0,0,0,0,0,0,0,0,0,0,0,0,0,0,0,0,0,0,0,0,0,0,0,0,0,0,0,0,0,0,0,0,0,0,0,0,0,0,0,0,0,0,0,0,0,0,0,0,0,0,0,0,0,0,0,0,0,0,0,0,0,0,0,0,0,0,0,0,0,0,0,0,0,0,0,0,0,0,0,0,0,0,0,0,0,0,0,0,0,0,0,0,0,0,0,0,0,0,0,0,0,0,0,0,0,0,0,0,0,0,0,0,0,0,0,0,0,0,0,0,0,0,0,0,0,0,0,0,0,0,0,0,0,0,0,0,0,0,0,0,0,0,0,0,0,0,0,0,0,0,0,0,0,0,0,0,0,0,0,0,0,0,0,0,0,0,0,0,0,0,0,0,0,0,0,0,0,0,0,0,0,0,0,0,0,0,0,0,0,0,0,0,0,0,0,0,0,0,0,0,0,0,0,0,0,0,0,0,0,0,0,0,0,0,0,0,0,0,0,0,0,0,0,0,0,0,0,0,0,0,0,0,0,0,0,0,0,0,0,0,0,0,0,0,0,0,0,0,0,0,0,0,0,0,0,0,0,0,0,0,0,0,0,0,0,0,0,0,0,0,0,0,0,0,0,0,0,0,0,0,0,0,0,0,0,0,0,0,0,0,0,0,0,0,0,0,0,0,0,0,0,0,0,0,0,0,0,0,0,0,0,0,0,0,0,0,0,0,0,0,0,0,0,0,0,0,0,0,0,0,0,0,0,0,0,0,0,0,0,0,0,0,0,0,0,0,0,0,0,0,0,0,0,0,0,0,0,0,0,0,0,0,0,0,0,0,0,0,0,0,0,0,0,0,0,0,0,0,0,0,0,0,0,0,0,0,0,0,0,0,0,0,0,0,0,0,0,0,0,0,0,0,0,0,0,0,0,0,0,0,0,0,0,0,0,0,0,0,0,0,0,0,0,0,0,0,0,0,0,0,0,0,0,0,0,0,0,0,0,0,0,0,0,0,0,0,0,0,0,0,0,0,0,0,0,0,0,0,0,0,0,0,0,0,0,0,0,0,0,0,0,0,0,0,0,0,0,0,0,0,0,0,0,0,0,0,0,0,0,0,0,0,0,0,0,0,0,0,0,0,0,0,0,0,0,0,0,0,0,0,0,0,0,0,0,0,0,0,0,0,0,0,0,0,0,0,0,0,0,0,0,0,0,0,0,0,0,0,0,0,0,0,0,0,0,0,0,0,0,0,0,0,0,0,0,0,0,0,0,0,0,0,0,0,0,0,0,0,0,0,0,0,0,0,0,0,0,0,0,0,0,0,0,0,0,0,0,0,0,0,0,0,0,0,0,0,0,0,0,0,0,0,0,0,0,0,0,0,0,0,0,0,0,0,0,0,0,0,0,0,0,0,0,0,0,0,0,0,0,0,0,0,0,0,0,0,0,0,0,0,0,0,0,0,0,0,0,0,0,0,0,0,0,0,0,0,0,0,0,0,0,0,0,0,0,0,0,0,0,0,0,0,0,0,0,0,0,0,0,0,0,0,0,0,0,0,0,0,0,0,0,0,0,0,0,0,0,0,0,0,0,0,0,0,0,0,0,0,0,0,0,0,0,0,0,0,0,0,0,0,0,0,0,0,0,0,0,0,0,0,0,0,0,0,0,0,0,0,0,0,0,0,0,0,0,0,0,0,0,0,0,0,0,0,0,0,0,0,0,0,0,0,0,0,0,0,0,0,0,0,0,0,0,0,0,0,0,0,0,0,0,0,0,0,0,0,0,0,0,0,0,0,0,0,0,0,0,0,0,0,0,0,0,0,0,0,0,0,0,0,0,0,0,0,0,0,0,0,0,0,0,0,0,0,0,0,0,0,0,0,0,0,0,0,0,0,0,0,0,0,0,0,0,0,0,0,0,0,0,0,0,0,0,0,0,0,0,0,0,0,0,0,0,0,0,0,0,0,0,0,0,0,0,0,0,0,0,0,0,0,0,0,0,0,0,0,0,0,0,0,0,0,0,0,0,0,0,0,0,0,0,0,0,0,0,0,0,0,0,0,0,0,0,0,0,0,0,0,0,0,0,0,0,0,0,0,0,0,0,0,0,0,0,0,0,0,0,0,0,0,0,0,0,0,0,0,0,0,0,0,0,0,0,0,0,0,0,0,0,0,0,0,0,0,0,0,0,0,0,0,0,0,0,0,0,0,0,0,0,0,0,0,0,0,0,0,0,0,0,0,0,0,0,0,0,0,0,0,0,0,0,0,0,0,0,0,0,0,0,0,0,0,0,0,0,0,0,0,0,0,0,0,0,0,0,0,0,0,0,0,0,0,0,0,0,0,0,0,0,0,0,0,0,0,0,0,0,0,0,0,0,0,0,0,0,0,0,0,0,0,0,0,0,0,0,0,0,0,0,0,0,0,0,0,0,0,0,0,0,0,0,0,0,0,0,0,0,0,0,0,0,0,0,0,0,0,0,0,0,0,0,0,0,0,0,0,0,0,0,0,0,0,0,0,0,0,0,0,0,0,0,0,0,0,0,0,0,0,0,0,0,0,0,0,0,0,0,0,0,0,0,0,0,0,0,0,0,0,0,0,0,0,0,0,0,0,0,0,0,0,0,0,0,0,0,0,0,0,0,0,0,0,0,0,0,0,0,0,0,0,0,0,0,0,0,0,0,0,0,0,0,0,0,0,0,0,0,0,0,0,0,0,0,0,0,0,0,0,0,0,0,0,0,0,0,0,0,0,0,0,0,0,0,0,0,0,0,0,0,0,0,0,0,0,0,0,0,0,0,0,0,0,0,0,0,0,0,0,0,0,0,0,0,0,0,0,0,0,0,0,0,0,0,0,0,0,0,0,0,0,0,0,0,0,0,0,0,0,0,0,0,0,0,0,0,0,0,0,0,0,0,0,0,0,0,0,0,0,0,0,0,0,0,0,0,0,0,0,0,0,0,0,0,0,0,0,0,0,0,0,0,0,0,0,0,0,0,0,0,0,0,0,0,0,0,0,0,0,0,0,0,0,0,0,0,0,0,0,0,0,0,0,0,0,0,0,0,0,0,0,0,0,0,0,0,0,0,0,0,0,0,0,0,0,0,0,0,0,0,0,0,0,0,0,0,0,0,0,0,0,0,0,0,0,0,0,0,0,0,0,0,0,0,0,0,0,0,0,0,0,0,0,0,0,0,0,0,0,0,0,0,0,0,0,0,0,0,0,0,0,0,0,0,0,0,0,0,0,0,0,0,0,0,0,0,0,0,0,0,0,0,0,0,0,0,0,0,0,0,0,0,0,0,0,0,0,0,0,0,0,0,0,0,0,0,0,0,0,0,0,0,0,0,0,0,0,0,0,0,0,0,0,0,0,0,0,0,0,0,0,0,0,0,0,0,0,0,0,0,0,0,0,0,0,0,0,0,0,0,0,0,0,0,0,0,0,0,0,0,0,0,0,0,0,0,0,0,0,0,0,0,0,0,0,0,0,0,0,0,0,0,0,0,0,0,0,0,0,0,0,0,0,0,0,0,0,0,0,0,0,0,0,0,0,0,0,0,0,0,0,0,0,0,0,0,0,0,0,0,0,0,0,0,0,0,0,0,0,0,0,0,0,0,0,0,0,0,0,0,0,0,0,0,0,0,0,0,0,0,0,0,0,0,0,0,0,0,0,0,0,0,0,0,0,0,0,0,0,0,0,0,0,0,0,0,0,0,0,0,0,0,0,0,0,0,0,0,0,0,0,0,0,0,0,0,0,0,0,0,0,0,0,0,0,0,0,0,0,0,0,0,0,0,0,0,0,0,0,0,0,0,0,0,0,0,0,0,0,0,0,0,0,0,0,0,0,0,0,0,0,0,0,0,0,0,0,0,0,0,0,0,0,0,0,0,0,0,0,0,0,0,0,0,0,0,0,0,0,0,0,0,0,0,0,0,0,0,0,0,0,0,0,0,0,0,0,0,0,0,0,0,0,0,0,0,0,0,0,0,0,0,0,0,0,0,0,0,0,0,0,0,0,0,0,0,0,0,0,0,0,0,0,0,0,0,0,0,0,0,0,0,0,0,0,0,0,0,0,0,0,0,0,0,0,0,0,0,0,0,0,0,0,0,0,0,0,0,0,0,0,0,0,0,0,0,0,0,0,0,0,0,0,0,0,0,0,0,0,0,0,0,0,0,0,0,0,0,0,0,0,0,0,0,0,0,0,0,0,0,0,0,0,0,0,0,0,0,0,0,0,0,0,0,0,0,0,0,0,0,0,0,0,0,0,0,0,0,0,0,0,0,0,0,0,0,0,0,0,0,0,0,0,0,0,0,0,0,0,0,0,0,0,0,0,0,0,0,0,0,0,0,0,0,0,0,0,0,0,0,0,0,0,0,0,0,0,0,0,0,0,0,0,0,0,0,0,0,0,0,0,0,0,0,0,0,0,0,0,0,0,0,0,0,0,0,0,0,0,0,0,0,0,0,0,0,0,0,0,0,0,0,0,0,0,0,0,0,0,0,0,0,0,0,0,0,0,0,0,0,0,0,0,0,0,0,0,0,0,0,0,0,0,0,0,0,0,0,0,0,0,0,0,0,0,0,0,0,0,0,0,0,0,0,0,0,0,0,0,0,0,0,0,0,0,0,0,0,0,0,0,0,0,0,0,0,0,0,0,0,0,0,0,0,0,0,0,0,0,0,0,0,0,0,0,0,0,0,0,0,0,0,0,0,0,0,0,0,0,0,0,0,0,0,0,0,0,0,0,0,0,0,0,0,0,0,0,0,0,0,0,0,0,0,0,0,0,0,0,0,0,0,0,0,0,0,0,0,0,0,0,0,0,0,0,0,0,0,0,0,0,0,0,0,0,0,0,0,0,0,0,0,0,0,0,0,0,0,0,0,0,0,0,0,0,0,0,0,0,0,0,0,0,0,0,0,0,0,0,0,0,0,0,0,0,0,0,0,0,0,0,0,0,0,0,0,0,0,0,0,0,0,0,0,0,0,0,0,0,0,0,0,0,0,0,0,0,0,0,0,0,0,0,0,0,0,0,0,0,0,0,0,0,0,0,0,0,0,0,0,0,0,0,0,0,0,0,0,0,0,0,0,0,0,0,0,0,0,0,0,0,0,0,0,0,0,0,0,0,0,0,0,0,0,0,0,0,0,0,0,0,0,0,0,0,0,0,0,0,0,0,0,0,0,0,0,0,0,0,0,0,0,0,0,0,0,0,0,0,0,0,0,0,0,0,0,0,0,0,0,0,0,0,0,0,0,0,0,0,0,0,0,0,0,0,0,0,0,0,0,0,0,0,0,0,0,0,0,0,0,0,0,0,0,0,0,0,0,0,0,0,0,0,0,0,0,0,0,0,0,0,0,0,0,0,0,0,0,0,0,0,0,0,0,0,0,0,0,0,0,0,0,0,0,0,0,0,0,0,0,0,0,0,0,0,0,0,0,0,0,0,0,0,0,0,0,0,0,0,0,0,0,0,0,0,0,0,0,0,0,0,0,0,0,0,0,0,0,0,0,0,0,0,0,0,0,0,0,0,0,0,0,0,0,0,0,0,0,0,0,0,0,0,0,0,0,0,0,0,0,0,0,0,0,0,0,0,0,0,0,0,0,0,0,0,0,0,0,0,0,0,0,0,0,0,0,0,0,0,0,0,0,0,0,0,0,0,0,0,0,0,0,0,0,0,0,0,0,0,0,0,0,0,0,0,0,0,0,0,0,0,0,0,0,0,0,0,0,0,0,0,0,0,0,0,0,0,0,0,0,0,0,0,0,0,0,0,0,0,0,0,0,0,0,0,0,0,0,0,0,0,0,0,0,0,0,0,0,0,0,0,0,0,0,0,0,0,0,0,0,0,0,0,0,0,0,0,0,0,0,0,0,0,0,0,0,0,0,0,0,0,0,0,0,0,0,0,0,0,0,0,0,0,0,0,0,0,0,0,0,0,0,0,0,0,0,0,0,0,0,0,0,0,0,0,0,0,0,0,0,0,0,0,0,0,0,0,0,0,0,0,0,0,0,0,0,0,0,0,0,0,0,0,0,0,0,0,0,0,0,0,0,0,0,0,0,0,0,0,0,0,0,0,0,0,0,0,0,0,0,0,0,0,0,0,0,0,0,0,0,0,0,0,0,0,0,0,0,0,0,0,0,0,0,0,0,0,0,0,0,0,0,0,0,0,0,0,0,0,0,0,0,0,0,0,0,0,0,0,0,0,0,0,0,0,0,0,0,0,0,0,0,0,0,0,0,0,0,0,0,0,0,0,0,0,0,0,0,0,0,0,0,0,0,0,0,0,0,0,0,0,0,0,0,0,0,0,0,0,0,0,0,0,0,0,0,0,0,0,0,0,0,0,0,0,0,0,0,0,0,0,0,0,0,0,0,0,0,0,0,0,0,0,0,0,0,0,0,0,0,0,0,0,0,0,0,0,0,0,0,0,0,0,0,0,0,0,0,0,0,0,0,0,0,0,0,0,0,0,0,0,0,0,0,0,0,0,0,0,0,0,0,0,0,0,0,0,0,0,0,0,0,0,0,0,0,0,0,0,0,0,0,0,0,0,0,0,0,0,0,0,0,0,0,0,0,0,0,0,0,0,0,0,0,0,0,0,0,0,0,0,0,0,0,0,0,0,0,0,0,0,0,0,0,0,0,0,0,0,0,0,0,0,0,0,0,0,0,0,0,0,0,0,0,0,0,0,0,0,0,0,0,0,0,0,0,0,0,0,0,0,0,0,0,0,0,0,0,0,0,0,0,0,0,0,0,0,0,0,0,0,0,0,0,0,0,0,0,0,0,0,0,0,0,0,0,0,0,0,0,0,0,0,0,0,0,0,0,0,0,0,0,0,0,0,0,0,0,0,0,0,0,0,0,0,0,0,0,0,0,0,0,0,0,0,0,0,0,0,0,0,0,0,0,0,0,0,0,0,0,0,0,0,0,0,0,0,0,0,0,0,0,0,0,0,0,0,0,0,0,0,0,0,0,0,0,0,0,0,0,0,0,0,0,0,0,0,0,0,0,0,0,0,0,0,0,0,0,0,0,0,0,0,0,0,0,0,0,0,0,0,0,0,0,0,0,0,0,0,0,0,0,0,0,0,0,0,0,0,0,0,0,0,0,0,0,0,0,0,0,0,0,0,0,0,0,0,0,0,0,0,0,0,0,0,0,0,0,0,0,0,0,0,0,0,0,0,0,0,0,0,0,0,0,0,0,0,0,0,0,0,0,0,0,0,0,0,0,0,0,0,0,0,0,0,0,0,0,0,0,0,0,0,0,0,0,0,0,0,0,0,0,0,0,0,0,0,0,0,0,0,0,0,0,0,0,0,0,0,0,0,0,0,0,0,0,0,0,0,0,0,0,0,0,0,0,0,0,0,0,0,0,0,0,0,0,0,0,0,0,0,0,0,0,0,0,0,0,0,0,0,0,0,0,0,0,0,0,0,0,0,0,0,0,0,0,0,0,0,0,0,0,0,0,0,0,0,0,0,0,0,0,0,0,0,0,0,0,0,0,0,0,0,0,0,0,0,0,0,0,0,0,0,0,0,0,0,0,0,0,0,0,0,0,0,0,0,0,0,0,0,0,0,0,0,0,0,0,0,0,0,0,0,0,0,0,0,0,0,0,0,0,0,0,0,0,0,0,0,0,0,0,0,0,0,0,0,0,0,0,0,0,0,0,0,0,0,0,0,0,0,0,0,0,0,0,0,0,0,0,0,0,0,0,0,0,0,0,0,0,0,0,0,0,0,0,0,0,0,0,0,0,0,0,0,0,0,0,0,0,0,0,0,0,0,0,0,0,0,0,0,0,0,0,0,0,0,0,0,0,0,0,0,0,0,0,0,0,0,0,0,0,0,0,0,0,0,0,0,0,0,0,0,0,0,0,0,0,0,0,0,0,0,0,0,0,0,0,0,0,0,0,0,0,0,0,0,0,0,0,0,0,0,0,0,0,0,0,0,0,0,0,0,0,0,0,0,0,0,0,0,0,0,0,0,0,0,0,0,0,0,0,0,0,0,0,0,0,0,0,0,0,0,0,0,0,0,0,0,0,0,0,0,0,0,0,0,0,0,0,0,0,0,0,0,0,0,0,0,0,0,0,0,0,0,0,0,0,0,0,0,0,0,0,0,0,0,0,0,0,0,0,0,0,0,0,0,0,0,0,0,0,0,0,0,0,0,0,0,0,0,0,0,0,0,0,0,0,0,0,0,0,0,0,0,0,0,0,0,0,0,0,0,0,0,0,0,0,0,0,0,0,0,0,0,0,0,0,0,0,0,0,0,0,0,0,0,0,0,0,0,0,0,0,0,0,0,0,0,0,0,0,0,0,0,0,0,0,0,0,0,0,0,0,0,0,0,0,0,0,0,0,0,0,0,0,0,0,0,0,0,0,0,0,0,0,0,0,0,0,0,0,0,0,0,0,0,0,0,0,0,0,0,0,0,0,0,0,0,0,0,0,0,0,0,0,0,0,0,0,0,0,0,0,0,0,0,0,0,0,0,0,0,0,0,0,0,0,0,0,0,0,0,0,0,0,0,0,0,0,0,0,0,0,0,0,0,0,0,0,0,0,0,0,0,0,0,0,0,0,0,0,0,0,0,0,0,0,0,0,0,0,0,0,0,0,0,0,0,0,0,0,0,0,0,0,0,0,0,0,0,0,0,0,0,0,0,0,0,0,0,0,0,0,0,0,0,0,0,0,0,0,0,0,0,0,0,0,0,0,0,0,0,0,0,0,0,0,0,0,0,0,0,0,0,0,0,0,0,0,0,0,0,0,0,0,0,0,0,0,0,0,0,0,0,0,0,0,0,0,0,0,0,0,0,0,0,0,0,0,0,0,0,0,0,0,0,0,0,0,0,0,0,0,0,0,0,0,0,0,0,0,0,0,0,0,0,0,0,0,0,0,0,0,0,0,0,0,0,0,0,0,0,0,0,0,0,0,0,0,0,0,0,0,0,0,0,0,0,0,0,0,0,0,0,0,0,0,0,0,0,0,0,0,0,0,0,0,0,0,0,0,0,0,0,0,0,0,0,0,0,0,0,0,0,0,0,0,0,0,0,0,0,0,0,0,0,0,0,0,0,0,0,0,0,0,0,0,0,0,0,0,0,0,0,0,0,0,0,0,0,0,0,0,0,0,0,0,0,0,0,0,0,0,0,0,0,0,0,0,0,0,0,0,0,0,0,0,0,0,0,0,0,0,0,0,0,0,0,0,0,0,0,0,0,0,0,0,0,0,0,0,0,0,0,0,0,0,0,0,0,0,0,0,0,0,0,0,0,0,0,0,0,0,0,0,0,0,0,0,0,0,0,0,0,0,0,0,0,0,0,0,0,0,0,0,0,0,0,0,0,0,0,0,0,0,0,0,0,0,0,0,0,0,0,0,0,0,0,0,0,0,0,0,0,0,0,0,0,0,0,0,0,0,0,0,0,0,0,0,0,0,0,0,0,0,0,0,0,0,0,0,0,0,0,0,0,0,0,0,0,0,0,0,0,0,0,0,0,0,0,0,0,0,0,0,0,0,0,0,0,0,0,0,0,0,0,0,0,0,0,0,0,0,0,0,0,0,0,0,0,0,0,0,0,0,0,0,0,0,0,0,0,0,0,0,0,0,0,0,0,0,0,0,0,0,0,0,0,0,0,0,0,0,0,0,0,0,0,0,0,0,0,0,0,0,0,0,0,0,0,0,0,0,0,0,0,0,0,0,0,0,0,0,0,0,0,0,0,0,0,0,0,0,0,0,0,0,0,0,0,0,0,0,0,0,0,0,0,0,0,0,0,0,0,0,0,0,0,0,0,0,0,0,0,0,0,0,0,0,0,0,0,0,0,0,0,0,0,0,0,0,0,0,0,0,0,0,0,0,0,0,0,0,0,0,0,0,0,0,0,0,0,0,0,0,0,0,0,0,0,0,0,0,0,0,0,0,0,0,0,0,0,0,0,0,0,0,0,0,0,0,0,0,0,0,0,0,0,0,0,0,0,0,0,0,0,0,0,0,0,0,0,0,0,0,0,0,0,0,0,0,0,0,0,0,0,0,0,0,0,0,0,0,0,0,0,0,0,0,0,0,0,0,0,0,0,0,0,0,0,0,0,0,0,0,0,0,0,0,0,0,0,0,0,0,0,0,0,0,0,0,0,0,0,0,0,0,0,0,0,0,0,0,0,0,0,0,0,0,0,0,0,0,0,0,0,0,0,0,0,0,0,0,0,0,0,0,0,0,0,0,0,0,0,0,0,0,0,0,0,0,0,0,0,0,0,0,0,0,0,0,0,0,0,0,0,0,0,0,0,0,0,0,0,0,0,0,0,0,0,0,0,0,0,0,0,0,0,0,0,0,0,0,0,0,0,0,0,0,0,0,0,0,0,0,0,0,0,0,0,0,0,0,0,0,0,0,0,0,0,0,0,0,0,0,0,0,0,0,0,0,0,0,0,0,0,0,0,0,0,0,0,0,0,0,0,0,0,0,0,0,0,0,0,0,0,0,0,0,0,0,0,0,0,0,0,0,0,0,0,0,0,0,0,0,0,0,0,0,0,0,0,0,0,0,0,0,0,0,0,0,0,0,0,0,0,0,0,0,0,0,0,0,0,0,0,0,0,0,0,0,0,0,0,0,0,0,0,0,0,0,0,0,0,0,0,0,0,0,0,0,0,0,0,0,0,0,0,0,0,0,0,0,0,0,0,0,0,0,0,0,0,0,0,0,0,0,0,0,0,0,0,0,0,0,0,0,0,0,0,0,0,0,0,0,0,0,0,0,0,0,0,0,0,0,0,0,0,0,0,0,0,0,0,0,0,0,0,0,0,0,0,0,0,0,0,0,0,0,0,0,0,0,0,0,0,0,0,0,0,0,0,0,0,0,0,0,0,0,0,0,0,0,0,0,0,0,0,0,0,0,0,0,0,0,0,0,0,0,0,0,0,0,0,0,0,0,0,0,0,0,0,0,0,0,0,0,0,0,0,0,0,0,0,0,0,0,0,0,0,0,0,0,0,0,0,0,0,0,0,0,0,0,0,0,0,0,0,0,0,0,0,0,0,0,0,0,0,0,0,0,0,0,0,0,0,0,0,0,0,0,0,0,0,0,0,0,0,0,0,0,0,0,0,0,0,0,0,0,0,0,0,0,0,0,0,0,0,0,0,0,0,0,0,0,0,0,0,0,0,0,0,0,0,0,0,0,0,0,0,0,0,0,0,0,0,0,0,0,0,0,0,0,0,0,0,0,0,0,0,0,0,0,0,0,0,0,0,0,0,0,0,0,0,0,0,0,0,0,0,0,0,0,0,0,0,0,0,0,0,0,0,0,0,0,0,0,0,0,0,0,0,0,0,0,0,0,0,0,0,0,0,0,0,0,0,0,0,0,0,0,0,0,0,0,0,0,0,0,0,0,0,0,0,0,0,0,0,0,0,0,0,0,0,0,0,0,0,0,0,0,0,0,0,0,0,0,0,0,0,0,0,0,0,0,0,0,0,0,0,0,0,0,0,0,0,0,0,0,0,0,0,0,0,0,0,0,0,0,0,0,0,0,0,0,0,0,0,0,0,0,0,0,0,0,0,0,0,0,0,0,0,0,0,0,0,0,0,0,0,0,0,0,0,0,0,0,0,0,0,0,0,0,0,0,0,0,0,0,0,0,0,0,0,0,0,0,0,0,0,0,0,0,0,0,0,0,0,0,0,0,0,0,0,0,0,0,0,0,0,0,0,0,0,0,0,0,0,0,0,0,0,0,0,0,0,0,0,0,0,0,0,0,0,0,0,0,0,0,0,0,0,0,0,0,0,0,0,0,0,0,0,0,0,0,0,0,0,0,0,0,0,0,0,0,0,0,0,0,0,0,0,0,0,0,0,0,0,0,0,0,0,0,0,0,0,0,0,0,0,0,0,0,0,0,0,0,0,0,0,0,0,0,0,0,0,0,0,0,0,0,0,0,0,0,0,0,0,0,0,0,0,0,0,0,0,0,0,0,0,0,0,0,0,0,0,0,0,0,0,0,0,0,0,0,0,0,0,0,0,0,0,0,0,0,0,0,0,0,0,0,0,0,0,0,0,0,0,0,0,0,0,0,0,0,0,0,0,0,0,0,0,0,0,0,0,0,0,0,0,0,0,0,0,0,0,0,0,0,0,0,0,0,0,0,0,0,0,0,0,0,0,0,0,0,0,0,0,0,0,0,0,0,0,0,0,0,0,0,0,0,0,0,0,0,0,0,0,0,0,0,0,0,0,0,0,0,0,0,0,0,0,0,0,0,0,0,0,0,0,0,0,0,0,0,0,0,0,0,0,0,0,0,0,0,0,0,0,0,0,0,0,0,0,0,0,0,0,0,0,0,0,0,0,0,0,0,0,0,0,0,0,0,0,0,0,0,0,0,0,0,0,0,0,0,0,0,0,0,0,0,0,0,0,0,0,0,0,0,0,0,0,0,0,0,0,0,0,0,0,0,0,0,0,0,0,0,0,0,0,0,0,0,0,0,0,0,0,0,0,0,0,0,0,0,0,0,0,0,0,0,0,0,0,0,0,0,0,0,0,0,0,0,0,0,0,0,0,0,0,0,0,0,0,0,0,0,0,0,0,0,0,0,0,0,0,0,0,0,0,0,0,0,0,0,0,0,0,0,0,0,0,0,0,0,0,0,0,0,0,0,0,0,0,0,0,0,0,0,0,0,0,0,0,0,0,0,0,0,0,0,0,0,0,0,0,0,0,0,0,0,0,0,0,0,0,0,0,0,0,0,0,0,0,0,0,0,0,0,0,0,0,0,0,0,0,0,0,0,0,0,0,0,0,0,0,0,0,0,0,0,0,0,0,0,0,0,0,0,0,0,0,0,0,0,0,0,0,0,0,0,0,0,0,0,0,0,0,0,0,0,0,0,0,0,0,0,0,0,0,0,0,0,0,0,0,0,0,0,0,0,0,0,0,0,0,0,0,0,0,0,0,0,0,0,0,0,0,0,0,0,0,0,0,0,0,0,0,0,0,0,0,0,0,0,0,0,0,0,0,0,0,0,0,0,0,0,0,0,0,0,0,0,0,0,0,0,0,0,0,0,0,0,0,0,0,0,0,0,0,0,0,0,0,0,0,0,0,0,0,0,0,0,0,0,0,0,0,0,0,0,0,0,0,0,0,0,0,0,0,0,0,0,0,0,0,0,0,0,0,0,0,0,0,0,0,0,0,0,0,0,0,0,0,0,0,0,0,0,0,0,0,0,0,0,0,0,0,0,0,0,0,0,0,0,0,0,0,0,0,0,0,0,0,0,0,0,0,0,0,0,0,0,0,0,0,0,0,0,0,0,0,0,0,0,0,0,0,0,0,0,0,0,0,0,0,0,0,0,0,0,0,0,0,0,0,0,0,0,0,0,0,0,0,0,0,0,0,0,0,0,0,0,0,0,0,0,0,0,0,0,0,0,0,0,0,0,0,0,0,0,0,0,0,0,0,0,0,0,0,0,0,0,0,0,0,0,0,0,0,0,0,0,0,0,0,0,0,0,0,0,0,0,0,0,0,0,0,0,0,0,0,0,0,0,0,0,0,0,0,0,0,0,0,0,0,0,0,0,0,0,0,0,0,0,0,0,0,0,0,0,0,0,0,0,0,0,0,0,0,0,0,0,0,0,0,0,0,0,0,0,0,0,0,0,0,0,0,0,0,0,0,0,0,0,0,0,0,0,0,0,0,0,0,0,0,0,0,0,0,0,0,0,0,0,0,0,0,0,0,0,0,0,0,0,0,0,0,0,0,0,0,0,0,0,0,0,0,0,0,0,0,0,0,0,0,0,0,0,0,0,0,0,0,0,0,0,0,0,0,0,0,0,0,0,0,0,0,0,0,0,0,0,0,0,0,0,0,0,0,0,0,0,0,0,0,0,0,0,0,0,0,0,0,0,0,0,0,0,0,0,0,0,0,0,0,0,0,0,0,0,0,0,0,0,0,0,0,0,0,0,0,0,0,0,0,0,0,0,0,0,0,0,0,0,0,0,0,0,0,0,0,0,0,0,0,0,0,0,0,0,0,0,0,0,0,0,0,0,0,0,0,0,0,0,0,0,0,0,0,0,0,0,0,0,0,0,0,0,0,0,0,0,0,0,0,0,0,0,0,0,0,0,0,0,0,0,0,0,0,0,0,0,0,0,0,0,0,0,0,0,0,0,0,0,0,0,0,0,0,0,0,0,0,0,0,0,0,0,0,0,0,0,0,0,0,0,0,0,0,0,0,0,0,0,0,0,0,0,0,0,0,0,0,0,0,0,0,0,0,0,0,0,0,0,0,0,0,0,0,0,0,0,0,0,0,0,0,0,0,0,0,0,0,0,0,0,0,0,0,0,0,0,0,0,0,0,0,0,0,0,0,0,0,0,0,0,0,0,0,0,0,0,0,0,0,0,0,0,0,0,0,0,0,0,0,0,0,0,0,0,0,0,0,0,0,0,0,0,0,0,0,0,0,0,0,0,0,0,0,0,0,0,0,0,0,0,0,0,0,0,0,0,0,0,0,0,0,0,0,0,0,0,0,0,0,0,0,0,0,0,0,0,0,0,0,0,0,0,0,0,0,0,0,0,0,0,0,0,0,0,0,0,0,0,0,0,0,0,0,0,0,0,0,0,0,0,0,0,0,0,0,0,0,0,0,0,0,0,0,0,0,0,0,0,0,0,0,0,0,0,0,0,0,0,0,0,0,0,0,0,0,0,0,0,0,0,0,0,0,0,0,0,0,0,0,0,0,0,0,0,0,0,0,0,0,0,0,0,0,0,0,0,0,0,0,0,0,0,0,0,0,0,0,0,0,0,0,0,0,0,0,0,0,0,0,0,0,0,0,0,0,0,0,0,0,0,0,0,0,0,0,0,0,0,0,0,0,0,0,0,0,0,0,0,0,0,0,0,0,0,0,0,0,0,0,0,0,0,0,0,0,0,0,0,0,0,0,0,0,0,0,0,0,0,0,0,0,0,0,0,0,0,0,0,0,0,0,0,0,0,0,0,0,0,0,0,0,0,0,0,0,0,0,0,0,0,0,0,0,0,0,0,0,0,0,0,0,0,0,0,0,0,0,0,0,0,0,0,0,0,0,0,0,0,0,0,0,0,0,0,0,0,0,0,0,0,0,0,0,0,0,0,0,0,0,0,0,0,0,0,0,0,0,0,0,0,0,0,0,0,0,0,0,0,0,0,0,0,0,0,0,0,0,0,0,0,0,0,0,0,0,0,0,0,0,0,0,0,0,0,0,0,0,0,0,0,0,0,0,0,0,0,0,0,0,0,0,0,0,0,0,0,0,0,0,0,0,0,0,0,0,0,0,0,0,0,0,0,0,0,0,0,0,0,0,0,0,0,0,0,0,0,0,0,0,0,0,0,0,0,0,0,0,0,0,0,0,0,0,0,0,0,0,0,0,0,0,0,0,0,0,0,0,0,0,0,0,0,0,0,0,0,0,0,0,0,0,0,0,0,0,0,0,0,0,0,0,0,0,0,0,0,0,0,0,0,0,0,0,0,0,0,0,0,0,0,0,0,0,0,0,0,0,0,0,0,0,0,0,0,0,0,0,0,0,0,0,0,0,0,0,0,0,0,0,0,0,0,0,0,0,0,0,0,0,0,0,0,0,0,0,0,0,0,0,0,0,0,0,0,0,0,0,0,0,0,0,0,0,0,0,0,0,0,0,0,0,0,0,0,0,0,0,0,0,0,0,0,0,0,0,0,0,0,0,0,0,0,0,0,0,0,0,0,0,0,0,0,0,0,0,0,0,0,0,0,0,0,0,0,0,0,0,0,0,0,0,0,0,0,0,0,0,0,0,0,0,0,0,0,0,0,0,0,0,0,0,0,0,0,0,0,0,0,0,0,0,0,0,0,0,0,0,0,0,0,0,0,0,0,0,0,0,0,0,0,0,0,0,0,0,0,0,0,0,0,0,0,0,0,0,0,0,0,0,0,0,0,0,0,0,0,0,0,0,0,0,0,0,0,0,0,0,0,0,0,0,0,0,0,0,0,0,0,0,0,0,0,0,0,0,0,0,0,0,0,0,0,0,0,0,0,0,0,0,0,0,0,0,0,0,0,0,0,0,0,0,0,0,0,0,0,0,0,0,0,0,0,0,0,0,0,0,0,0,0,0,0,0,0,0,0,0,0,0,0,0,0,0,0,0,0,0,0,0,0,0,0,0,0,0,0,0,0,0,0,0,0,0,0,0,0,0,0,0,0,0,0,0,0,0,0,0,0,0,0,0,0,0,0,0,0,0,0,0,0,0,0,0,0,0,0,0,0,0,0,0,0,0,0,0,0,0,0,0,0,0,0,0,0,0,0,0,0,0,0,0,0,0,0,0,0,0,0,0,0,0,0,0,0,0,0,0,0,0,0,0,0,0,0,0,0,0,0,0,0,0,0,0,0,0,0,0,0,0,0,0,0,0,0,0,0,0,0,0,0,0,0,0,0,0,0,0,0,0,0,0,0,0,0,0,0,0,0,0,0,0,0,0,0,0,0,0,0,0,0,0,0,0,0,0,0,0,0,0,0,0,0,0,0,0,0,0,0,0,0,0,0,0,0,0,0,0,0,0,0,0,0,0,0,0,0,0,0,0,0,0,0,0,0,0,0,0,0,0,0,0,0,0,0,0,0,0,0,0,0,0,0,0,0,0,0,0,0,0,0,0,0,0,0,0,0,0,0,0,0,0,0,0,0,0,0,0,0,0,0,0,0,0,0,0,0,0,0,0,0,0,0,0,0,0,0,0,0,0,0,0,0,0,0,0,0,0,0,0,0,0,0,0,0,0,0,0,0,0,0,0,0,0,0,0,0,0,0,0,0,0,0,0,0,0,0,0,0,0,0,0,0,0,0,0,0,0,0,0,0,0,0,0,0,0,0,0,0,0,0,0,0,0,0,0,0,0,0,0,0,0,0,0,0,0,0,0,0,0,0,0,0,0,0,0,0,0,0,0,0,0,0,0,0,0,0,0,0,0,0,0,0,0,0,0,0,0,0,0,0,0,0,0,0,0,0,0,0,0,0,0,0,0,0,0,0,0,0,0,0,0,0,0,0,0,0,0,0,0,0,0,0,0,0,0,0,0,0,0,0,0,0,0,0,0,0,0,0,0,0,0,0,0,0,0,0,0,0,0,0,0,0,0,0,0,0,0,0,0,0,0,0,0,0,0,0,0,0,0,0,0,0,0,0,0,0,0,0,0,0,0,0,0,0,0,0,0,0,0,0,0,0,0,0,0,0,0,0,0,0,0,0,0,0,0,0,0,0,0,0,0,0,0,0,0,0,0,0,0,0,0,0,0,0,0,0,0,0,0,0,0,0,0,0,0,0,0,0,0,0,0,0,0,0,0,0,0,0,0,0,0,0,0,0,0,0,0,0,0,0,0,0,0,0,0,0,0,0,0,0,0,0,0,0,0,0,0,0,0,0,0,0,0,0,0,0,0,0,0,0,0,0,0,0,0,0,0,0,0,0,0,0,0,0,0,0,0,0,0,0,0,0,0,0,0,0,0,0,0,0,0,0,0,0,0,0,0,0,0,0,0,0,0,0,0,0,0,0,0,0,0,0,0,0,0,0,0,0,0,0,0,0,0,0,0,0,0,0,0,0,0,0,0,0,0,0,0,0,0,0,0,0,0,0,0,0,0,0,0,0,0,0,0,0,0,0,0,0,0,0,0,0,0,0,0,0,0,0,0,0,0,0,0,0,0,0,0,0,0,0,0,0,0,0,0,0,0,0,0,0,0,0,0,0,0,0,0,0,0,0,0,0,0,0,0,0,0,0,0,0,0,0,0,0,0,0,0,0,0,0,0,0,0,0,0,0,0,0,0,0,0,0,0,0,0,0,0,0,0,0,0,0,0,0,0,0,0,0,0,0,0,0,0,0,0,0,0,0,0,0,0,0,0,0,0,0,0,0,0,0,0,0,0,0,0,0,0,0,0,0,0,0,0,0,0,0,0,0,0,0,0,0,0,0,0,0,0,0,0,0,0,0,0,0,0,0,0,0,0,0,0,0,0,0,0,0,0,0,0,0,0,0,0,0,0,0,0,0,0,0,0,0,0,0,0,0,0,0,0,0,0,0,0,0,0,0,0,0,0,0,0,0,0,0,0,0,0,0,0,0,0,0,0,0,0,0,0,0,0,0,0,0,0,0,0,0,0,0,0,0,0,0,0,0,0,0,0,0,0,0,0,0,0,0,0,0,0,0,0,0,0,0,0,0,0,0,0,0,0,0,0,0,0,0,0,0,0,0,0,0,0,0,0,0,0,0,0,0,0,0,0,0,0,0,0,0,0,0,0,0,0,0,0,0,0,0,0,0,0,0,0,0,0,0,0,0,0,0,0,0,0,0,0,0,0,0,0,0,0,0,0,0,0,0,0,0,0,0,0,0,0,0,0,0,0,0,0,0,0,0,0,0,0,0,0,0,0,0,0,0,0,0,0,0,0,0,0,0,0,0,0,0,0,0,0,0,0,0,0,0,0,0,0,0,0,0,0,0,0,0,0,0,0,0,0,0,0,0,0,0,0,0,0,0,0,0,0,0,0,0,0,0,0,0,0,0,0,0,0,0,0,0,0,0,0,0,0,0,0,0,0,0,0,0,0,0,0,0,0,0,0,0,0,0,0,0,0,0,0,0,0,0,0,0,0,0,0,0,0,0,0,0,0,0,0,0,0,0,0,0,0,0,0,0,0,0,0,0,0,0,0,0,0,0,0,0,0,0,0,0,0,0,0,0,0,0,0,0,0,0,0,0,0,0,0,0,0,0,0,0,0,0,0,0,0,0,0,0,0,0,0,0,0,0,0,0,0,0,0,0,0,0,0,0,0,0,0,0,0,0,0,0,0,0,0,0,0,0,0,0,0,0,0,0,0,0,0,0,0,0,0,0,0,0,0,0,0,0,0,0,0,0,0,0,0,0,0,0,0,0,0,0,0,0,0,0,0,0,0,0,0,0,0,0,0,0,0,0,0,0,0,0,0,0,0,0,0,0,0,0,0,0,0,0,0,0,0,0,0,0,0,0,0,0,0,0,0,0,0,0,0,0,0,0,0,0,0,0,0,0,0,0,0,0,0,0,0,0,0,0,0,0,0,0,0,0,0,0,0,0,0,0,0,0,0,0,0,0,0,0,0,0,0,0,0,0,0,0,0,0,0,0,0,0,0,0,0,0,0,0,0,0,0,0,0,0,0,0,0,0,0,0,0,0,0,0,0,0,0,0,0,0,0,0,0,0,0,0,0,0,0,0,0,0,0,0,0,0,0,0,0,0,0,0,0,0,0,0,0,0,0,0,0,0,0,0,0,0,0,0,0,0,0,0,0,0,0,0,0,0,0,0,0,0,0,0,0,0,0,0,0,0,0,0,0,0,0,0,0,0,0,0,0,0,0,0,0,0,0,0,0,0,0,0,0,0,0,0,0,0,0,0,0,0,0,0,0,0,0,0,0,0,0,0,0,0,0,0,0,0,0,0,0,0,0,0,0,0,0,0,0,0,0,0,0,0,0,0,0,0,0,0,0,0,0,0,0,0,0,0,0,0,0,0,0,0,0,0,0,0,0,0,0,0,0,0,0,0,0,0,0,0,0,0,0,0,0,0,0,0,0,0,0,0,0,0,0,0,0,0,0,0,0,0,0,0,0,0,0,0,0,0,0,0,0,0,0,0,0,0,0,0,0,0,0,0,0,0,0,0,0,0,0,0,0,0,0,0,0,0,0,0,0,0,0,0,0,0,0,0,0,0,0,0,0,0,0,0,0,0,0,0,0,0,0,0,0,0,0,0,0,0,0,0,0,0,0,0,0,0,0,0,0,0,0,0,0,0,0,0,0,0,0,0,0,0,0,0,0,0,0,0,0,0,0,0,0,0,0,0,0,0,0,0,0,0,0,0,0,0,0,0,0,0,0,0,0,0,0,0,0,0,0,0,0,0,0,0,0,0,0,0,0,0,0,0,0,0,0,0,0,0,0,0,0,0,0,0,0,0,0,0,0,0,0,0,0,0,0,0,0,0,0,0,0,0,0,0,0,0,0,0,0,0,0,0,0,0,0,0,0,0,0,0,0,0,0,0,0,0,0,0,0,0,0,0,0,0,0,0,0,0,0,0,0,0,0,0,0,0,0,0,0,0,0,0,0,0,0,0,0,0,0,0,0,0,0,0,0,0,0,0,0,0,0,0,0,0,0,0,0,0,0,0,0,0,0,0,0,0,0,0,0,0,0,0,0,0,0,0,0,0,0,0,0,0,0,0,0,0,0,0,0,0,0,0,0,0,0,0,0,0,0,0,0,0,0,0,0,0,0,0,0,0,0,0,0,0,0,0,0,0,0,0,0,0,0,0,0,0,0,0,0,0,0,0,0,0,0,0,0,0,0,0,0,0,0,0,0,0,0,0,0,0,0,0,0,0,0,0,0,0,0,0,0,0,0,0,0,0,0,0,0,0,0,0,0,0,0,0,0,0,0,0,0,0,0,0,0,0,0,0,0,0,0,0,0,0,0,0,0,0,0,0,0,0,0,0,0,0,0,0,0,0,0,0,0,0,0,0,0,0,0,0,0,0,0,0,0,0,0,0,0,0,0,0,0,0,0,0,0,0,0,0,0,0,0,0,0,0,0,0,0,0,0,0,0,0,0,0,0,0,0,0,0,0,0,0,0,0,0,0,0,0,0,0,0,0,0,0,0,0,0,0,0,0,0,0,0,0,0,0,0,0,0,0,0,0,0,0,0,0,0,0,0,0,0,0,0,0,0,0,0,0,0,0,0,0,0,0,0,0,0,0,0,0,0,0,0,0,0,0,0,0,0,0,0,0,0,0,0,0,0,0,0,0,0,0,0,0,0,0,0,0,0,0,0,0,0,0,0,0,0,0,0,0,0,0,0,0,0,0,0,0,0,0,0,0,0,0,0,0,0,0,0,0,0,0,0,0,0,0,0,0,0,0,0,0,0,0,0,0,0,0,0,0,0,0,0,0,0,0,0,0,0,0,0,0,0,0,0,0,0,0,0,0,0,0,0,0,0,0,0,0,0,0,0,0,0,0,0,0,0,0,0,0,0,0,0,0,0,0,0,0,0,0,0,0,0,0,0,0,0,0,0,0,0,0,0,0,0,0,0,0,0,0,0,0,0,0,0,0,0,0,0,0,0,0,0,0,0,0,0,0,0,0,0,0,0,0,0,0,0,0,0,0,0,0,0,0,0,0,0,0,0,0,0,0,0,0,0,0,0,0,0,0,0,0,0,0,0,0,0,0,0,0,0,0,0,0,0,0,0,0,0,0,0,0,0,0,0,0,0,0,0,0,0,0,0,0,0,0,0,0,0,0,0,0,0,0,0,0,0,0,0,0,0,0,0,0,0,0,0,0,0,0,0,0,0,0,0,0,0,0,0,0,0,0,0,0,0,0,0,0,0,0,0,0,0,0,0,0,0,0,0,0,0,0,0,0,0,0,0,0,0,0,0,0,0,0,0,0,0,0,0,0,0,0,0,0,0,0,0,0,0,0,0,0,0,0,0,0,0,0,0,0,0,0,0,0,0,0,0,0,0,0,0,0,0,0,0,0,0,0,0,0,0,0,0,0,0,0,0,0,0,0,0,0,0,0,0,0,0,0,0,0,0,0,0,0,0,0,0,0,0,0,0,0,0,0,0,0,0,0,0,0,0,0,0,0,0,0,0,0,0,0,0,0,0,0,0,0,0,0,0,0,0,0,0,0,0,0,0,0,0,0,0,0,0,0,0,0,0,0,0,0,0,0,0,0,0,0,0,0,0,0,0,0,0,0,0,0,0,0,0,0,0,0,0,0,0,0,0,0,0,0,0,0,0,0,0,0,0,0,0,0,0,0,0,0,0,0,0,0,0,0,0,0,0,0,0,0,0,0,0,0,0,0,0,0,0,0,0,0,0,0,0,0,0,0,0,0,0,0,0,0,0,0,0,0,0,0,0,0,0,0,0,0,0,0,0,0,0,0,0,0,0,0,0,0,0,0,0,0,0,0,0,0,0,0,0,0,0,0,0,0,0,0,0,0,0,0,0,0,0,0,0,0,0,0,0,0,0,0,0,0,0,0,0,0,0,0,0,0,0,0,0,0,0,0,0,0,0,0,0,0,0,0,0,0,0,0,0,0,0,0,0,0,0,0,0,0,0,0,0,0,0,0,0,0,0,0,0,0,0,0,0,0,0,0,0,0,0,0,0,0,0,0,0,0,0,0,0,0,0,0,0,0,0,0,0,0,0,0,0,0,0,0,0,0,0,0,0,0,0,0,0,0,0,0,0,0,0,0,0,0,0,0,0,0,0,0,0,0,0,0,0,0,0,0,0,0,0,0,0,0,0,0,0,0,0,0,0,0,0,0,0,0,0,0,0,0,0,0,0,0,0,0,0,0,0,0,0,0,0,0,0,0,0,0,0,0,0,0,0,0,0,0,0,0,0,0,0,0,0,0,0,0,0,0,0,0,0,0,0,0,0,0,0,0,0,0,0,0,0,0,0,0,0,0,0,0,0,0,0,0,0,0,0,0,0,0,0,0,0,0,0,0,0,0,0,0,0,0,0,0,0,0,0,0,0,0,0,0,0,0,0,0,0,0,0,0,0,0,0,0,0,0,0,0,0,0,0,0,0,0,0,0,0,0,0,0,0,0,0,0,0,0,0,0,0,0,0,0,0,0,0,0,0,0,0,0,0,0,0,0,0,0,0,0,0,0,0,0,0,0,0,0,0,0,0,0,0,0,0,0,0,0,0,0,0,0,0,0,0,0,0,0,0,0,0,0,0,0,0,0,0,0,0,0,0,0,0,0,0,0,0,0,0,0,0,0,0,0,0,0,0,0,0,0,0,0,0,0,0,0,0,0,0,0,0,0,0,0,0,0,0,0,0,0,0,0,0,0,0,0,0,0,0,0,0,0,0,0,0,0,0,0,0,0,0,0,0,0,0,0,0,0,0,0,0,0,0,0,0,0,0,0,0,0,0,0,0,0,0,0,0,0,0,0,0,0,0,0,0,0,0,0,0,0,0,0,0,0,0,0,0,0,0,0,0,0,0,0,0,0,0,0,0,0,0,0,0,0,0,0,0,0,0,0,0,0,0,0,0,0,0,0,0,0,0,0,0,0,0,0,0,0,0,0,0,0,0,0,0,0,0,0,0,0,0,0,0,0,0,0,0,0,0,0,0,0,0,0,0,0,0,0,0,0,0,0,0,0,0,0,0,0,0,0,0,0,0,0,0,0,0,0,0,0,0,0,0,0,0,0,0,0,0,0,0,0,0,0,0,0,0,0,0,0,0,0,0,0,0,0,0,0,0,0,0,0,0,0,0,0,0,0,0,0,0,0,0,0,0,0,0,0,0,0,0,0,0,0,0,0,0,0,0,0,0,0,0,0,0,0,0,0,0,0,0,0,0,0,0,0,0,0,0,0,0,0,0,0,0,0,0,0,0,0,0,0,0,0,0,0,0,0,0,0,0,0,0,0,0,0,0,0,0,0,0,0,0,0,0,0,0,0,0,0,0,0,0,0,0,0,0,0,0,0,0,0,0,0,0,0,0,0,0,0,0,0,0,0,0,0,0,0,0,0,0,0,0,0,0,0,0,0,0,0,0,0,0,0,0,0,0,0,0,0,0,0,0,0,0,0,0,0,0,0,0,0,0,0,0,0,0,0,0,0,0,0,0,0,0,0,0,0,0,0,0,0,0,0,0,0,0,0,0,0,0,0,0,0,0,0,0,0,0,0,0,0,0,0,0,0,0,0,0,0,0,0,0,0,0,0,0,0,0,0,0,0,0,0,0,0,0,0,0,0,0,0,0,0,0,0,0,0,0,0,0,0,0,0,0,0,0,0,0,0,0,0,0,0,0,0,0,0,0,0,0,0,0,0,0,0,0,0,0,0,0,0,0,0,0,0,0,0,0,0,0,0,0,0,0,0,0,0,0,0,0,0,0,0,0,0,0,0,0,0,0,0,0,0,0,0,0,0,0,0,0,0,0,0,0,0,0,0,0,0,0,0,0,0,0,0,0,0,0,0,0,0,0,0,0,0,0,0,0,0,0,0,0,0,0,0,0,0,0,0,0,0,0,0,0,0,0,0,0,0,0,0,0,0,0,0,0,0,0,0,0,0,0,0,0,0,0,0,0,0,0,0,0,0,0,0,0,0,0,0,0,0,0,0,0,0,0,0,0,0,0,0,0,0,0,0,0,0,0,0,0,0,0,0,0,0,0,0,0,0,0,0,0,0,0,0,0,0,0,0,0,0,0,0,0,0,0,0,0,0,0,0,0,0,0,0,0,0,0,0,0,0,0,0,0,0,0,0,0,0,0,0,0,0,0,0,0,0,0,0,0,0,0,0,0,0,0,0,0,0,0,0,0,0,0,0,0,0,0,0,0,0,0,0,0,0,0,0,0,0,0,0,0,0,0,0,0,0,0,0,0,0,0,0,0,0,0,0,0,0,0,0,0,0,0,0,0,0,0,0,0,0,0,0,0,0,0,0,0,0,0,0,0,0,0,0,0,0,0,0,0,0,0,0,0,0,0,0,0,0,0,0,0,0,0,0,0,0,0,0,0,0,0,0,0,0,0,0,0,0,0,0,0,0,0,0,0,0,0,0,0,0,0,0,0,0,0,0,0,0,0,0,0,0,0,0,0,0,0,0,0,0,0,0,0,0,0,0,0,0,0,0,0,0,0,0,0,0,0,0,0,0,0,0,0,0,0,0,0,0,0,0,0,0,0,0,0,0,0,0,0,0,0,0,0,0,0,0,0,0,0,0,0,0,0,0,0,0,0,0,0,0,0,0,0,0,0,0,0,0,0,0,0,0,0,0,0,0,0,0,0,0,0,0,0,0,0,0,0,0,0,0,0,0,0,0,0,0,0,0,0,0,0,0,0,0,0,0,0,0,0,0,0,0,0,0,0,0,0,0,0,0,0,0,0,0,0,0,0,0,0,0,0,0,0,0,0,0,0,0,0,0,0,0,0,0,0,0,0,0,0,0,0,0,0,0,0,0,0,0,0,0,0,0,0,0,0,0,0,0,0,0,0,0,0,0,0,0,0,0,0,0,0,0,0,0,0,0,0,0,0,0,0,0,0,0,0,0,0,0,0,0,0,0,0,0,0,0,0,0,0,0,0,0,0,0,0,0,0,0,0,0,0,0,0,0,0,0,0,0,0,0,0,0,0,0,0,0,0,0,0,0,0,0,0,0,0,0,0,0,0,0,0,0,0,0,0,0,0,0,0,0,0,0,0,0,0,0,0,0,0,0,0,0,0,0,0,0,0,0,0,0,0,0,0,0,0,0,0,0,0,0,0,0,0,0,0,0,0,0,0,0,0,0,0,0,0,0,0,0,0,0,0,0,0,0,0,0,0,0,0,0,0,0,0,0,0,0,0,0,0,0,0,0,0,0,0,0,0,0,0,0,0,0,0,0,0,0,0,0,0,0,0,0,0,0,0,0,0,0,0,0,0,0,0,0,0,0,0,0,0,0,0,0,0,0,0,0,0,0,0,0,0,0,0,0,0,0,0,0,0,0,0,0,0,0,0,0,0,0,0,0,0,0,0,0,0,0,0,0,0,0,0,0,0,0,0,0,0,0,0,0,0,0,0,0,0,0,0,0,0,0,0,0,0,0,0,0,0,0,0,0,0,0,0,0,0,0,0,0,0,0,0,0,0,0,0,0,0,0,0,0,0,0,0,0,0,0,0,0,0,0,0,0,0,0,0,0,0,0,0,0,0,0,0,0,0,0,0,0,0,0,0,0,0,0,0,0,0,0,0,0,0,0,0,0,0,0,0,0,0,0,0,0,0,0,0,0,0,0,0,0,0,0,0,0,0,0,0,0,0,0,0,0,0,0,0,0,0,0,0,0,0,0,0,0,0,0,0,0,0,0,0,0,0,0,0,0,0,0,0,0,0,0,0,0,0,0,0,0,0,0,0,0,0,0,0,0,0,0,0,0,0,0,0,0,0,0,0,0,0,0,0,0,0,0,0,0,0,0,0,0,0,0,0,0,0,0,0,0,0,0,0,0,0,0,0,0,0,0,0,0,0,0,0,0,0,0,0,0,0,0,0,0,0,0,0,0,0,0,0,0,0,0,0,0,0,0,0,0,0,0,0,0,0,0,0,0,0,0,0,0,0,0,0,0,0,0,0,0,0,0,0,0,0,0,0,0,0,0,0,0,0,0,0,0,0,0,0,0,0,0,0,0,0,0,0,0,0,0,0,0,0,0,0,0,0,0,0,0,0,0,0,0,0,0,0,0,0,0,0,0,0,0,0,0,0,0,0,0,0,0,0,0,0,0,0,0,0,0,0,0,0,0,0,0,0,0,0,0,0,0,0,0,0,0,0,0,0,0,0,0,0,0,0,0,0,0,0,0,0,0,0,0,0,0,0,0,0,0,0,0,0,0,0,0,0,0,0,0,0,0,0,0,0,0,0,0,0,0,0,0,0,0,0,0,0,0,0,0,0,0,0,0,0,0,0,0,0,0,0,0,0,0,0,0,0,0,0,0,0,0,0,0,0,0,0,0,0,0,0,0,0,0,0,0,0,0,0,0,0,0,0,0,0,0,0,0,0,0,0,0,0,0,0,0,0,0,0,0,0,0,0,0,0,0,0,0,0,0,0,0,0,0,0,0,0,0,0,0,0,0,0,0,0,0,0,0,0,0,0,0,0,0,0,0,0,0,0,0,0,0,0,0,0,0,0,0,0,0,0,0,0,0,0,0,0,0,0,0,0,0,0,0,0,0,0,0,0,0,0,0,0,0,0,0,0,0,0,0,0,0,0,0,0,0,0,0,0,0,0,0,0,0,0,0,0,0,0,0,0,0,0,0,0,0,0,0,0,0,0,0,0,0,0,0,0,0,0,0,0,0,0,0,0,0,0,0,0,0,0,0,0,0,0,0,0,0,0,0,0,0,0,0,0,0,0,0,0,0,0,0,0,0,0,0,0,0,0,0,0,0,0,0,0,0,0,0,0,0,0,0,0,0,0,0,0,0,0,0,0,0,0,0,0,0,0,0,0,0,0,0,0,0,0,0,0,0,0,0,0,0,0,0,0,0,0,0,0,0,0,0,0,0,0,0,0,0,0,0,0,0,0,0,0,0,0,0,0,0,0,0,0,0,0,0,0,0,0,0,0,0,0,0,0,0,0,0,0,0,0,0,0,0,0,0,0,0,0,0,0,0,0,0,0,0,0,0,0,0,0,0,0,0,0,0,0,0,0,0,0,0,0,0,0,0,0,0,0,0,0,0,0,0,0,0,0,0,0,0,0,0,0,0,0,0,0,0,0,0,0,0,0,0,0,0,0,0,0,0,0,0,0,0,0,0,0,0,0,0,0,0,0,0,0,0,0,0,0,0,0,0,0,0,0,0,0,0,0,0,0,0,0,0,0,0,0,0,0,0,0,0,0,0,0,0,0,0,0,0,0,0,0,0,0,0,0,0,0,0,0,0,0,0,0,0,0,0,0,0,0,0,0,0,0,0,0,0,0,0,0,0,0,0,0,0,0,0,0,0,0,0,0,0,0,0,0,0,0,0,0,0,0,0,0,0,0,0,0,0,0,0,0,0,0,0,0,0,0,0,0,0,0,0,0,0,0,0,0,0,0,0,0,0,0,0,0,0,0,0,0,0,0,0,0,0,0,0,0,0,0,0,0,0,0,0,0,0,0,0,0,0,0,0,0,0,0,0,0,0,0,0,0,0,0,0,0,0,0,0,0,0,0,0,0,0,0,0,0,0,0,0,0,0,0,0,0,0,0,0,0,0,0,0,0,0,0,0,0,0,0,0,0,0,0,0,0,0,0,0,0,0,0,0,0,0,0,0,0,0,0,0,0,0,0,0,0,0,0,0,0,0,0,0,0,0,0,0,0,0,0,0,0,0,0,0,0,0,0,0,0,0,0,0,0,0,0,0,0,0,0,0,0,0,0,0,0,0,0,0,0,0,0,0,0,0,0,0,0,0,0,0,0,0,0,0,0,0,0,0,0,0,0,0,0,0,0,0,0,0,0,0,0,0,0,0,0,0,0,0,0,0,0,0,0,0,0,0,0,0,0,0,0,0,0,0,0,0,0,0,0,0,0,0,0,0,0,0,0,0,0,0,0,0,0,0,0,0,0,0,0,0,0,0,0,0,0,0,0,0,0,0,0,0,0,0,0,0,0,0,0,0,0,0,0,0,0,0,0,0,0,0,0,0,0,0,0,0,0,0,0,0,0,0,0,0,0,0,0,0,0,0,0,0,0,0,0,0,0,0,0,0,0,0,0,0,0,0,0,0,0,0,0,0,0,0,0,0,0,0,0,0,0,0,0,0,0,0,0,0,0,0,0,0,0,0,0,0,0,0,0,0,0,0,0,0,0,0,0,0,0,0,0,0,0,0,0,0,0,0,0,0,0,0,0,0,0,0,0,0,0,0,0,0,0,0,0,0,0,0,0,0,0,0,0,0,0,0,0,0,0,0,0,0,0,0,0,0,0,0,0,0,0,0,0,0,0,0,0,0,0,0,0,0,0,0,0,0,0,0,0,0,0,0,0,0,0,0,0,0,0,0,0,0,0,0,0,0,0,0,0,0,0,0,0,0,0,0,0,0,0,0,0,0,0,0,0,0,0,0,0,0,0,0,0,0,0,0,0,0,0,0,0,0,0,0,0,0,0,0,0,0,0,0,0,0,0,0,0,0,0,0,0,0,0,0,0,0,0,0,0,0,0,0,0,0,0,0,0,0,0,0,0,0,0,0,0,0,0,0,0,0,0,0,0,0,0,0,0,0,0,0,0,0,0,0,0,0,0,0,0,0,0,0,0,0,0,0,0,0,0,0,0,0,0,0,0,0,0,0,0,0,0,0,0,0,0,0,0,0,0,0,0,0,0,0,0,0,0,0,0,0,0,0,0,0,0,0,0,0,0,0,0,0,0,0,0,0,0,0,0,0,0,0,0,0,0,0,0,0,0,0,0,0,0,0,0,0,0,0,0,0,0,0,0,0,0,0,0,0,0,0,0,0,0,0,0,0,0,0,0,0,0,0,0,0,0,0,0,0,0,0,0,0,0,0,0,0,0,0,0,0,0,0,0,0,0,0,0,0,0,0,0,0,0,0,0,0,0,0,0,0,0,0,0,0,0,0,0,0,0,0,0,0,0,0,0,0,0,0,0,0,0,0,0,0,0,0,0,0,0,0,0,0,0,0,0,0,0,0,0,0,0,0,0,0,0,0,0,0,0,0,0,0,0,0,0,0,0,0,0,0,0,0,0,0,0,0,0,0,0,0,0,0,0,0,0,0,0,0,0,0,0,0,0,0,0,0,0,0,0,0,0,0,0,0,0,0,0,0,0,0,0,0,0,0,0,0,0,0,0,0,0,0,0,0,0,0,0,0,0,0,0,0,0,0,0,0,0,0,0,0,0,0,0,0,0,0,0,0,0,0,0,0,0,0,0,0,0,0,0,0,0,0,0,0,0,0,0,0,0,0,0,0,0,0,0,0,0,0,0,0,0,0,0,0,0,0,0,0,0,0,0,0,0,0,0,0,0,0,0,0,0,0,0,0,0,0,0,0,0,0,0,0,0,0,0,0,0,0,0,0,0,0,0,0,0,0,0,0,0,0,0,0,0,0,0,0,0,0,0,0,0,0,0,0,0,0,0,0,0,0,0,0,0,0,0,0,0,0,0,0,0,0,0,0,0,0,0,0,0,0,0,0,0,0,0,0,0,0,0,0,0,0,0,0,0,0,0,0,0,0,0,0,0,0,0,0,0,0,0,0,0,0,0,0,0,0,0,0,0,0,0,0,0,0,0,0,0,0,0,0,0,0,0,0,0,0,0,0,0,0,0,0,0,0,0,0,0,0,0,0,0,0,0,0,0,0,0,0,0,0,0,0,0,0,0,0,0,0,0,0,0,0,0,0,0,0,0,0,0,0,0,0,0,0,0,0,0,0,0,0,0,0,0,0,0,0,0,0,0,0,0,0,0,0,0,0,0,0,0,0,0,0,0,0,0,0,0,0,0,0,0,0,0,0,0,0,0,0,0,0,0,0,0,0,0,0,0,0,0,0,0,0,0,0,0,0,0,0,0,0,0,0,0,0,0,0,0,0,0,0,0,0,0,0,0,0,0,0,0,0,0,0,0,0,0,0,0,0,0,0,0,0,0,0,0,0,0,0,0,0,0,0,0,0,0,0,0,0,0,0,0,0,0,0,0,0,0,0,0,0,0,0,0,0,0,0,0,0,0,0,0,0,0,0,0,0,0,0,0,0,0,0,0,0,0,0,0,0,0,0,0,0,0,0,0,0,0,0,0,0,0,0,0,0,0,0,0,0,0,0,0,0,0,0,0,0,0,0,0,0,0,0,0,0,0,0,0,0,0,0,0,0,0,0,0,0,0,0,0,0,0,0,0,0,0,0,0,0,0,0,0,0,0,0,0,0,0,0,0,0,0,0,0,0,0,0,0,0,0,0,0,0,0,0,0,0,0,0,0,0,0,0,0,0,0,0,0,0,0,0,0,0,0,0,0,0,0,0,0,0,0,0,0,0,0,0,0,0,0,0,0,0,0,0,0,0,0,0,0,0,0,0,0,0,0,0,0,0,0,0,0,0,0,0,0,0,0,0,0,0,0,0,0,0,0,0,0,0,0,0,0,0,0,0,0,0,0,0,0,0,0,0,0,0,0,0,0,0,0,0,0,0,0,0,0,0,0,0,0,0,0,0,0,0,0,0,0,0,0,0,0,0,0,0,0,0,0,0,0,0,0,0,0,0,0,0,0,0,0,0,0,0,0,0,0,0,0,0,0,0,0,0,0,0,0,0,0,0,0,0,0,0,0,0,0,0,0,0,0,0,0,0,0,0,0,0,0,0,0,0,0,0,0,0,0,0,0,0,0,0,0,0,0,0,0,0,0,0,0,0,0,0,0,0,0,0,0,0,0,0,0,0,0,0,0,0,0,0,0,0,0,0,0,0,0,0,0,0,0,0,0,0,0,0,0,0,0,0,0,0,0,0,0,0,0,0,0,0,0,0,0,0,0,0,0,0,0,0,0,0,0,0,0,0,0,0,0,0,0,0,0,0,0,0,0,0,0,0,0,0,0,0,0,0,0,0,0,0,0,0,0,0,0,0,0,0,0,0,0,0,0,0,0,0,0,0,0,0,0,0,0,0,0,0,0,0,0,0,0,0,0,0,0,0,0,0,0,0,0,0,0,0,0,0,0,0,0,0,0,0,0,0,0,0,0,0,0,0,0,0,0,0,0,0,0,0,0,0,0,0,0,0,0,0,0,0,0,0,0,0,0,0,0,0,0,0,0,0,0,0,0,0,0,0,0,0,0,0,0,0,0,0,0,0,0,0,0,0,0,0,0,0,0,0,0,0,0,0,0,0,0,0,0,0,0,0,0,0,0,0,0,0,0,0,0,0,0,0,0,0,0,0,0,0,0,0,0,0,0,0,0,0,0,0,0,0,0,0,0,0,0,0,0,0,0,0,0,0,0,0,0,0,0,0,0,0,0,0,0,0,0,0,0,0,0,0,0,0,0,0,0,0,0,0,0,0,0,0,0,0,0,0,0,0,0,0,0,0,0,0,0,0,0,0,0,0,0,0,0,0,0,0,0,0,0,0,0,0,0,0,0,0,0,0,0,0,0,0,0,0,0,0,0,0,0,0,0,0,0,0,0,0,0,0,0,0,0,0,0,0,0,0,0,0,0,0,0,0,0,0,0,0,0,0,0,0,0,0,0,0,0,0,0,0,0,0,0,0,0,0,0,0,0,0,0,0,0,0,0,0,0,0,0,0,0,0,0,0,0,0,0,0,0,0,0,0,0,0,0,0,0,0,0,0,0,0,0,0,0,0,0,0,0,0,0,0,0,0,0,0,0,0,0,0,0,0,0,0,0,0,0,0,0,0,0,0,0,0,0,0,0,0,0,0,0,0,0,0,0,0,0,0,0,0,0,0,0,0,0,0,0,0,0,0,0,0,0,0,0,0,0,0,0,0,0,0,0,0,0,0,0,0,0,0,0,0,0,0,0,0,0,0,0,0,0,0,0,0,0,0,0,0,0,0,0,0,0,0,0,0,0,0,0,0,0,0,0,0,0,0,0,0,0,0,0,0,0,0,0,0,0,0,0,0,0,0,0,0,0,0,0,0,0,0,0,0,0,0,0,0,0,0,0,0,0,0,0,0,0,0,0,0,0,0,0,0,0,0,0,0,0,0,0,0,0,0,0,0,0,0,0,0,0,0,0,0,0,0,0,0,0,0,0,0,0,0,0,0,0,0,0,0,0,0,0,0,0,0,0,0,0,0,0,0,0,0,0,0,0,0,0,0,0,0,0,0,0,0,0,0,0,0,0,0,0,0,0,0,0,0,0,0,0,0,0,0,0,0,0,0,0,0,0,0,0,0,0,0,0,0,0,0,0,0,0,0,0,0,0,0,0,0,0,0,0,0,0,0,0,0,0,0,0,0,0,0,0,0,0,0,0,0,0,0,0,0,0,0,0,0,0,0,0,0,0,0,0,0,0,0,0,0,0,0,0,0,0,0,0,0,0,0,0,0,0,0,0,0,0,0,0,0,0,0,0,0,0,0,0,0,0,0,0,0,0,0,0,0,0,0,0,0,0,0,0,0,0,0,0,0,0,0,0,0,0,0,0,0,0,0,0,0,0,0,0,0,0,0,0,0,0,0,0,0,0,0,0,0,0,0,0,0,0,0,0,0,0,0,0,0,0,0,0,0,0,0,0,0,0,0,0,0,0,0,0,0,0,0,0,0,0,0,0,0,0,0,0,0,0,0,0,0,0,0,0,0,0,0,0,0,0,0,0,0,0,0,0,0,0,0,0,0,0,0,0,0,0,0,0,0,0,0,0,0,0,0,0,0,0,0,0,0,0,0,0,0,0,0,0,0,0,0,0,0,0,0,0,0,0,0,0,0,0,0,0,0,0,0,0,0,0,0,0,0,0,0,0,0,0,0,0,0,0,0,0,0,0,0,0,0,0,0,0,0,0,0,0,0,0,0,0,0,0,0,0,0,0,0,0,0,0,0,0,0,0,0,0,0,0,0,0,0,0,0,0,0,0,0,0,0,0,0,0,0,0,0,0,0,0,0,0,0,0,0,0,0,0,0,0,0,0,0,0,0,0,0,0,0,0,0,0,0,0,0,0,0,0,0,0,0,0,0,0,0,0,0,0,0,0,0,0,0,0,0,0,0,0,0,0,0,0,0,0,0,0,0,0,0,0,0,0,0,0,0,0,0,0,0,0,0,0,0,0,0,0,0,0,0,0,0,0,0,0,0,0,0,0,0,0,0,0,0,0,0,0,0,0,0,0,0,0,0,0,0,0,0,0,0,0,0,0,0,0,0,0,0,0,0,0,0,0,0,0,0,0,0,0,0,0,0,0,0,0,0,0,0,0,0,0,0,0,0,0,0,0,0,0,0,0,0,0,0,0,0,0,0,0,0,0,0,0,0,0,0,0,0,0,0,0,0,0,0,0,0,0,0,0,0,0,0,0,0,0,0,0,0,0,0,0,0,0,0,0,0,0,0,0,0,0,0,0,0,0,0,0,0,0,0,0,0,0,0,0,0,0,0,0,0,0,0,0,0,0,0,0,0,0,0,0,0,0,0,0,0,0,0,0,0,0,0,0,0,0,0,0,0,0,0,0,0,0,0,0,0,0,0,0,0,0,0,0,0,0,0,0,0,0,0,0,0,0,0,0,0,0,0,0,0,0,0,0,0,0,0,0,0,0,0,0,0,0,0,0,0,0,0,0,0,0,0,0,0,0,0,0,0,0,0,0,0,0,0,0,0,0,0,0,0,0,0,0,0,0,0,0,0,0,0,0,0,0,0,0,0,0,0,0,0,0,0,0,0,0,0,0,0,0]
[null,null,null,null,"データなし",null,null,null,0,null,null,null,null,0,null,0,null,null,0,null,null,null,0,null,null,null,{"$error":"#REF!"},null,null,0,null,null,null,"0",null,null,0,null,null,null,"0",null,null,0,null,null,null,"0",null,null,0,null,null,null,"0",null,null,0,null,null,null,"0",null,null,0,null,null,null,"0",null,null,0,null,null,null,"0",null,null,0,null,null,null,"0",null,null,null,{"$f":"IF(E118=\"協会\",\"\",\"〇\")","v":"〇"}]
[null,null,null,null,{"$f":"E19","v":"データなし"},null,null,null,{"$f":"I19","v":0},null,null,null,null,{"$f":"N19","v":0},null,{"$f":"P19","v":0},null,null,{"$f":"S19","v":0},null,null,null,0,null,null,null,{"$error":"#REF!"},null,null,{"$f":"AD19","v":0},null,null,null,{"$f":"AH19","v":"0"},null,null,{"$f":"AK19","v":0},null,null,null,{"$f":"AO19","v":"0"},null,null,{"$f":"AR19","v":0},null,null,null,{"$f":"AV19","v":"0"},null,null,{"$f":"AY19","v":0},null,null,null,{"$f":"BC19","v":"0"},null,null,{"$f":"IF(AY123-(AR123-AY123)>0,AY123-(AR123-AY123),0)","v":0},null,null,null,{"$f":"BJ19","v":"0"},null,null,{"$f":"IF(BF123-(AY123-BF123)>0,BF123-(AY123-BF123),0)","v":0},null,null,null,{"$f":"BQ19","v":"0"},null,null,{"$f":"IF(BM123-(BF123-BM123)>0,BM123-(BF123-BM123),0)","v":0},null,null,null,{"$f":"BX19","v":"0"},null,null,{"$f":"IF(BT123-(BM123-BT123)>0,BT123-(BM123-BT123),0)","v":0},null,null,null,{"$f":"CE19","v":"0"},null,null,null,{"$f":"IF(E123=\"協会\",\"\",\"〇\")","v":"〇"}]
[{"$f":"A76","v":0},null,null,null,{"$f":"E24","v":"データなし"},null,null,null,{"$f":"I24","v":0},null,null,null,null,{"$f":"N24","v":0},null,{"$f":"P24","v":0},null,null,{"$f":"S24","v":0},null,null,null,{"$f":"W76","v":0},null,null,null,{"$f":"AA76","v":{"$error":"#REF!"}},null,null,{"$f":"AD24","v":0},null,null,null,{"$f":"AH24","v":"0"},null,null,{"$f":"AK24","v":0},null,null,null,{"$f":"AO24","v":"0"},null,null,{"$f":"AR24","v":0},null,null,null,{"$f":"AV24","v":"0"},null,null,{"$f":"AY24","v":0},null,null,null,{"$f":"BC24","v":"0"},null,null,{"$f":"IF(AY128-(AR128-AY128)>0,AY128-(AR128-AY128),0)","v":0},null,null,null,{"$f":"BJ24","v":"0"},null,null,{"$f":"IF(BF128-(AY128-BF128)>0,BF128-(AY128-BF128),0)","v":0},null,null,null,{"$f":"BQ24","v":"0"},null,null,{"$f":"IF(BM128-(BF128-BM128)>0,BM128-(BF128-BM128),0)","v":0},null,null,null,{"$f":"BX24","v":"0"},null,null,{"$f":"IF(BT128-(BM128-BT128)>0,BT128-(BM128-BT128),0)","v":0},null,null,null,{"$f":"CE24","v":"0"},null,null,null,{"$f":"IF(E128=\"協会\",\"\",\"〇\")","v":"〇"}]
[null,null,null,null,"データなし",null,null,null,0,null,null,null,null,0,null,0,null,null,0,null,null,null,0,null,null,null,{"$error":"#REF!"},null,null,0,null,null,null,"0",null,null,0,null,null,null,"0",null,null,0,null,null,null,"0",null,null,0,null,null,null,"0",null,null,0,null,null,null,"0",null,null,0,null,null,null,"0",null,null,0,null,null,null,"0",null,null,0,null,null,null,"0",null,null,null,{"$f":"IF(E131=\"協会\",\"\",\"〇\")","v":"〇"}]
[null,null,null,null,{"$f":"E81","v":"小計"},null,null,null,null,null,null,null,null,null,null,null,null,null,{"$f":"SUBTOTAL(9,S128:V132)","v":0},null,null,null,{"$f":"W81","v":0},null,null,null,{"$f":"AA81","v":{"$error":"#REF!"}},null,null,{"$f":"SUBTOTAL(9,AD128:AG132)","v":0},null,null,null,{"$f":"AH81","v":"0"},null,null,{"$f":"SUBTOTAL(9,AK128:AN132)","v":0},null,null,null,{"$f":"AO81","v":"0"},null,null,{"$f":"SUBTOTAL(9,AR128:AU132)","v":0},null,null,null,{"$f":"AV81","v":"0"},null,null,{"$f":"SUBTOTAL(9,AY128:BB132)","v":0},null,null,null,{"$f":"BC81","v":"0"},null,null,{"$f":"SUBTOTAL(9,BF128:BI132)","v":0},null,null,null,{"$f":"BJ81","v":"0"},null,null,{"$f":"SUBTOTAL(9,BM128:BP132)","v":0},null,null,null,{"$f":"BQ81","v":"0"},null,null,{"$f":"SUBTOTAL(9,BT128:BW132)","v":0},null,null,null,{"$f":"BX81","v":"0"},null,null,{"$f":"SUBTOTAL(9,CA128:CD132)","v":0},null,null,null,{"$f":"CE81","v":"0"},null,null,null,{"$f":"IF(S133>0,\"\",\"〇\")","v":"〇"},{"$f":"S133","v":0},{"$f":"AD133","v":0},{"$f":"AK133","v":0},{"$f":"AR133","v":0},{"$f":"AY133","v":0},{"$f":"BF133","v":0},{"$f":"BM133","v":0},{"$f":"BT133","v":0},{"$f":"CA133","v":0}]
[null,null,null,null,"データなし",null,null,null,0,null,null,null,null,0,null,0,null,null,0,null,null,null,0,null,null,null,{"$error":"#REF!"},null,null,0,null,null,null,"0",null,null,0,null,null,null,"0",null,null,0,null,null,null,"0",null,null,0,null,null,null,"0",null,null,0,null,null,null,"0",null,null,0,null,null,null,"0",null,null,0,null,null,null,"0",null,null,0,null,null,null,"0",null,null,null,{"$f":"IF(E138=\"協会\",\"\",\"〇\")","v":"〇"}]
[null,null,null,null,"データなし",null,null,null,0,null,null,null,null,0,null,0,null,null,0,null,null,null,0,null,null,null,{"$error":"#REF!"},null,null,0,null,null,null,"0",null,null,0,null,null,null,"0",null,null,0,null,null,null,"0",null,null,0,null,null,null,"0",null,null,0,null,null,null,"0",null,null,0,null,null,null,"0",null,null,0,null,null,null,"0",null,null,0,null,null,null,"0",null,null,null,"〇"]
[null,null,null,null,"データなし",null,null,null,0,null,null,null,null,0,null,0,null,null,0,null,null,null,0,null,null,null,{"$error":"#REF!"},null,null,0,null,null,null,"0",null,null,0,null,null,null,"0",null,null,0,null,null,null,"0",null,null,0,null,null,null,"0",null,null,0,null,null,null,"0",null,null,0,null,null,null,"0",null,null,0,null,null,null,"0",null,null,0,null,null,null,"0",null,null,null,"〇"]
[null,null,null,null,"データなし",null,null,null,0,null,null,null,null,0,null,0,null,null,0,null,null,null,0,null,null,null,{"$error":"#REF!"},null,null,0,null,null,null,"0",null,null,0,null,null,null,"0",null,null,0,null,null,null,"0",null,null,0,null,null,null,"0",null,null,0,null,null,null,"0",null,null,0,null,null,null,"0",null,null,0,null,null,null,"0",null,null,0,null,null,null,"0",null,null,null,"〇"]
[null,null,null,null,"データなし",null,null,null,0,null,null,null,null,0,null,0,null,null,0,null,null,null,0,null,null,null,{"$error":"#REF!"},null,null,0,null,null,null,"0",null,null,0,null,null,null,"0",null,null,0,null,null,null,"0",null,null,0,null,null,null,"0",null,null,0,null,null,null,"0",null,null,0,null,null,null,"0",null,null,0,null,null,null,"0",null,null,0,null,null,null,"0",null,null,null,"〇"]
[null,null,null,null,{"$f":"E99","v":"小計"},null,null,null,null,null,null,null,null,null,null,null,null,null,{"$f":"SUBTOTAL(9,S146:V150)","v":0},null,null,null,{"$f":"W99","v":0},null,null,null,{"$f":"AA99","v":{"$error":"#REF!"}},null,null,{"$f":"SUBTOTAL(9,AD146:AG150)","v":0},null,null,null,{"$f":"AH99","v":"0"},null,null,{"$f":"SUBTOTAL(9,AK146:AN150)","v":0},null,null,null,{"$f":"AO99","v":"0"},null,null,{"$f":"SUBTOTAL(9,AR146:AU150)","v":0},null,null,null,{"$f":"AV99","v":"0"},null,null,{"$f":"SUBTOTAL(9,AY146:BB150)","v":0},null,null,null,{"$f":"BC99","v":"0"},null,null,{"$f":"SUBTOTAL(9,BF146:BI150)","v":0},null,null,null,{"$f":"BJ99","v":"0"},null,null,{"$f":"SUBTOTAL(9,BM146:BP150)","v":0},null,null,null,{"$f":"BQ99","v":"0"},null,null,{"$f":"SUBTOTAL(9,BT146:BW150)","v":0},null,null,null,{"$f":"BX99","v":"0"},null,null,{"$f":"SUBTOTAL(9,CA146:CD150)","v":0},null,null,null,{"$f":"CE99","v":"0"},null,null,null,{"$f":"IF(S151>0,\"\",\"〇\")","v":"〇"},{"$f":"S151","v":0},{"$f":"AD151","v":0},{"$f":"AK151","v":0},{"$f":"AR151","v":0},{"$f":"AY151","v":0},{"$f":"BF151","v":0},{"$f":"BM151","v":0},{"$f":"BT151","v":0},{"$f":"CA151","v":0}]
["当初借入額合計 / 各期末残高",null,null,null,null,null,null,null,null,null,null,null,null,null,null,null,null,null,{"$f":"SUBTOTAL(9,CJ110:CJ151)","v":30000000},null,null,null,{"$f":"+W110+#REF!+W120","v":{"$error":"#REF!"}},null,null,null,{"$f":"W152/$W$53","v":{"$error":"#REF!"}},null,null,{"$f":"SUBTOTAL(9,CK110:CK151)","v":21000000},null,null,null,{"$f":"IF(AD152=0,\"0\",AD152/$AD$53)","v":1},null,null,{"$f":"SUBTOTAL(9,CL110:CL151)","v":15000000},null,null,null,{"$f":"IF(AK152=0,\"0\",AK152/$AK$53)","v":0.65217391304347827},null,null,{"$f":"SUBTOTAL(9,CM110:CM151)","v":9000000},null,null,null,{"$f":"IF(AR152=0,\"0\",AR152/$AR$53)","v":0.60016004267804746},null,null,{"$f":"SUBTOTAL(9,CN110:CN151)","v":3000000},null,null,null,{"$f":"IF(AY152=0,\"0\",AY152/$AY$53)","v":0.42906178489702518},null,null,{"$f":"SUBTOTAL(9,CO110:CO151)","v":0},null,null,null,{"$f":"IF(BF152=0,\"0\",BF152/$BF$53)","v":"0"},null,null,{"$f":"SUBTOTAL(9,CP110:CP151)","v":0},null,null,null,{"$f":"IF(BM152=0,\"0\",BM152/$BM$53)","v":"0"},null,null,{"$f":"SUBTOTAL(9,CQ110:CQ151)","v":0},null,null,null,{"$f":"IF(BT152=0,\"0\",BT152/$BT$53)","v":"0"},null,null,{"$f":"SUBTOTAL(9,CR110:CR151)","v":0},null,null,null,{"$f":"IF(CA152=0,\"0\",CA152/$CA$53)","v":"0"},null,null,null,{"$f":"IF(S152>0,\"\",\"〇\")","v":""}]
[]
[]
[null,null,null,null,null,null,null,null,null,null,null,null,null,null,null,null,null,null,null,null,null,{"$f":"IF(S53=S105+S152,\"OK\",\"NG\")","v":"OK"},null,null,null,null,null,null,null,null,null,null,{"$f":"IF(AD53=AD105+AD152,\"OK\",\"NG\")","v":"OK"},null,null,null,null,null,null,{"$f":"IF(AK53=AK105+AK152,\"OK\",\"NG\")","v":"OK"},null,null,null,null,null,null,{"$f":"IF(AR53=AR105+AR152,\"OK\",\"NG\")","v":"OK"},null,null,null,null,null,null,{"$f":"IF(AY53=AY105+AY152,\"OK\",\"NG\")","v":"OK"},null,null,null,null,null,null,{"$f":"IF(BF53=BF105+BF152,\"OK\",\"NG\")","v":"OK"},null,null,null,null,null,null,{"$f":"IF(BM53=BM105+BM152,\"OK\",\"NG\")","v":"OK"},null,null,null,null,null,null,{"$f":"IF(BT53=BT105+BT152,\"OK\",\"NG\")","v":"OK"},null,null,null,null,null,null,{"$f":"IF(CA53=CA105+CA152,\"OK\",\"NG\")","v":"OK"}]